PDS_VERSION_ID = PDS3
/* FILE DATA ELEMENTS */
RECORD_TYPE = UNDEFINED
/* POINTERS TO DATA OBJECTS */
^IMAGE = ("HG640_0000_RE4.TIF")
/* IDENTIFICATION DATA ELEMENTS */
DATA_SET_ID = "MEX-M-HRSC-4-REFDR-MAPPROJECT-EXT6-V4.0"
DATA_SET_NAME = "MARS EXPRESS HRSC MAP PROJECTED REFDR EXTENSION6 V4.0"
DETECTOR_ID = MEX_HRSC_RED
EVENT_TYPE = "MARS-REGIONAL-MAPPING-Vo-Im-Fl"
INSTRUMENT_HOST_ID = MEX
INSTRUMENT_HOST_NAME = "MARS EXPRESS"
INSTRUMENT_ID = HRSC
INSTRUMENT_NAME = "HIGH RESOLUTION STEREO CAMERA"
MISSION_NAME = "MARS EXPRESS"
MISSION_PHASE_NAME = ME_Phase_36
PROCESSING_LEVEL_ID = 4
PRODUCT_CREATION_TIME = 2023-01-26T14:39:22.000Z
PRODUCT_ID = "HG640_0000_RE4.TIF"
RELEASE_ID = 0001
REVISION_ID = 0000
/* QUALITY DATA ELEMENTS */
DATA_QUALITY_ID = 1
DATA_QUALITY_DESC = "Data calculated based on original SPICE kernels"
/* TIME DATA ELEMENTS */
SPACECRAFT_CLOCK_START_COUNT = "1/0435616372.08263"
SPACECRAFT_CLOCK_STOP_COUNT = "1/0435616621.49280"
START_TIME = 2017-02-19T20:33:05.354Z
STOP_TIME = 2017-02-19T20:36:09.375Z
/* ORBITAL DATA ELEMENTS */
ASCENDING_NODE_LONGITUDE = 261.37
MAXIMUM_RESOLUTION = 0.0561
FOOTPRINT_POINT_LATITUDE = (-13.0105,-13.0093,-13.0069,-12.9999, -12.9997,-13.012,-12.7742,-12.5363, -12.2976,-12.0589,-11.8207,-11.5827, -11.3451,-11.1045,-10.8656,-10.6303, -10.3871,-10.1477,-9.78874,-9.42849, -9.18822,-8.9466,-8.70864,-8.47556, -8.24035,-7.89058,-7.65734,-7.19159, -6.95638,-6.48985,-6.13879,-5.90424, -5.54676,-5.30754,-5.06563,-4.82225, -4.58011,-4.33739,-4.09487,-3.853, -3.60995,-3.36425,-3.12103,-2.87898, -2.63507,-2.39164,-2.0277,-1.7851, -1.54083,-1.1767,-1.05382,-1.02077, -1.02079,-1.02173,-1.02419,-1.0242, -1.02508,-1.39038,-1.63335,-1.9989, -2.24264,-2.60841,-2.85554,-3.10029, -3.46475,-3.7089,-3.94878,-4.19415, -4.43768,-4.79963,-5.04199,-5.40561, -5.76385,-5.99826,-6.23295,-6.46691, -6.70166,-7.16235,-7.39812,-7.63463, -7.98441,-8.21806,-8.68388,-8.92106, -9.15772,-9.39925,-9.76285,-10.1211, -10.3623,-10.6016,-10.8414,-11.1972, -11.4362,-11.678,-12.0382,-12.3962, -12.6348,-12.8737,-12.9935,-13.0105)
FOOTPRINT_POINT_LONGITUDE = (86.0962,85.8092,85.4749,84.8709, 84.8592,84.8629,84.8633,84.8637,84.8637 ,84.8637,84.8639,84.8642,84.8648, 84.8638,84.8637,84.8655,84.8632,84.8629 ,84.8625,84.8614,84.8606,84.8591, 84.8581,84.857,84.8549,84.8532,84.852, 84.85,84.8478,84.8454,84.8429,84.8409, 84.8352,84.834,84.8321,84.8295,84.8275, 84.8251,84.8229,84.8209,84.8183,84.8143 ,84.8116,84.8094,84.8062,84.8032, 84.7993,84.7966,84.7931,84.7888,84.7866 ,84.7862,85.103,85.6223,85.9812,85.9924 ,85.9961,85.9979,85.9992,86.0009, 86.0022,86.004,86.0046,86.0057,86.0079, 86.0092,86.0114,86.0124,86.0139,86.0168 ,86.0186,86.0212,86.0233,86.0251, 86.0268,86.0287,86.0304,86.0358,86.0374 ,86.0388,86.042,86.044,86.0484,86.0505, 86.0536,86.0557,86.0585,86.0625,86.0647 ,86.0672,86.0696,86.0741,86.0767, 86.0787,86.0822,86.0862,86.0888,86.0913 ,86.0925,86.0962)
ORBIT_NUMBER = 16640
ORBITAL_ECCENTRICITY = 0.579
ORBITAL_INCLINATION = 86.93
ORBITAL_SEMIMAJOR_AXIS = 8862.17
PERIAPSIS_ALTITUDE = 338.24
PERIAPSIS_ARGUMENT_ANGLE = 350.8
PERIAPSIS_TIME = 2017-02-19T20:34:30.000Z
SPACECRAFT_ORIENTATION = (0.0,1.0,0.0)
^MEX_ORIENTATION_DESC = "MEX_ORIENTATION_DESC.TXT"
SPACECRAFT_POINTING_MODE = ACROSSTRACK
^MEX_POINTING_DESC = "MEX_POINTING_DESC.TXT"
RIGHT_ASCENSION = -1e+32
DECLINATION = -1e+32
OFFSET_ANGLE = 0.229
SPACECRAFT_SOLAR_DISTANCE = 2.18669e+08
TARGET_NAME = MARS
/* CAMERA DATA ELEMENTS */
DETECTOR_TEMPERATURE = 18.5744
FOCAL_PLANE_TEMPERATURE = 8.7872
INST_CMPRS_NAME = "DISCRETE COSINE TRANSFORMATION (DCT)"
INST_CMPRS_RATIO = 15.3051
INST_CMPRS_QUALITY = 0
INST_CMPRS_QUANTZ_TBL_ID = 0
INSTRUMENT_TEMPERATURE = 11.4379
LENS_TEMPERATURE = 9.195
MACROPIXEL_SIZE = 4
MISSING_FRAMES = 0
PIXEL_SUBSAMPLING_FLAG = N
SIGNAL_CHAIN_ID = 2
/* RADIOMETRIC DATA ELEMENTS */
BANDWIDTH = 48.0
CENTER_FILTER_WAVELENGTH = 748.0
RADIANCE_OFFSET = 0.505113
RADIANCE_SCALING_FACTOR = 0.00220508
REFLECTANCE_SCALING_FACTOR = 0.000240616
MEX:REFLECTANCE_OFFSET = 0.0551173
/* IMAGE OBJECT DEFINITIONS */
OBJECT = IMAGE
  INTERCHANGE_FORMAT = BINARY
  LINES = 14205
  LINE_SAMPLES = 1516
  SAMPLE_TYPE = UNSIGNED_INTEGER
  SAMPLE_BITS = 8
  BANDS = 1
  BAND_STORAGE_TYPE = BAND_SEQUENTIAL
  MAXIMUM = 255
  MEAN = 107.648
  MINIMUM = 1
  STANDARD_DEVIATION = 27.5703
END_OBJECT = IMAGE
/* MAP OBJECT DEFINITIONS */
OBJECT = IMAGE_MAP_PROJECTION
  ^DATA_SET_MAP_PROJECTION_CATALOG= "DSMAP.CAT"
  A_AXIS_RADIUS = 3396.0
  B_AXIS_RADIUS = 3396.0
  C_AXIS_RADIUS = 3396.0
  CENTER_LATITUDE = 0.0
  CENTER_LONGITUDE = 85.0
  COORDINATE_SYSTEM_NAME = PLANETOGRAPHIC
  COORDINATE_SYSTEM_TYPE = "BODY-FIXED ROTATING"
  EASTERNMOST_LONGITUDE = 86.0962
  FIRST_STANDARD_PARALLEL = "N/A"
  LINE_FIRST_PIXEL = 1
  LINE_LAST_PIXEL = 14205
  LINE_PROJECTION_OFFSET = -1201.875
  MAP_PROJECTION_ROTATION = 0.0
  MAP_PROJECTION_TYPE = SINUSOIDAL
  MAP_RESOLUTION = 1185.42760773333
  MAP_SCALE = 0.05
  MAXIMUM_LATITUDE = -1.02077
  MINIMUM_LATITUDE = -13.012
  POSITIVE_LONGITUDE_DIRECTION = EAST
  REFERENCE_LATITUDE = "N/A"
  REFERENCE_LONGITUDE = "N/A"
  SAMPLE_FIRST_PIXEL = 1
  SAMPLE_LAST_PIXEL = 1516
  SAMPLE_PROJECTION_OFFSET = 260.625
  SECOND_STANDARD_PARALLEL = "N/A"
  WESTERNMOST_LONGITUDE = 84.78619999999999
END_OBJECT = IMAGE_MAP_PROJECTION
END
