PDS_VERSION_ID = PDS3
/* FILE DATA ELEMENTS */
RECORD_TYPE = UNDEFINED
/* POINTERS TO DATA OBJECTS */
^IMAGE = ("HG645_0000_P24.TIF")
/* IDENTIFICATION DATA ELEMENTS */
DATA_SET_ID = "MEX-M-HRSC-4-REFDR-MAPPROJECT-EXT6-V4.0"
DATA_SET_NAME = "MARS EXPRESS HRSC MAP PROJECTED REFDR EXTENSION6 V4.0"
DETECTOR_ID = MEX_HRSC_P2
EVENT_TYPE = "MARS-REGIONAL-STEREO-Vo-Te-Im"
INSTRUMENT_HOST_ID = MEX
INSTRUMENT_HOST_NAME = "MARS EXPRESS"
INSTRUMENT_ID = HRSC
INSTRUMENT_NAME = "HIGH RESOLUTION STEREO CAMERA"
MISSION_NAME = "MARS EXPRESS"
MISSION_PHASE_NAME = ME_Phase_36
PROCESSING_LEVEL_ID = 4
PRODUCT_CREATION_TIME = 2023-01-26T14:39:22.000Z
PRODUCT_ID = "HG645_0000_P24.TIF"
RELEASE_ID = 0001
REVISION_ID = 0000
/* QUALITY DATA ELEMENTS */
DATA_QUALITY_ID = 1
DATA_QUALITY_DESC = "Data calculated based on original SPICE kernels"
/* TIME DATA ELEMENTS */
SPACECRAFT_CLOCK_START_COUNT = "1/0435742096.08250"
SPACECRAFT_CLOCK_STOP_COUNT = "1/0435742344.00038"
START_TIME = 2017-02-21T07:28:37.851Z
STOP_TIME = 2017-02-21T07:31:38.175Z
/* ORBITAL DATA ELEMENTS */
ASCENDING_NODE_LONGITUDE = 261.28
MAXIMUM_RESOLUTION = 0.0284
FOOTPRINT_POINT_LATITUDE = (-26.4139,-26.4092,-26.4039,-26.3979, -26.3912,-26.3838,-26.3724,-26.3718, -26.3684,-26.005,-25.7671,-25.5291, -25.2908,-25.052,-24.8131,-24.5744, -24.3345,-24.0944,-23.854,-23.4929, -23.252,-22.8899,-22.6482,-22.4061, -22.0424,-21.6785,-21.4355,-21.1923, -20.9486,-20.7047,-20.4606,-20.2158, -19.8648,-19.4533,-19.1437,-18.629, -18.3193,-17.9055,-17.4909,-17.2832, -16.9717,-16.7637,-16.5556,-16.3477, -16.139,-15.9303,-15.7213,-15.4074, -15.198,-15.0933,-15.0925,-15.1014, -15.1118,-15.1197,-15.1199,-15.1204, -15.4347,-15.6442,-15.8535,-16.0626, -16.2715,-16.4801,-16.6885,-17.0008, -17.2086,-17.4163,-17.6239,-18.0384, -18.3489,-18.7626,-19.0725,-19.4837, -19.7902,-20.0032,-20.2481,-20.6153, -20.8591,-21.1033,-21.3473,-21.591, -21.8343,-22.0772,-22.32,-22.5624, -22.9257,-23.1674,-23.4089,-23.6503, -23.8916,-24.2519,-24.4921,-24.7318, -24.9713,-25.2104,-25.4492,-25.6878, -26.0454,-26.2875,-26.4093,-26.4139)
FOOTPRINT_POINT_LONGITUDE = (294.356,294.111,293.865,293.618, 293.369,293.119,292.772,292.757,292.749 ,292.761,292.768,292.775,292.782, 292.788,292.795,292.802,292.808,292.814 ,292.82,292.829,292.835,292.843,292.849 ,292.854,292.862,292.869,292.874, 292.879,292.884,292.889,292.893,292.897 ,292.903,292.909,292.913,292.922, 292.926,292.931,292.936,292.938,292.942 ,292.944,292.946,292.948,292.95,292.952 ,292.953,292.955,292.956,292.957, 292.957,293.304,293.781,294.203,294.215 ,294.219,294.222,294.224,294.226, 294.229,294.231,294.233,294.235,294.238 ,294.241,294.243,294.245,294.25,294.253 ,294.258,294.261,294.266,294.27,294.272 ,294.275,294.28,294.283,294.286,294.289 ,294.292,294.295,294.298,294.301, 294.304,294.309,294.312,294.315,294.318 ,294.321,294.326,294.33,294.333,294.336 ,294.339,294.343,294.346,294.351, 294.355,294.356,294.356)
ORBIT_NUMBER = 16645
ORBITAL_ECCENTRICITY = 0.578
ORBITAL_INCLINATION = 86.92
ORBITAL_SEMIMAJOR_AXIS = 8858.56
PERIAPSIS_ALTITUDE = 338.45
PERIAPSIS_ARGUMENT_ANGLE = 349.98
PERIAPSIS_TIME = 2017-02-21T07:33:18.000Z
SPACECRAFT_ORIENTATION = (0.0,1.0,0.0)
^MEX_ORIENTATION_DESC = "MEX_ORIENTATION_DESC.TXT"
SPACECRAFT_POINTING_MODE = ACROSSTRACK
^MEX_POINTING_DESC = "MEX_POINTING_DESC.TXT"
RIGHT_ASCENSION = -1e+32
DECLINATION = -1e+32
OFFSET_ANGLE = 0.539
SPACECRAFT_SOLAR_DISTANCE = 2.18936e+08
TARGET_NAME = MARS
/* CAMERA DATA ELEMENTS */
DETECTOR_TEMPERATURE = 18.5744
FOCAL_PLANE_TEMPERATURE = 8.3794
INST_CMPRS_NAME = "DISCRETE COSINE TRANSFORMATION (DCT)"
INST_CMPRS_RATIO = 6.44406
INST_CMPRS_QUALITY = 0
INST_CMPRS_QUANTZ_TBL_ID = 0
INSTRUMENT_TEMPERATURE = 11.234
LENS_TEMPERATURE = 8.7872
MACROPIXEL_SIZE = 2
MISSING_FRAMES = 0
PIXEL_SUBSAMPLING_FLAG = N
SIGNAL_CHAIN_ID = 3
/* RADIOMETRIC DATA ELEMENTS */
BANDWIDTH = 177.0
CENTER_FILTER_WAVELENGTH = 676.5
RADIANCE_OFFSET = 2.19862
RADIANCE_SCALING_FACTOR = 0.0111503
REFLECTANCE_SCALING_FACTOR = 0.000283386
MEX:REFLECTANCE_OFFSET = 0.0558781
/* IMAGE OBJECT DEFINITIONS */
OBJECT = IMAGE
  INTERCHANGE_FORMAT = BINARY
  LINES = 26796
  LINE_SAMPLES = 3303
  SAMPLE_TYPE = UNSIGNED_INTEGER
  SAMPLE_BITS = 8
  BANDS = 1
  BAND_STORAGE_TYPE = BAND_SEQUENTIAL
  MAXIMUM = 255
  MEAN = 118.459
  MINIMUM = 1
  STANDARD_DEVIATION = 27.2669
END_OBJECT = IMAGE
/* MAP OBJECT DEFINITIONS */
OBJECT = IMAGE_MAP_PROJECTION
  ^DATA_SET_MAP_PROJECTION_CATALOG= "DSMAP.CAT"
  A_AXIS_RADIUS = 3396.0
  B_AXIS_RADIUS = 3396.0
  C_AXIS_RADIUS = 3396.0
  CENTER_LATITUDE = 0.0
  CENTER_LONGITUDE = 294.0
  COORDINATE_SYSTEM_NAME = PLANETOGRAPHIC
  COORDINATE_SYSTEM_TYPE = "BODY-FIXED ROTATING"
  EASTERNMOST_LONGITUDE = 294.356
  FIRST_STANDARD_PARALLEL = "N/A"
  LINE_FIRST_PIXEL = 1
  LINE_LAST_PIXEL = 26796
  LINE_PROJECTION_OFFSET = -35743.25
  MAP_PROJECTION_ROTATION = 0.0
  MAP_PROJECTION_TYPE = SINUSOIDAL
  MAP_RESOLUTION = 2370.85521546667
  MAP_SCALE = 0.025
  MAXIMUM_LATITUDE = -15.0925
  MINIMUM_LATITUDE = -26.4139
  POSITIVE_LONGITUDE_DIRECTION = EAST
  REFERENCE_LATITUDE = "N/A"
  REFERENCE_LONGITUDE = "N/A"
  SAMPLE_FIRST_PIXEL = 1
  SAMPLE_LAST_PIXEL = 3303
  SAMPLE_PROJECTION_OFFSET = 2596.75
  SECOND_STANDARD_PARALLEL = "N/A"
  WESTERNMOST_LONGITUDE = 292.749
END_OBJECT = IMAGE_MAP_PROJECTION
END
