PDS_VERSION_ID = PDS3
/* FILE DATA ELEMENTS */
RECORD_TYPE = UNDEFINED
/* POINTERS TO DATA OBJECTS */
^IMAGE = ("HG647_0000_S14.TIF")
/* IDENTIFICATION DATA ELEMENTS */
DATA_SET_ID = "MEX-M-HRSC-4-REFDR-MAPPROJECT-EXT6-V4.0"
DATA_SET_NAME = "MARS EXPRESS HRSC MAP PROJECTED REFDR EXTENSION6 V4.0"
DETECTOR_ID = MEX_HRSC_S1
EVENT_TYPE = "MARS-REGIONAL-MAPPING-Vo-Im-Fl"
INSTRUMENT_HOST_ID = MEX
INSTRUMENT_HOST_NAME = "MARS EXPRESS"
INSTRUMENT_ID = HRSC
INSTRUMENT_NAME = "HIGH RESOLUTION STEREO CAMERA"
MISSION_NAME = "MARS EXPRESS"
MISSION_PHASE_NAME = ME_Phase_36
PROCESSING_LEVEL_ID = 4
PRODUCT_CREATION_TIME = 2023-01-26T14:39:22.000Z
PRODUCT_ID = "HG647_0000_S14.TIF"
RELEASE_ID = 0001
REVISION_ID = 0000
/* QUALITY DATA ELEMENTS */
DATA_QUALITY_ID = 1
DATA_QUALITY_DESC = "Data calculated based on original SPICE kernels"
/* TIME DATA ELEMENTS */
SPACECRAFT_CLOCK_START_COUNT = "1/0435792862.09033"
SPACECRAFT_CLOCK_STOP_COUNT = "1/0435793039.64599"
START_TIME = 2017-02-21T21:35:33.959Z
STOP_TIME = 2017-02-21T21:37:25.838Z
/* ORBITAL DATA ELEMENTS */
ASCENDING_NODE_LONGITUDE = 261.24
MAXIMUM_RESOLUTION = 0.0308
FOOTPRINT_POINT_LATITUDE = (-1.27367,-1.27367,-1.27373,-1.27396, -1.27443,-1.27509,-1.27606,-1.27701, -1.27708,-1.26889,-0.971506,-0.667415, -0.420601,-0.24222,-0.00208082,0.254745 ,0.396783,0.539503,0.683298,0.827815, 1.04756,1.19415,1.41354,1.61706,1.75371 ,1.96704,2.11015,2.2584,2.40427,2.5458, 2.67522,2.81211,2.95274,3.09352,3.23236 ,3.37408,3.51576,3.72567,3.86647, 4.00694,4.14735,4.28785,4.49838,4.63869 ,4.77878,4.91873,5.05849,5.19815, 5.33766,5.47698,5.54658,5.56263,5.56465 ,5.56634,5.56711,5.5676,5.56795,5.56788 ,5.56786,5.56737,5.42799,5.28851,5.1489 ,5.00923,4.79943,4.6595,4.51963,4.37941 ,4.23914,4.02858,3.88816,3.6782,3.53804 ,3.32802,3.11803,2.97652,2.83535, 2.62386,2.48321,2.34082,2.12778,1.98578 ,1.84457,1.70204,1.48885,1.27622, 1.06521,0.925228,0.78275,0.638561, 0.494274,0.351077,0.207148,0.0794405, -0.222239,-0.584126,-0.828432,-1.19299, -1.25414,-1.27367)
FOOTPRINT_POINT_LONGITUDE = (90.1949,90.0464,89.9104,89.7129, 89.5155,89.3187,89.1096,88.9374,88.9251 ,88.9231,88.9161,88.9108,88.9075, 88.9034,88.8984,88.8931,88.8899,88.8868 ,88.884,88.8814,88.8782,88.8761,88.8729 ,88.8658,88.8613,88.8566,88.8537, 88.8521,88.8499,88.8467,88.8404,88.836, 88.8326,88.8292,88.8254,88.8222,88.8191 ,88.8138,88.8104,88.8071,88.8037, 88.8003,88.7952,88.7919,88.7885,88.785, 88.7816,88.7781,88.7746,88.771,88.7693, 88.7688,89.0346,89.3571,89.5676,89.6942 ,89.8629,90.2009,90.215,90.2201,90.2193 ,90.2185,90.2177,90.2169,90.2157, 90.2149,90.2141,90.2134,90.2126,90.2115 ,90.2108,90.2094,90.2085,90.2069, 90.2054,90.2048,90.2042,90.203,90.2021, 90.2018,90.201,90.2005,90.1996,90.1993, 90.1984,90.1973,90.1955,90.1941,90.1935 ,90.1935,90.1936,90.1932,90.1931, 90.1927,90.1924,90.1918,90.1925,90.1927 ,90.1928,90.1949)
ORBIT_NUMBER = 16647
ORBITAL_ECCENTRICITY = 0.579
ORBITAL_INCLINATION = 86.93
ORBITAL_SEMIMAJOR_AXIS = 8861.65
PERIAPSIS_ALTITUDE = 337.64
PERIAPSIS_ARGUMENT_ANGLE = 349.59
PERIAPSIS_TIME = 2017-02-21T21:32:42.000Z
SPACECRAFT_ORIENTATION = (0.0,1.0,0.0)
^MEX_ORIENTATION_DESC = "MEX_ORIENTATION_DESC.TXT"
SPACECRAFT_POINTING_MODE = ACROSSTRACK
^MEX_POINTING_DESC = "MEX_POINTING_DESC.TXT"
RIGHT_ASCENSION = -1e+32
DECLINATION = -1e+32
OFFSET_ANGLE = -0.1
SPACECRAFT_SOLAR_DISTANCE = 2.19044e+08
TARGET_NAME = MARS
/* CAMERA DATA ELEMENTS */
DETECTOR_TEMPERATURE = 17.7588
FOCAL_PLANE_TEMPERATURE = 8.7872
INST_CMPRS_NAME = "DISCRETE COSINE TRANSFORMATION (DCT)"
INST_CMPRS_RATIO = 9.59694
INST_CMPRS_QUALITY = 0
INST_CMPRS_QUANTZ_TBL_ID = 0
INSTRUMENT_TEMPERATURE = 11.6418
LENS_TEMPERATURE = 8.5833
MACROPIXEL_SIZE = 2
MISSING_FRAMES = 0
PIXEL_SUBSAMPLING_FLAG = N
SIGNAL_CHAIN_ID = 1
/* RADIOMETRIC DATA ELEMENTS */
BANDWIDTH = 180.0
CENTER_FILTER_WAVELENGTH = 677.0
RADIANCE_OFFSET = 2.69432
RADIANCE_SCALING_FACTOR = 0.00925883
REFLECTANCE_SCALING_FACTOR = 0.000231772
MEX:REFLECTANCE_OFFSET = 0.0674457
/* IMAGE OBJECT DEFINITIONS */
OBJECT = IMAGE
  INTERCHANGE_FORMAT = BINARY
  LINES = 16293
  LINE_SAMPLES = 3270
  SAMPLE_TYPE = UNSIGNED_INTEGER
  SAMPLE_BITS = 8
  BANDS = 1
  BAND_STORAGE_TYPE = BAND_SEQUENTIAL
  MAXIMUM = 255
  MEAN = 100.674
  MINIMUM = 1
  STANDARD_DEVIATION = 24.0383
END_OBJECT = IMAGE
/* MAP OBJECT DEFINITIONS */
OBJECT = IMAGE_MAP_PROJECTION
  ^DATA_SET_MAP_PROJECTION_CATALOG= "DSMAP.CAT"
  A_AXIS_RADIUS = 3396.0
  B_AXIS_RADIUS = 3396.0
  C_AXIS_RADIUS = 3396.0
  CENTER_LATITUDE = 0.0
  CENTER_LONGITUDE = 90.0
  COORDINATE_SYSTEM_NAME = PLANETOGRAPHIC
  COORDINATE_SYSTEM_TYPE = "BODY-FIXED ROTATING"
  EASTERNMOST_LONGITUDE = 90.2201
  FIRST_STANDARD_PARALLEL = "N/A"
  LINE_FIRST_PIXEL = 1
  LINE_LAST_PIXEL = 16293
  LINE_PROJECTION_OFFSET = 13273.25
  MAP_PROJECTION_ROTATION = 0.0
  MAP_PROJECTION_TYPE = SINUSOIDAL
  MAP_RESOLUTION = 2370.85521546667
  MAP_SCALE = 0.025
  MAXIMUM_LATITUDE = 5.56795
  MINIMUM_LATITUDE = -1.27708
  POSITIVE_LONGITUDE_DIRECTION = EAST
  REFERENCE_LATITUDE = "N/A"
  REFERENCE_LONGITUDE = "N/A"
  SAMPLE_FIRST_PIXEL = 1
  SAMPLE_LAST_PIXEL = 3270
  SAMPLE_PROJECTION_OFFSET = 2830.75
  SECOND_STANDARD_PARALLEL = "N/A"
  WESTERNMOST_LONGITUDE = 88.7688
END_OBJECT = IMAGE_MAP_PROJECTION
END
