PDS_VERSION_ID = PDS3
/* FILE DATA ELEMENTS */
RECORD_TYPE = UNDEFINED
/* POINTERS TO DATA OBJECTS */
^IMAGE = ("HG648_0000_IR4.TIF")
/* IDENTIFICATION DATA ELEMENTS */
DATA_SET_ID = "MEX-M-HRSC-4-REFDR-MAPPROJECT-EXT6-V4.0"
DATA_SET_NAME = "MARS EXPRESS HRSC MAP PROJECTED REFDR EXTENSION6 V4.0"
DETECTOR_ID = MEX_HRSC_IR
EVENT_TYPE = "MARS-REGIONAL-MAPPING-Vo-Fl-La"
INSTRUMENT_HOST_ID = MEX
INSTRUMENT_HOST_NAME = "MARS EXPRESS"
INSTRUMENT_ID = HRSC
INSTRUMENT_NAME = "HIGH RESOLUTION STEREO CAMERA"
MISSION_NAME = "MARS EXPRESS"
MISSION_PHASE_NAME = ME_Phase_36
PROCESSING_LEVEL_ID = 4
PRODUCT_CREATION_TIME = 2023-01-26T14:39:22.000Z
PRODUCT_ID = "HG648_0000_IR4.TIF"
RELEASE_ID = 0001
REVISION_ID = 0000
/* QUALITY DATA ELEMENTS */
DATA_QUALITY_ID = 1
DATA_QUALITY_DESC = "Data calculated based on original SPICE kernels"
/* TIME DATA ELEMENTS */
SPACECRAFT_CLOCK_START_COUNT = "1/0435817636.08230"
SPACECRAFT_CLOCK_STOP_COUNT = "1/0435817844.09073"
START_TIME = 2017-02-22T04:28:33.633Z
STOP_TIME = 2017-02-22T04:30:44.842Z
/* ORBITAL DATA ELEMENTS */
ASCENDING_NODE_LONGITUDE = 261.23
MAXIMUM_RESOLUTION = 0.0584
FOOTPRINT_POINT_LATITUDE = (-27.2831,-27.2862,-27.2892,-27.292, -27.2947,-27.2972,-27.301,-27.3012, -27.3199,-27.1312,-26.9416,-26.656, -26.4657,-26.2751,-26.0847,-25.8942, -25.704,-25.4192,-25.1331,-24.943, -24.7521,-24.4661,-24.1806,-23.9904, -23.8032,-23.4852,-23.3248,-23.1609, -22.8432,-22.604,-22.4441,-22.1253, -21.9654,-21.7256,-21.5656,-21.4051, -21.2452,-21.0846,-20.9239,-20.6832, -20.3635,-20.2035,-20.0431,-19.883, -19.6435,-19.4031,-19.2427,-18.8436, -18.7637,-18.7099,-18.7051,-18.6998, -18.6949,-18.6908,-18.6856,-18.6872, -18.688,-19.0031,-19.2436,-19.4053, -19.724,-19.8846,-20.0448,-20.2057, -20.3661,-20.6069,-20.8473,-21.0075, -21.168,-21.4083,-21.5688,-21.7286, -21.8891,-22.0491,-22.2094,-22.3692, -22.5292,-22.7687,-22.9287,-23.2476, -23.5667,-23.9035,-24.0942,-24.2855, -24.4764,-24.6672,-24.953,-25.1435, -25.334,-25.5249,-25.7156,-25.9058, -26.0965,-26.2866,-26.4769,-26.6672, -26.9525,-27.1425,-27.2375,-27.2831)
FOOTPRINT_POINT_LONGITUDE = (347.571,347.347,347.123,346.897,346.67 ,346.443,346.07,346.056,346.039,346.043 ,346.047,346.055,346.06,346.065,346.07, 346.074,346.079,346.085,346.091,346.095 ,346.1,346.105,346.111,346.114,346.117, 346.122,346.125,346.131,346.135,346.138 ,346.141,346.145,346.148,346.151, 346.154,346.156,346.158,346.161,346.164 ,346.167,346.171,346.173,346.175, 346.177,346.179,346.182,346.184,346.187 ,346.188,346.188,346.421,346.688, 346.882,347.075,347.47,347.482,347.486, 347.489,347.491,347.493,347.495,347.497 ,347.499,347.5,347.502,347.504,347.507, 347.508,347.51,347.512,347.514,347.515, 347.517,347.519,347.52,347.522,347.524, 347.526,347.528,347.531,347.534,347.537 ,347.539,347.541,347.543,347.546, 347.549,347.551,347.553,347.555,347.557 ,347.559,347.561,347.563,347.565, 347.567,347.57,347.572,347.573,347.571)
ORBIT_NUMBER = 16648
ORBITAL_ECCENTRICITY = 0.578
ORBITAL_INCLINATION = 86.93
ORBITAL_SEMIMAJOR_AXIS = 8853.85
PERIAPSIS_ALTITUDE = 338.49
PERIAPSIS_ARGUMENT_ANGLE = 349.43
PERIAPSIS_TIME = 2017-02-22T04:32:25.000Z
SPACECRAFT_ORIENTATION = (0.0,1.0,0.0)
^MEX_ORIENTATION_DESC = "MEX_ORIENTATION_DESC.TXT"
SPACECRAFT_POINTING_MODE = ACROSSTRACK
^MEX_POINTING_DESC = "MEX_POINTING_DESC.TXT"
RIGHT_ASCENSION = -1e+32
DECLINATION = -1e+32
OFFSET_ANGLE = 0.4
SPACECRAFT_SOLAR_DISTANCE = 2.19097e+08
TARGET_NAME = MARS
/* CAMERA DATA ELEMENTS */
DETECTOR_TEMPERATURE = 17.9627
FOCAL_PLANE_TEMPERATURE = 8.7872
INST_CMPRS_NAME = "DISCRETE COSINE TRANSFORMATION (DCT)"
INST_CMPRS_RATIO = 8.28389
INST_CMPRS_QUALITY = 0
INST_CMPRS_QUANTZ_TBL_ID = 0
INSTRUMENT_TEMPERATURE = 11.4379
LENS_TEMPERATURE = 8.7872
MACROPIXEL_SIZE = 4
MISSING_FRAMES = 0
PIXEL_SUBSAMPLING_FLAG = N
SIGNAL_CHAIN_ID = 2
/* RADIOMETRIC DATA ELEMENTS */
BANDWIDTH = 81.0
CENTER_FILTER_WAVELENGTH = 955.5
RADIANCE_OFFSET = 0.552323
RADIANCE_SCALING_FACTOR = 0.00213709
REFLECTANCE_SCALING_FACTOR = 0.000221321
MEX:REFLECTANCE_OFFSET = 0.0571996
/* IMAGE OBJECT DEFINITIONS */
OBJECT = IMAGE
  INTERCHANGE_FORMAT = BINARY
  LINES = 10234
  LINE_SAMPLES = 1672
  SAMPLE_TYPE = UNSIGNED_INTEGER
  SAMPLE_BITS = 8
  BANDS = 1
  BAND_STORAGE_TYPE = BAND_SEQUENTIAL
  MAXIMUM = 255
  MEAN = 120.724
  MINIMUM = 1
  STANDARD_DEVIATION = 27.0364
END_OBJECT = IMAGE
/* MAP OBJECT DEFINITIONS */
OBJECT = IMAGE_MAP_PROJECTION
  ^DATA_SET_MAP_PROJECTION_CATALOG= "DSMAP.CAT"
  A_AXIS_RADIUS = 3396.0
  B_AXIS_RADIUS = 3396.0
  C_AXIS_RADIUS = 3396.0
  CENTER_LATITUDE = 0.0
  CENTER_LONGITUDE = 347.0
  COORDINATE_SYSTEM_NAME = PLANETOGRAPHIC
  COORDINATE_SYSTEM_TYPE = "BODY-FIXED ROTATING"
  EASTERNMOST_LONGITUDE = 347.573
  FIRST_STANDARD_PARALLEL = "N/A"
  LINE_FIRST_PIXEL = 1
  LINE_LAST_PIXEL = 10234
  LINE_PROJECTION_OFFSET = -22172.875
  MAP_PROJECTION_ROTATION = 0.0
  MAP_PROJECTION_TYPE = SINUSOIDAL
  MAP_RESOLUTION = 1185.42760773333
  MAP_SCALE = 0.05
  MAXIMUM_LATITUDE = -18.6856
  MINIMUM_LATITUDE = -27.3199
  POSITIVE_LONGITUDE_DIRECTION = EAST
  REFERENCE_LATITUDE = "N/A"
  REFERENCE_LONGITUDE = "N/A"
  SAMPLE_FIRST_PIXEL = 1
  SAMPLE_LAST_PIXEL = 1672
  SAMPLE_PROJECTION_OFFSET = 1041.375
  SECOND_STANDARD_PARALLEL = "N/A"
  WESTERNMOST_LONGITUDE = 346.039
END_OBJECT = IMAGE_MAP_PROJECTION
END
