PDS_VERSION_ID = PDS3
/* FILE DATA ELEMENTS */
RECORD_TYPE = UNDEFINED
/* POINTERS TO DATA OBJECTS */
^IMAGE = ("HG649_0000_P24.TIF")
/* IDENTIFICATION DATA ELEMENTS */
DATA_SET_ID = "MEX-M-HRSC-4-REFDR-MAPPROJECT-EXT6-V4.0"
DATA_SET_NAME = "MARS EXPRESS HRSC MAP PROJECTED REFDR EXTENSION6 V4.0"
DETECTOR_ID = MEX_HRSC_P2
EVENT_TYPE = "MARS-REGIONAL-STEREO-Vo-Te"
INSTRUMENT_HOST_ID = MEX
INSTRUMENT_HOST_NAME = "MARS EXPRESS"
INSTRUMENT_ID = HRSC
INSTRUMENT_NAME = "HIGH RESOLUTION STEREO CAMERA"
MISSION_NAME = "MARS EXPRESS"
MISSION_PHASE_NAME = ME_Phase_36
PROCESSING_LEVEL_ID = 4
PRODUCT_CREATION_TIME = 2023-01-26T14:39:22.000Z
PRODUCT_ID = "HG649_0000_P24.TIF"
RELEASE_ID = 0001
REVISION_ID = 0000
/* QUALITY DATA ELEMENTS */
DATA_QUALITY_ID = 1
DATA_QUALITY_DESC = "Data calculated based on original SPICE kernels"
/* TIME DATA ELEMENTS */
SPACECRAFT_CLOCK_START_COUNT = "1/0435842958.09034"
SPACECRAFT_CLOCK_STOP_COUNT = "1/0435843127.09536"
START_TIME = 2017-02-22T11:29:37.369Z
STOP_TIME = 2017-02-22T11:31:22.865Z
/* ORBITAL DATA ELEMENTS */
ASCENDING_NODE_LONGITUDE = 261.21
MAXIMUM_RESOLUTION = 0.0274
FOOTPRINT_POINT_LATITUDE = (-19.2319,-19.2329,-19.2343,-19.2348, -19.2351,-19.2351,-19.234,-19.2339, -19.2534,-18.9874,-18.7877,-18.4542, -18.1204,-17.7859,-17.5849,-17.4509, -17.3167,-17.1826,-17.0485,-16.9142, -16.7799,-16.6455,-16.5109,-16.3092, -16.1747,-15.9726,-15.838,-15.6357, -15.5008,-15.366,-15.1636,-15.0286, -14.8933,-14.7581,-14.6228,-14.4875, -14.3522,-14.2166,-14.0812,-13.9457, -13.81,-13.6743,-13.5385,-13.4028, -13.1991,-13.0632,-12.9272,-12.7231, -12.5871,-12.5189,-12.4977,-12.4974, -12.4962,-12.4946,-12.4931,-12.4911, -12.491,-12.4913,-12.6955,-12.8998, -13.0357,-13.1718,-13.3077,-13.4437, -13.6474,-13.7831,-13.9866,-14.1222, -14.3256,-14.4611,-14.6642,-14.7994, -15.0024,-15.2051,-15.3403,-15.4753, -15.6104,-15.8127,-15.9476,-16.1497, -16.2845,-16.4191,-16.5536,-16.688, -16.8224,-16.9569,-17.0909,-17.2252, -17.3594,-17.4934,-17.6944,-17.8284, -18.0294,-18.1632,-18.3639,-18.6312, -18.8314,-19.1649,-19.2316,-19.2319)
FOOTPRINT_POINT_LONGITUDE = (245.616,245.474,245.23,245.075,244.869 ,244.676,244.303,244.29,244.295,244.298 ,244.3,244.303,244.306,244.309,244.31, 244.311,244.312,244.313,244.314,244.315 ,244.316,244.317,244.317,244.318, 244.319,244.32,244.321,244.322,244.322, 244.323,244.324,244.324,244.325,244.325 ,244.325,244.326,244.326,244.326, 244.327,244.327,244.327,244.327,244.327 ,244.327,244.328,244.328,244.328, 244.328,244.328,244.328,244.328,244.546 ,244.811,245.088,245.284,245.503, 245.514,245.519,245.521,245.523,245.525 ,245.526,245.528,245.529,245.532, 245.533,245.536,245.537,245.54,245.541, 245.544,245.545,245.548,245.55,245.552, 245.554,245.556,245.558,245.56,245.563, 245.564,245.566,245.568,245.57,245.572, 245.573,245.575,245.577,245.579,245.581 ,245.584,245.586,245.589,245.59,245.593 ,245.597,245.6,245.605,245.606,245.616)
ORBIT_NUMBER = 16649
ORBITAL_ECCENTRICITY = 0.579
ORBITAL_INCLINATION = 86.92
ORBITAL_SEMIMAJOR_AXIS = 8869.91
PERIAPSIS_ALTITUDE = 337.74
PERIAPSIS_ARGUMENT_ANGLE = 349.25
PERIAPSIS_TIME = 2017-02-22T11:32:10.000Z
SPACECRAFT_ORIENTATION = (0.0,1.0,0.0)
^MEX_ORIENTATION_DESC = "MEX_ORIENTATION_DESC.TXT"
SPACECRAFT_POINTING_MODE = ACROSSTRACK
^MEX_POINTING_DESC = "MEX_POINTING_DESC.TXT"
RIGHT_ASCENSION = -1e+32
DECLINATION = -1e+32
OFFSET_ANGLE = 0.0
SPACECRAFT_SOLAR_DISTANCE = 2.19151e+08
TARGET_NAME = MARS
/* CAMERA DATA ELEMENTS */
DETECTOR_TEMPERATURE = 17.5549
FOCAL_PLANE_TEMPERATURE = 8.7872
INST_CMPRS_NAME = "DISCRETE COSINE TRANSFORMATION (DCT)"
INST_CMPRS_RATIO = 5.12614
INST_CMPRS_QUALITY = 0
INST_CMPRS_QUANTZ_TBL_ID = 0
INSTRUMENT_TEMPERATURE = 11.4379
LENS_TEMPERATURE = 8.7872
MACROPIXEL_SIZE = 2
MISSING_FRAMES = 0
PIXEL_SUBSAMPLING_FLAG = N
SIGNAL_CHAIN_ID = 3
/* RADIOMETRIC DATA ELEMENTS */
BANDWIDTH = 177.0
CENTER_FILTER_WAVELENGTH = 676.5
RADIANCE_OFFSET = 2.44761
RADIANCE_SCALING_FACTOR = 0.018535
REFLECTANCE_SCALING_FACTOR = 0.000471994
MEX:REFLECTANCE_OFFSET = 0.0623285
/* IMAGE OBJECT DEFINITIONS */
OBJECT = IMAGE
  INTERCHANGE_FORMAT = BINARY
  LINES = 16032
  LINE_SAMPLES = 2879
  SAMPLE_TYPE = UNSIGNED_INTEGER
  SAMPLE_BITS = 8
  BANDS = 1
  BAND_STORAGE_TYPE = BAND_SEQUENTIAL
  MAXIMUM = 255
  MEAN = 114.397
  MINIMUM = 1
  STANDARD_DEVIATION = 12.7631
END_OBJECT = IMAGE
/* MAP OBJECT DEFINITIONS */
OBJECT = IMAGE_MAP_PROJECTION
  ^DATA_SET_MAP_PROJECTION_CATALOG= "DSMAP.CAT"
  A_AXIS_RADIUS = 3396.0
  B_AXIS_RADIUS = 3396.0
  C_AXIS_RADIUS = 3396.0
  CENTER_LATITUDE = 0.0
  CENTER_LONGITUDE = 245.0
  COORDINATE_SYSTEM_NAME = PLANETOGRAPHIC
  COORDINATE_SYSTEM_TYPE = "BODY-FIXED ROTATING"
  EASTERNMOST_LONGITUDE = 245.616
  FIRST_STANDARD_PARALLEL = "N/A"
  LINE_FIRST_PIXEL = 1
  LINE_LAST_PIXEL = 16032
  LINE_PROJECTION_OFFSET = -29544.25
  MAP_PROJECTION_ROTATION = 0.0
  MAP_PROJECTION_TYPE = SINUSOIDAL
  MAP_RESOLUTION = 2370.85521546667
  MAP_SCALE = 0.025
  MAXIMUM_LATITUDE = -12.491
  MINIMUM_LATITUDE = -19.2534
  POSITIVE_LONGITUDE_DIRECTION = EAST
  REFERENCE_LATITUDE = "N/A"
  REFERENCE_LONGITUDE = "N/A"
  SAMPLE_FIRST_PIXEL = 1
  SAMPLE_LAST_PIXEL = 2879
  SAMPLE_PROJECTION_OFFSET = 1548.75
  SECOND_STANDARD_PARALLEL = "N/A"
  WESTERNMOST_LONGITUDE = 244.29
END_OBJECT = IMAGE_MAP_PROJECTION
END
