PDS_VERSION_ID = PDS3
/* FILE DATA ELEMENTS */
RECORD_TYPE = UNDEFINED
/* POINTERS TO DATA OBJECTS */
^IMAGE = ("HG651_0000_RE4.TIF")
/* IDENTIFICATION DATA ELEMENTS */
DATA_SET_ID = "MEX-M-HRSC-4-REFDR-MAPPROJECT-EXT6-V4.0"
DATA_SET_NAME = "MARS EXPRESS HRSC MAP PROJECTED REFDR EXTENSION6 V4.0"
DETECTOR_ID = MEX_HRSC_RED
EVENT_TYPE = "MARS-REGIONAL-MAPPING-Im-Eo"
INSTRUMENT_HOST_ID = MEX
INSTRUMENT_HOST_NAME = "MARS EXPRESS"
INSTRUMENT_ID = HRSC
INSTRUMENT_NAME = "HIGH RESOLUTION STEREO CAMERA"
MISSION_NAME = "MARS EXPRESS"
MISSION_PHASE_NAME = ME_Phase_36
PROCESSING_LEVEL_ID = 4
PRODUCT_CREATION_TIME = 2023-01-26T14:39:22.000Z
PRODUCT_ID = "HG651_0000_RE4.TIF"
RELEASE_ID = 0001
REVISION_ID = 0000
/* QUALITY DATA ELEMENTS */
DATA_QUALITY_ID = 1
DATA_QUALITY_DESC = "Data calculated based on original SPICE kernels"
/* TIME DATA ELEMENTS */
SPACECRAFT_CLOCK_START_COUNT = "1/0435893460.08249"
SPACECRAFT_CLOCK_STOP_COUNT = "1/0435893628.23414"
START_TIME = 2017-02-23T01:31:13.365Z
STOP_TIME = 2017-02-23T01:32:55.150Z
/* ORBITAL DATA ELEMENTS */
ASCENDING_NODE_LONGITUDE = 261.17
MAXIMUM_RESOLUTION = 0.0569
FOOTPRINT_POINT_LATITUDE = (-11.2985,-11.2848,-11.2705,-11.2556, -11.2402,-11.2241,-11.1964,-11.1953, -11.2074,-10.9473,-10.8164,-10.6806, -10.5468,-10.4121,-10.1505,-9.88921, -9.75845,-9.56234,-9.43153,-9.30063, -9.10421,-8.84258,-8.7116,-8.58074, -8.38422,-8.25308,-8.12192,-7.99092, -7.73858,-7.60732,-7.47594,-7.34462, -7.14762,-7.01664,-6.88514,-6.68789, -6.55616,-6.42462,-6.29296,-6.09557, -5.96392,-5.76647,-5.63484,-5.50312, -5.37024,-5.10775,-4.90972,-4.77729, -4.64542,-4.5795,-4.56388,-4.585, -4.60588,-4.61858,-4.63057,-4.64791, -4.66,-4.66063,-4.66176,-4.86025, -4.99281,-5.12419,-5.32065,-5.57982, -5.71174,-5.84391,-6.04163,-6.17394, -6.30513,-6.43678,-6.56931,-6.70317, -6.83801,-6.96985,-7.10133,-7.23258, -7.3642,-7.49618,-7.62774,-7.82512, -8.08708,-8.34737,-8.53856,-8.80202, -9.06104,-9.19216,-9.32363,-9.45598, -9.5874,-9.78314,-9.98084,-10.1135, -10.2468,-10.3779,-10.5097,-10.7063, -10.9059,-11.2308,-11.2959,-11.2985)
FOOTPRINT_POINT_LONGITUDE = (39.4105,39.2261,39.0385,38.8473, 38.6528,38.4546,38.1238,38.1108,38.1235 ,38.1248,38.1245,38.1182,38.1144, 38.1095,38.1092,38.1094,38.1094,38.1094 ,38.1093,38.1092,38.1089,38.1089, 38.1087,38.1087,38.1084,38.108,38.1077, 38.1075,38.1189,38.1184,38.1178,38.1173 ,38.1166,38.1165,38.1158,38.1147, 38.1138,38.113,38.1121,38.1109,38.11, 38.1088,38.1079,38.1069,38.1046,38.1038 ,38.1018,38.1,38.0988,38.0982,38.0981, 38.3743,38.6447,38.813,38.9675,39.2002, 39.3711,39.3823,39.3861,39.3872,39.3881 ,39.3883,39.3885,39.3873,39.3879, 39.3886,39.3895,39.3903,39.3906,39.3912 ,39.3922,39.3939,39.3961,39.3968, 39.3974,39.3978,39.3984,39.3993,39.3999 ,39.4009,39.4017,39.4016,39.3996, 39.4013,39.4008,39.4014,39.4023,39.4036 ,39.4044,39.405,39.4066,39.4081,39.4101 ,39.4109,39.412,39.4133,39.4161,39.4169 ,39.4171,39.4105)
ORBIT_NUMBER = 16651
ORBITAL_ECCENTRICITY = 0.579
ORBITAL_INCLINATION = 86.92
ORBITAL_SEMIMAJOR_AXIS = 8860.54
PERIAPSIS_ALTITUDE = 337.95
PERIAPSIS_ARGUMENT_ANGLE = 348.95
PERIAPSIS_TIME = 2017-02-23T01:31:43.000Z
SPACECRAFT_ORIENTATION = (0.0,1.0,0.0)
^MEX_ORIENTATION_DESC = "MEX_ORIENTATION_DESC.TXT"
SPACECRAFT_POINTING_MODE = ACROSSTRACK
^MEX_POINTING_DESC = "MEX_POINTING_DESC.TXT"
RIGHT_ASCENSION = -1e+32
DECLINATION = -1e+32
OFFSET_ANGLE = 1.46
SPACECRAFT_SOLAR_DISTANCE = 2.19259e+08
TARGET_NAME = MARS
/* CAMERA DATA ELEMENTS */
DETECTOR_TEMPERATURE = 18.7783
FOCAL_PLANE_TEMPERATURE = 9.195
INST_CMPRS_NAME = "DISCRETE COSINE TRANSFORMATION (DCT)"
INST_CMPRS_RATIO = 12.5012
INST_CMPRS_QUALITY = 0
INST_CMPRS_QUANTZ_TBL_ID = 0
INSTRUMENT_TEMPERATURE = 11.6418
LENS_TEMPERATURE = 9.3989
MACROPIXEL_SIZE = 4
MISSING_FRAMES = 0
PIXEL_SUBSAMPLING_FLAG = N
SIGNAL_CHAIN_ID = 2
/* RADIOMETRIC DATA ELEMENTS */
BANDWIDTH = 48.0
CENTER_FILTER_WAVELENGTH = 748.0
RADIANCE_OFFSET = 0.64807
RADIANCE_SCALING_FACTOR = 0.00526977
REFLECTANCE_SCALING_FACTOR = 0.000578139
MEX:REFLECTANCE_OFFSET = 0.0710988
/* IMAGE OBJECT DEFINITIONS */
OBJECT = IMAGE
  INTERCHANGE_FORMAT = BINARY
  LINES = 7872
  LINE_SAMPLES = 1552
  SAMPLE_TYPE = UNSIGNED_INTEGER
  SAMPLE_BITS = 8
  BANDS = 1
  BAND_STORAGE_TYPE = BAND_SEQUENTIAL
  MAXIMUM = 255
  MEAN = 104.33
  MINIMUM = 1
  STANDARD_DEVIATION = 34.7816
END_OBJECT = IMAGE
/* MAP OBJECT DEFINITIONS */
OBJECT = IMAGE_MAP_PROJECTION
  ^DATA_SET_MAP_PROJECTION_CATALOG= "DSMAP.CAT"
  A_AXIS_RADIUS = 3396.0
  B_AXIS_RADIUS = 3396.0
  C_AXIS_RADIUS = 3396.0
  CENTER_LATITUDE = 0.0
  CENTER_LONGITUDE = 39.0
  COORDINATE_SYSTEM_NAME = PLANETOGRAPHIC
  COORDINATE_SYSTEM_TYPE = "BODY-FIXED ROTATING"
  EASTERNMOST_LONGITUDE = 39.4171
  FIRST_STANDARD_PARALLEL = "N/A"
  LINE_FIRST_PIXEL = 1
  LINE_LAST_PIXEL = 7872
  LINE_PROJECTION_OFFSET = -5450.125
  MAP_PROJECTION_ROTATION = 0.0
  MAP_PROJECTION_TYPE = SINUSOIDAL
  MAP_RESOLUTION = 1185.42760773333
  MAP_SCALE = 0.05
  MAXIMUM_LATITUDE = -4.56388
  MINIMUM_LATITUDE = -11.2985
  POSITIVE_LONGITUDE_DIRECTION = EAST
  REFERENCE_LATITUDE = "N/A"
  REFERENCE_LONGITUDE = "N/A"
  SAMPLE_FIRST_PIXEL = 1
  SAMPLE_LAST_PIXEL = 1552
  SAMPLE_PROJECTION_OFFSET = 1062.125
  SECOND_STANDARD_PARALLEL = "N/A"
  WESTERNMOST_LONGITUDE = 38.0981
END_OBJECT = IMAGE_MAP_PROJECTION
END
