PDS_VERSION_ID = PDS3
/* FILE DATA ELEMENTS */
RECORD_TYPE = UNDEFINED
/* POINTERS TO DATA OBJECTS */
^IMAGE = ("HG652_0000_P14.TIF")
/* IDENTIFICATION DATA ELEMENTS */
DATA_SET_ID = "MEX-M-HRSC-4-REFDR-MAPPROJECT-EXT6-V4.0"
DATA_SET_NAME = "MARS EXPRESS HRSC MAP PROJECTED REFDR EXTENSION6 V4.0"
DETECTOR_ID = MEX_HRSC_P1
EVENT_TYPE = "MARS-REGIONAL-STEREO-Vo-Te-Gl"
INSTRUMENT_HOST_ID = MEX
INSTRUMENT_HOST_NAME = "MARS EXPRESS"
INSTRUMENT_ID = HRSC
INSTRUMENT_NAME = "HIGH RESOLUTION STEREO CAMERA"
MISSION_NAME = "MARS EXPRESS"
MISSION_PHASE_NAME = ME_Phase_36
PROCESSING_LEVEL_ID = 4
PRODUCT_CREATION_TIME = 2023-01-26T14:39:22.000Z
PRODUCT_ID = "HG652_0000_P14.TIF"
RELEASE_ID = 0001
REVISION_ID = 0000
/* QUALITY DATA ELEMENTS */
DATA_QUALITY_ID = 1
DATA_QUALITY_DESC = "Data calculated based on original SPICE kernels"
/* TIME DATA ELEMENTS */
SPACECRAFT_CLOCK_START_COUNT = "1/0435918578.09027"
SPACECRAFT_CLOCK_STOP_COUNT = "1/0435918732.59270"
START_TIME = 2017-02-23T08:30:37.586Z
STOP_TIME = 2017-02-23T08:32:08.195Z
/* ORBITAL DATA ELEMENTS */
ASCENDING_NODE_LONGITUDE = 261.14
MAXIMUM_RESOLUTION = 0.0274
FOOTPRINT_POINT_LATITUDE = (-15.9194,-15.9212,-15.922,-15.9225, -15.9233,-15.924,-15.9246,-15.9247, -15.9159,-15.7943,-15.6729,-15.5517, -15.4304,-15.3092,-15.1879,-15.0673, -14.8859,-14.7632,-14.6422,-14.4633, -14.2393,-14.1179,-13.9289,-13.6961, -13.5253,-13.3111,-13.0889,-12.9138, -12.7968,-12.6214,-12.5016,-12.3802, -12.2541,-12.1353,-12.0169,-11.8806, -11.7615,-11.5857,-11.3531,-11.2365, -11.0625,-10.83,-10.7136,-10.539, -10.3646,-10.2481,-10.0732,-10.0145, -9.99868,-9.99842,-9.99785,-9.99751, -9.99715,-9.9964,-9.99547,-9.9954, -9.99587,-10.1122,-10.2285,-10.4612, -10.692,-10.8094,-10.9262,-11.043, -11.2178,-11.3343,-11.5094,-11.6845, -11.8597,-11.9765,-12.0934,-12.2688, -12.3859,-12.5228,-12.6432,-12.7623, -12.8906,-13.0087,-13.1261,-13.2431, -13.3601,-13.4767,-13.6492,-13.8157, -14.0295,-14.2616,-14.3792,-14.5613, -14.6844,-14.8636,-14.9848,-15.1065, -15.2322,-15.3493,-15.4703,-15.5916, -15.713,-15.8343,-15.8951,-15.9194)
FOOTPRINT_POINT_LONGITUDE = (298.599,298.228,298.049,297.918, 297.726,297.535,297.379,297.368,297.368 ,297.368,297.368,297.368,297.369, 297.369,297.369,297.369,297.369,297.369 ,297.369,297.368,297.362,297.364,297.37 ,297.369,297.366,297.356,297.35,297.349 ,297.349,297.349,297.35,297.351,297.355 ,297.356,297.356,297.365,297.366, 297.365,297.364,297.363,297.362,297.36, 297.36,297.359,297.357,297.357,297.356, 297.356,297.355,297.63,297.791,297.963, 298.148,298.343,298.528,298.539,298.544 ,298.544,298.545,298.547,298.547, 298.549,298.55,298.55,298.552,298.552, 298.554,298.555,298.557,298.558,298.559 ,298.56,298.561,298.572,298.575,298.577 ,298.583,298.585,298.586,298.587, 298.588,298.589,298.589,298.586,298.578 ,298.579,298.58,298.582,298.584,298.585 ,298.586,298.587,298.59,298.59,298.591, 298.592,298.593,298.594,298.595, 298.599)
ORBIT_NUMBER = 16652
ORBITAL_ECCENTRICITY = 0.578
ORBITAL_INCLINATION = 86.93
ORBITAL_SEMIMAJOR_AXIS = 8856.84
PERIAPSIS_ALTITUDE = 337.94
PERIAPSIS_ARGUMENT_ANGLE = 348.78
PERIAPSIS_TIME = 2017-02-23T08:31:31.000Z
SPACECRAFT_ORIENTATION = (0.0,1.0,0.0)
^MEX_ORIENTATION_DESC = "MEX_ORIENTATION_DESC.TXT"
SPACECRAFT_POINTING_MODE = NADIR
^MEX_POINTING_DESC = "MEX_POINTING_DESC.TXT"
RIGHT_ASCENSION = -1e+32
DECLINATION = -1e+32
OFFSET_ANGLE = -1e+32
SPACECRAFT_SOLAR_DISTANCE = 2.19313e+08
TARGET_NAME = MARS
/* CAMERA DATA ELEMENTS */
DETECTOR_TEMPERATURE = 17.7588
FOCAL_PLANE_TEMPERATURE = 8.7872
INST_CMPRS_NAME = "DISCRETE COSINE TRANSFORMATION (DCT)"
INST_CMPRS_RATIO = 11.5914
INST_CMPRS_QUALITY = 0
INST_CMPRS_QUANTZ_TBL_ID = 0
INSTRUMENT_TEMPERATURE = 11.6418
LENS_TEMPERATURE = 9.6028
MACROPIXEL_SIZE = 2
MISSING_FRAMES = 0
PIXEL_SUBSAMPLING_FLAG = N
SIGNAL_CHAIN_ID = 3
/* RADIOMETRIC DATA ELEMENTS */
BANDWIDTH = 174.0
CENTER_FILTER_WAVELENGTH = 675.0
RADIANCE_OFFSET = 4.3302
RADIANCE_SCALING_FACTOR = 0.00652257
REFLECTANCE_SCALING_FACTOR = 0.000168745
MEX:REFLECTANCE_OFFSET = 0.112026
/* IMAGE OBJECT DEFINITIONS */
OBJECT = IMAGE
  INTERCHANGE_FORMAT = BINARY
  LINES = 14068
  LINE_SAMPLES = 2877
  SAMPLE_TYPE = UNSIGNED_INTEGER
  SAMPLE_BITS = 8
  BANDS = 1
  BAND_STORAGE_TYPE = BAND_SEQUENTIAL
  MAXIMUM = 255
  MEAN = 113.979
  MINIMUM = 1
  STANDARD_DEVIATION = 49.3888
END_OBJECT = IMAGE
/* MAP OBJECT DEFINITIONS */
OBJECT = IMAGE_MAP_PROJECTION
  ^DATA_SET_MAP_PROJECTION_CATALOG= "DSMAP.CAT"
  A_AXIS_RADIUS = 3396.0
  B_AXIS_RADIUS = 3396.0
  C_AXIS_RADIUS = 3396.0
  CENTER_LATITUDE = 0.0
  CENTER_LONGITUDE = 298.0
  COORDINATE_SYSTEM_NAME = PLANETOGRAPHIC
  COORDINATE_SYSTEM_TYPE = "BODY-FIXED ROTATING"
  EASTERNMOST_LONGITUDE = 298.599
  FIRST_STANDARD_PARALLEL = "N/A"
  LINE_FIRST_PIXEL = 1
  LINE_LAST_PIXEL = 14068
  LINE_PROJECTION_OFFSET = -23728.25
  MAP_PROJECTION_ROTATION = 0.0
  MAP_PROJECTION_TYPE = SINUSOIDAL
  MAP_RESOLUTION = 2370.85521546667
  MAP_SCALE = 0.025
  MAXIMUM_LATITUDE = -9.9954
  MINIMUM_LATITUDE = -15.9247
  POSITIVE_LONGITUDE_DIRECTION = EAST
  REFERENCE_LATITUDE = "N/A"
  REFERENCE_LONGITUDE = "N/A"
  SAMPLE_FIRST_PIXEL = 1
  SAMPLE_LAST_PIXEL = 2877
  SAMPLE_PROJECTION_OFFSET = 1512.75
  SECOND_STANDARD_PARALLEL = "N/A"
  WESTERNMOST_LONGITUDE = 297.349
END_OBJECT = IMAGE_MAP_PROJECTION
END
