PDS_VERSION_ID = PDS3
/* FILE DATA ELEMENTS */
RECORD_TYPE = UNDEFINED
/* POINTERS TO DATA OBJECTS */
^IMAGE = ("HG654_0000_IR4.TIF")
/* IDENTIFICATION DATA ELEMENTS */
DATA_SET_ID = "MEX-M-HRSC-4-REFDR-MAPPROJECT-EXT6-V4.0"
DATA_SET_NAME = "MARS EXPRESS HRSC MAP PROJECTED REFDR EXTENSION6 V4.0"
DETECTOR_ID = MEX_HRSC_IR
EVENT_TYPE = "MARS-REGIONAL-MAPPING-Vo-Im-Fl"
INSTRUMENT_HOST_ID = MEX
INSTRUMENT_HOST_NAME = "MARS EXPRESS"
INSTRUMENT_ID = HRSC
INSTRUMENT_NAME = "HIGH RESOLUTION STEREO CAMERA"
MISSION_NAME = "MARS EXPRESS"
MISSION_PHASE_NAME = ME_Phase_36
PROCESSING_LEVEL_ID = 4
PRODUCT_CREATION_TIME = 2023-01-26T14:39:22.000Z
PRODUCT_ID = "HG654_0000_IR4.TIF"
RELEASE_ID = 0001
REVISION_ID = 0000
/* QUALITY DATA ELEMENTS */
DATA_QUALITY_ID = 1
DATA_QUALITY_DESC = "Data calculated based on original SPICE kernels"
/* TIME DATA ELEMENTS */
SPACECRAFT_CLOCK_START_COUNT = "1/0435968756.08229"
SPACECRAFT_CLOCK_STOP_COUNT = "1/0435969010.14897"
START_TIME = 2017-02-23T22:27:12.284Z
STOP_TIME = 2017-02-23T22:30:10.992Z
/* ORBITAL DATA ELEMENTS */
ASCENDING_NODE_LONGITUDE = 261.11
MAXIMUM_RESOLUTION = 0.0562
FOOTPRINT_POINT_LATITUDE = (-27.8327,-27.8301,-27.8255,-27.8203, -27.8166,-27.8164,-27.8371,-27.4227, -27.1439,-26.8765,-26.611,-26.3434, -25.9417,-25.6721,-25.4007,-25.1365, -24.9108,-24.685,-24.4582,-24.2309, -24.004,-23.6625,-23.4361,-23.0957, -22.8689,-22.6426,-22.4157,-21.963, -21.6219,-21.2816,-21.0549,-20.8289, -20.6029,-20.2644,-20.0378,-19.5865, -19.3593,-19.1338,-18.9071,-18.6813, -18.455,-18.1162,-17.7769,-17.5502, -17.3246,-17.0983,-16.8717,-16.4284, -16.2007,-16.0842,-16.0721,-16.0726, -16.0764,-16.079,-16.079,-16.0799, -16.305,-16.5311,-16.8698,-17.0958, -17.3224,-17.5479,-17.7739,-18.1129, -18.3385,-18.567,-18.9046,-19.2448, -19.5841,-19.8103,-20.0364,-20.3755, -20.6025,-20.9415,-21.1679,-21.3955, -21.7348,-21.9617,-22.3023,-22.6425, -22.8689,-23.0964,-23.4381,-23.6658, -23.8958,-24.1244,-24.3517,-24.5773, -25.0304,-25.4059,-25.6759,-25.9461, -26.215,-26.4828,-26.7541,-27.0263, -27.4332,-27.704,-27.838,-27.8327)
FOOTPRINT_POINT_LONGITUDE = (94.4002,94.1036,93.6537,93.2065, 92.9138,92.8999,92.8903,92.9016,92.9096 ,92.9142,92.9182,92.9225,92.9288, 92.9333,92.9381,92.9425,92.9458,92.9491 ,92.9524,92.9559,92.9591,92.9639, 92.9667,92.971,92.9736,92.976,92.9785, 92.9829,92.9864,92.9895,92.9914,92.993, 92.9946,92.9966,92.9981,93.0004,93.0018 ,93.0028,93.0039,93.0048,93.0057, 93.0067,93.0078,93.0085,93.0089,93.0094 ,93.0099,93.0085,93.0091,93.0099, 93.0099,93.4747,93.8747,94.2196,94.2311 ,94.235,94.2372,94.2399,94.2437,94.2464 ,94.2494,94.2518,94.2545,94.2585, 94.2609,94.265,94.2683,94.273,94.2772, 94.2801,94.2829,94.2871,94.2904,94.2946 ,94.2977,94.3015,94.306,94.3094,94.3147 ,94.3199,94.3232,94.327,94.3332,94.3373 ,94.3428,94.3475,94.3515,94.3545, 94.3619,94.3686,94.3729,94.3774,94.3813 ,94.3846,94.3899,94.3959,94.4041, 94.4095,94.4114,94.4002)
ORBIT_NUMBER = 16654
ORBITAL_ECCENTRICITY = 0.579
ORBITAL_INCLINATION = 86.93
ORBITAL_SEMIMAJOR_AXIS = 8860.87
PERIAPSIS_ALTITUDE = 337.11
PERIAPSIS_ARGUMENT_ANGLE = 348.39
PERIAPSIS_TIME = 2017-02-23T22:30:56.000Z
SPACECRAFT_ORIENTATION = (0.0,1.0,0.0)
^MEX_ORIENTATION_DESC = "MEX_ORIENTATION_DESC.TXT"
SPACECRAFT_POINTING_MODE = ACROSSTRACK
^MEX_POINTING_DESC = "MEX_POINTING_DESC.TXT"
RIGHT_ASCENSION = -1e+32
DECLINATION = -1e+32
OFFSET_ANGLE = -0.229
SPACECRAFT_SOLAR_DISTANCE = 2.19421e+08
TARGET_NAME = MARS
/* CAMERA DATA ELEMENTS */
DETECTOR_TEMPERATURE = 17.351
FOCAL_PLANE_TEMPERATURE = 7.9716
INST_CMPRS_NAME = "DISCRETE COSINE TRANSFORMATION (DCT)"
INST_CMPRS_RATIO = 7.57636
INST_CMPRS_QUALITY = 0
INST_CMPRS_QUANTZ_TBL_ID = 0
INSTRUMENT_TEMPERATURE = 11.0301
LENS_TEMPERATURE = 8.5833
MACROPIXEL_SIZE = 4
MISSING_FRAMES = 0
PIXEL_SUBSAMPLING_FLAG = N
SIGNAL_CHAIN_ID = 2
/* RADIOMETRIC DATA ELEMENTS */
BANDWIDTH = 81.0
CENTER_FILTER_WAVELENGTH = 955.5
RADIANCE_OFFSET = 0.390308
RADIANCE_SCALING_FACTOR = 0.00306124
REFLECTANCE_SCALING_FACTOR = 0.000317965
MEX:REFLECTANCE_OFFSET = 0.0405405
/* IMAGE OBJECT DEFINITIONS */
OBJECT = IMAGE
  INTERCHANGE_FORMAT = BINARY
  LINES = 13955
  LINE_SAMPLES = 1647
  SAMPLE_TYPE = UNSIGNED_INTEGER
  SAMPLE_BITS = 8
  BANDS = 1
  BAND_STORAGE_TYPE = BAND_SEQUENTIAL
  MAXIMUM = 255
  MEAN = 83.0198
  MINIMUM = 1
  STANDARD_DEVIATION = 25.7339
END_OBJECT = IMAGE
/* MAP OBJECT DEFINITIONS */
OBJECT = IMAGE_MAP_PROJECTION
  ^DATA_SET_MAP_PROJECTION_CATALOG= "DSMAP.CAT"
  A_AXIS_RADIUS = 3396.0
  B_AXIS_RADIUS = 3396.0
  C_AXIS_RADIUS = 3396.0
  CENTER_LATITUDE = 0.0
  CENTER_LONGITUDE = 94.0
  COORDINATE_SYSTEM_NAME = PLANETOGRAPHIC
  COORDINATE_SYSTEM_TYPE = "BODY-FIXED ROTATING"
  EASTERNMOST_LONGITUDE = 94.4114
  FIRST_STANDARD_PARALLEL = "N/A"
  LINE_FIRST_PIXEL = 1
  LINE_LAST_PIXEL = 13955
  LINE_PROJECTION_OFFSET = -19079.625
  MAP_PROJECTION_ROTATION = 0.0
  MAP_PROJECTION_TYPE = SINUSOIDAL
  MAP_RESOLUTION = 1185.42760773333
  MAP_SCALE = 0.05
  MAXIMUM_LATITUDE = -16.0721
  MINIMUM_LATITUDE = -27.838
  POSITIVE_LONGITUDE_DIRECTION = EAST
  REFERENCE_LATITUDE = "N/A"
  REFERENCE_LONGITUDE = "N/A"
  SAMPLE_FIRST_PIXEL = 1
  SAMPLE_LAST_PIXEL = 1647
  SAMPLE_PROJECTION_OFFSET = 1194.375
  SECOND_STANDARD_PARALLEL = "N/A"
  WESTERNMOST_LONGITUDE = 92.8903
END_OBJECT = IMAGE_MAP_PROJECTION
END
