PDS_VERSION_ID = PDS3
/* FILE DATA ELEMENTS */
RECORD_TYPE = UNDEFINED
/* POINTERS TO DATA OBJECTS */
^IMAGE = ("HG654_0000_P14.TIF")
/* IDENTIFICATION DATA ELEMENTS */
DATA_SET_ID = "MEX-M-HRSC-4-REFDR-MAPPROJECT-EXT6-V4.0"
DATA_SET_NAME = "MARS EXPRESS HRSC MAP PROJECTED REFDR EXTENSION6 V4.0"
DETECTOR_ID = MEX_HRSC_P1
EVENT_TYPE = "MARS-REGIONAL-MAPPING-Vo-Im-Fl"
INSTRUMENT_HOST_ID = MEX
INSTRUMENT_HOST_NAME = "MARS EXPRESS"
INSTRUMENT_ID = HRSC
INSTRUMENT_NAME = "HIGH RESOLUTION STEREO CAMERA"
MISSION_NAME = "MARS EXPRESS"
MISSION_PHASE_NAME = ME_Phase_36
PROCESSING_LEVEL_ID = 4
PRODUCT_CREATION_TIME = 2023-01-26T14:39:22.000Z
PRODUCT_ID = "HG654_0000_P14.TIF"
RELEASE_ID = 0001
REVISION_ID = 0000
/* QUALITY DATA ELEMENTS */
DATA_QUALITY_ID = 1
DATA_QUALITY_DESC = "Data calculated based on original SPICE kernels"
/* TIME DATA ELEMENTS */
SPACECRAFT_CLOCK_START_COUNT = "1/0435968756.08229"
SPACECRAFT_CLOCK_STOP_COUNT = "1/0435969010.14897"
START_TIME = 2017-02-23T22:27:06.099Z
STOP_TIME = 2017-02-23T22:30:05.817Z
/* ORBITAL DATA ELEMENTS */
ASCENDING_NODE_LONGITUDE = 261.11
MAXIMUM_RESOLUTION = 0.0277
FOOTPRINT_POINT_LATITUDE = (-27.8531,-27.8506,-27.8467,-27.84, -27.8399,-27.8563,-27.5875,-27.3109, -27.0386,-26.7728,-26.5083,-26.2414, -25.8413,-25.573,-25.3031,-25.0346, -24.7727,-24.5478,-24.3221,-24.0965, -23.8695,-23.644,-23.4187,-23.1925, -22.8544,-22.5162,-22.2901,-22.0643, -21.7263,-21.5001,-21.2742,-21.0483, -20.8229,-20.485,-20.1472,-19.9212, -19.5843,-19.3576,-19.1326,-18.9066, -18.6813,-18.4555,-18.1174,-17.8919, -17.5528,-17.2145,-16.9889,-16.5438, -16.2042,-16.0865,-16.0735,-16.0758, -16.0781,-16.0797,-16.0797,-16.0801, -16.305,-16.5307,-16.8691,-17.0947, -17.3209,-17.546,-17.7716,-18.1099, -18.3351,-18.6767,-19.0129,-19.2388, -19.5773,-19.8029,-20.0283,-20.3666, -20.5928,-20.9307,-21.1564,-21.3829, -21.721,-21.947,-22.286,-22.512, -22.7375,-23.0764,-23.4161,-23.6425, -23.8706,-24.0976,-24.3236,-24.5482, -24.779,-25.0336,-25.3029,-25.7059, -26.108,-26.3745,-26.643,-27.048, -27.4513,-27.7196,-27.8533,-27.8531)
FOOTPRINT_POINT_LONGITUDE = (94.4038,94.005,93.5348,92.9069,92.8923 ,92.8816,92.8879,92.8967,92.9037, 92.9083,92.9122,92.9167,92.9232,92.9278 ,92.9327,92.9371,92.941,92.9444,92.9478 ,92.9511,92.9548,92.9579,92.9607, 92.9638,92.9678,92.9716,92.9742,92.9765 ,92.9797,92.982,92.9841,92.9861,92.9878 ,92.9903,92.9924,92.994,92.9956,92.9971 ,92.9981,92.9994,93.0003,93.0013, 93.0024,93.0032,93.0044,93.0052,93.0056 ,93.0045,93.0053,93.0069,93.0069, 93.4788,93.8357,94.2187,94.2307,94.235, 94.2372,94.24,94.244,94.2467,94.2498, 94.2522,94.2549,94.259,94.2614,94.2678, 94.2706,94.2736,94.278,94.2809,94.2837, 94.2881,94.2915,94.2957,94.2989,94.3027 ,94.3072,94.3107,94.3161,94.3197, 94.3231,94.3286,94.3348,94.339,94.3445, 94.3492,94.3532,94.3563,94.364,94.3644, 94.3693,94.3761,94.3824,94.3856,94.3905 ,94.3995,94.4076,94.4127,94.4149, 94.4038)
ORBIT_NUMBER = 16654
ORBITAL_ECCENTRICITY = 0.579
ORBITAL_INCLINATION = 86.93
ORBITAL_SEMIMAJOR_AXIS = 8860.87
PERIAPSIS_ALTITUDE = 337.11
PERIAPSIS_ARGUMENT_ANGLE = 348.39
PERIAPSIS_TIME = 2017-02-23T22:30:56.000Z
SPACECRAFT_ORIENTATION = (0.0,1.0,0.0)
^MEX_ORIENTATION_DESC = "MEX_ORIENTATION_DESC.TXT"
SPACECRAFT_POINTING_MODE = ACROSSTRACK
^MEX_POINTING_DESC = "MEX_POINTING_DESC.TXT"
RIGHT_ASCENSION = -1e+32
DECLINATION = -1e+32
OFFSET_ANGLE = -0.229
SPACECRAFT_SOLAR_DISTANCE = 2.19421e+08
TARGET_NAME = MARS
/* CAMERA DATA ELEMENTS */
DETECTOR_TEMPERATURE = 17.351
FOCAL_PLANE_TEMPERATURE = 7.9716
INST_CMPRS_NAME = "DISCRETE COSINE TRANSFORMATION (DCT)"
INST_CMPRS_RATIO = 8.19671
INST_CMPRS_QUALITY = 0
INST_CMPRS_QUANTZ_TBL_ID = 0
INSTRUMENT_TEMPERATURE = 11.0301
LENS_TEMPERATURE = 8.5833
MACROPIXEL_SIZE = 2
MISSING_FRAMES = 0
PIXEL_SUBSAMPLING_FLAG = N
SIGNAL_CHAIN_ID = 3
/* RADIOMETRIC DATA ELEMENTS */
BANDWIDTH = 174.0
CENTER_FILTER_WAVELENGTH = 675.0
RADIANCE_OFFSET = 1.99424
RADIANCE_SCALING_FACTOR = 0.011401
REFLECTANCE_SCALING_FACTOR = 0.000295246
MEX:REFLECTANCE_OFFSET = 0.0516437
/* IMAGE OBJECT DEFINITIONS */
OBJECT = IMAGE
  INTERCHANGE_FORMAT = BINARY
  LINES = 27909
  LINE_SAMPLES = 3293
  SAMPLE_TYPE = UNSIGNED_INTEGER
  SAMPLE_BITS = 8
  BANDS = 1
  BAND_STORAGE_TYPE = BAND_SEQUENTIAL
  MAXIMUM = 255
  MEAN = 91.8248
  MINIMUM = 1
  STANDARD_DEVIATION = 24.4715
END_OBJECT = IMAGE
/* MAP OBJECT DEFINITIONS */
OBJECT = IMAGE_MAP_PROJECTION
  ^DATA_SET_MAP_PROJECTION_CATALOG= "DSMAP.CAT"
  A_AXIS_RADIUS = 3396.0
  B_AXIS_RADIUS = 3396.0
  C_AXIS_RADIUS = 3396.0
  CENTER_LATITUDE = 0.0
  CENTER_LONGITUDE = 94.0
  COORDINATE_SYSTEM_NAME = PLANETOGRAPHIC
  COORDINATE_SYSTEM_TYPE = "BODY-FIXED ROTATING"
  EASTERNMOST_LONGITUDE = 94.4149
  FIRST_STANDARD_PARALLEL = "N/A"
  LINE_FIRST_PIXEL = 1
  LINE_LAST_PIXEL = 27909
  LINE_PROJECTION_OFFSET = -38158.75
  MAP_PROJECTION_ROTATION = 0.0
  MAP_PROJECTION_TYPE = SINUSOIDAL
  MAP_RESOLUTION = 2370.85521546667
  MAP_SCALE = 0.025
  MAXIMUM_LATITUDE = -16.0735
  MINIMUM_LATITUDE = -27.8563
  POSITIVE_LONGITUDE_DIRECTION = EAST
  REFERENCE_LATITUDE = "N/A"
  REFERENCE_LONGITUDE = "N/A"
  SAMPLE_FIRST_PIXEL = 1
  SAMPLE_LAST_PIXEL = 3293
  SAMPLE_PROJECTION_OFFSET = 2389.25
  SECOND_STANDARD_PARALLEL = "N/A"
  WESTERNMOST_LONGITUDE = 92.88160000000001
END_OBJECT = IMAGE_MAP_PROJECTION
END
