PDS_VERSION_ID = PDS3
/* FILE DATA ELEMENTS */
RECORD_TYPE = UNDEFINED
/* POINTERS TO DATA OBJECTS */
^IMAGE = ("HG657_0000_BL4.TIF")
/* IDENTIFICATION DATA ELEMENTS */
DATA_SET_ID = "MEX-M-HRSC-4-REFDR-MAPPROJECT-EXT6-V4.0"
DATA_SET_NAME = "MARS EXPRESS HRSC MAP PROJECTED REFDR EXTENSION6 V4.0"
DETECTOR_ID = MEX_HRSC_BLUE
EVENT_TYPE = "MARS-REGIONAL-MAPPING-Vo-Im-Fl"
INSTRUMENT_HOST_ID = MEX
INSTRUMENT_HOST_NAME = "MARS EXPRESS"
INSTRUMENT_ID = HRSC
INSTRUMENT_NAME = "HIGH RESOLUTION STEREO CAMERA"
MISSION_NAME = "MARS EXPRESS"
MISSION_PHASE_NAME = ME_Phase_36
PROCESSING_LEVEL_ID = 4
PRODUCT_CREATION_TIME = 2023-01-26T14:39:22.000Z
PRODUCT_ID = "HG657_0000_BL4.TIF"
RELEASE_ID = 0001
REVISION_ID = 0000
/* QUALITY DATA ELEMENTS */
DATA_QUALITY_ID = 1
DATA_QUALITY_DESC = "Data calculated based on original SPICE kernels"
/* TIME DATA ELEMENTS */
SPACECRAFT_CLOCK_START_COUNT = "1/0436044705.07307"
SPACECRAFT_CLOCK_STOP_COUNT = "1/0436044908.06274"
START_TIME = 2017-02-24T19:32:18.946Z
STOP_TIME = 2017-02-24T19:34:29.137Z
/* ORBITAL DATA ELEMENTS */
ASCENDING_NODE_LONGITUDE = 261.05
MAXIMUM_RESOLUTION = 0.0565
FOOTPRINT_POINT_LATITUDE = (-3.49683,-3.50294,-3.50658,-3.5101, -3.51351,-3.51684,-3.5201,-3.52029, -3.51766,-3.28448,-3.12943,-2.82175, -2.66741,-2.5127,-2.35758,-2.20312, -1.97127,-1.73977,-1.50847,-1.27731, -0.968866,-0.6612,-0.506859,-0.352556, -0.121681,0.108477,0.415962,0.591374, 0.774965,1.04999,1.23302,1.41599, 1.59889,1.78171,1.96444,2.14709,2.32966 ,2.51214,2.69453,2.87683,3.05903, 3.24115,3.42317,3.60509,3.78692,3.96866 ,4.15029,4.33182,4.51325,4.69458, 4.78517,4.87372,4.87739,4.88101,4.88462 ,4.88895,4.89258,4.89781,4.89804, 4.89711,4.71587,4.53455,4.3531,4.17159, 3.98995,3.80819,3.62635,3.44441,3.26241 ,2.98913,2.80693,2.6246,2.44213,2.25956 ,1.98551,1.8028,1.61997,1.43704,1.25406 ,1.07098,0.887841,0.704633,0.438296, -0.0228927,-0.330353,-0.715839,-1.02409 ,-1.40963,-1.64122,-1.79559,-1.95003, -2.18163,-2.33601,-2.56784,-2.72243, -2.87704,-3.10909,-3.34117,-3.4185, -3.49683)
FOOTPRINT_POINT_LONGITUDE = (147.787,147.477,147.289,147.102, 146.917,146.734,146.553,146.542,146.54, 146.537,146.535,146.529,146.527,146.525 ,146.523,146.52,146.517,146.513,146.509 ,146.505,146.5,146.495,146.492,146.49, 146.486,146.482,146.476,146.473,146.47, 146.465,146.462,146.458,146.455,146.451 ,146.448,146.444,146.441,146.437, 146.434,146.43,146.426,146.423,146.419, 146.415,146.411,146.408,146.404,146.4, 146.396,146.392,146.39,146.388,146.593, 146.8,147.009,147.259,147.473,147.782, 147.796,147.8,147.799,147.799,147.798, 147.797,147.797,147.796,147.795,147.795 ,147.794,147.794,147.793,147.793, 147.793,147.792,147.792,147.791,147.791 ,147.791,147.791,147.791,147.791, 147.791,147.791,147.792,147.793,147.791 ,147.791,147.792,147.792,147.792, 147.792,147.793,147.793,147.794,147.794 ,147.795,147.795,147.796,147.796, 147.787)
ORBIT_NUMBER = 16657
ORBITAL_ECCENTRICITY = 0.578
ORBITAL_INCLINATION = 86.92
ORBITAL_SEMIMAJOR_AXIS = 8855.11
PERIAPSIS_ALTITUDE = 337.95
PERIAPSIS_ARGUMENT_ANGLE = 347.92
PERIAPSIS_TIME = 2017-02-24T19:30:14.000Z
SPACECRAFT_ORIENTATION = (0.0,1.0,0.0)
^MEX_ORIENTATION_DESC = "MEX_ORIENTATION_DESC.TXT"
SPACECRAFT_POINTING_MODE = ACROSSTRACK
^MEX_POINTING_DESC = "MEX_POINTING_DESC.TXT"
RIGHT_ASCENSION = -1e+32
DECLINATION = -1e+32
OFFSET_ANGLE = -0.8
SPACECRAFT_SOLAR_DISTANCE = 2.19584e+08
TARGET_NAME = MARS
/* CAMERA DATA ELEMENTS */
DETECTOR_TEMPERATURE = 18.5744
FOCAL_PLANE_TEMPERATURE = 8.3794
INST_CMPRS_NAME = "DISCRETE COSINE TRANSFORMATION (DCT)"
INST_CMPRS_RATIO = 3.86726
INST_CMPRS_QUALITY = 0
INST_CMPRS_QUANTZ_TBL_ID = 0
INSTRUMENT_TEMPERATURE = 11.8457
LENS_TEMPERATURE = 8.7872
MACROPIXEL_SIZE = 4
MISSING_FRAMES = 0
PIXEL_SUBSAMPLING_FLAG = N
SIGNAL_CHAIN_ID = 2
/* RADIOMETRIC DATA ELEMENTS */
BANDWIDTH = 76.0
CENTER_FILTER_WAVELENGTH = 444.0
RADIANCE_OFFSET = 0.388814
RADIANCE_SCALING_FACTOR = 0.000985703
REFLECTANCE_SCALING_FACTOR = 4.88317e-05
MEX:REFLECTANCE_OFFSET = 0.0192618
/* IMAGE OBJECT DEFINITIONS */
OBJECT = IMAGE
  INTERCHANGE_FORMAT = BINARY
  LINES = 9963
  LINE_SAMPLES = 1689
  SAMPLE_TYPE = UNSIGNED_INTEGER
  SAMPLE_BITS = 8
  BANDS = 1
  BAND_STORAGE_TYPE = BAND_SEQUENTIAL
  MAXIMUM = 253
  MEAN = 119.545
  MINIMUM = 4
  STANDARD_DEVIATION = 23.7627
END_OBJECT = IMAGE
/* MAP OBJECT DEFINITIONS */
OBJECT = IMAGE_MAP_PROJECTION
  ^DATA_SET_MAP_PROJECTION_CATALOG= "DSMAP.CAT"
  A_AXIS_RADIUS = 3396.0
  B_AXIS_RADIUS = 3396.0
  C_AXIS_RADIUS = 3396.0
  CENTER_LATITUDE = 0.0
  CENTER_LONGITUDE = 147.0
  COORDINATE_SYSTEM_NAME = PLANETOGRAPHIC
  COORDINATE_SYSTEM_TYPE = "BODY-FIXED ROTATING"
  EASTERNMOST_LONGITUDE = 147.8
  FIRST_STANDARD_PARALLEL = "N/A"
  LINE_FIRST_PIXEL = 1
  LINE_LAST_PIXEL = 9963
  LINE_PROJECTION_OFFSET = 5793.375
  MAP_PROJECTION_ROTATION = 0.0
  MAP_PROJECTION_TYPE = SINUSOIDAL
  MAP_RESOLUTION = 1185.42760773333
  MAP_SCALE = 0.05
  MAXIMUM_LATITUDE = 4.89804
  MINIMUM_LATITUDE = -3.52029
  POSITIVE_LONGITUDE_DIRECTION = EAST
  REFERENCE_LATITUDE = "N/A"
  REFERENCE_LONGITUDE = "N/A"
  SAMPLE_FIRST_PIXEL = 1
  SAMPLE_LAST_PIXEL = 1689
  SAMPLE_PROJECTION_OFFSET = 737.875
  SECOND_STANDARD_PARALLEL = "N/A"
  WESTERNMOST_LONGITUDE = 146.388
END_OBJECT = IMAGE_MAP_PROJECTION
END
