PDS_VERSION_ID = PDS3
/* FILE DATA ELEMENTS */
RECORD_TYPE = UNDEFINED
/* POINTERS TO DATA OBJECTS */
^IMAGE = ("HG657_0000_S24.TIF")
/* IDENTIFICATION DATA ELEMENTS */
DATA_SET_ID = "MEX-M-HRSC-4-REFDR-MAPPROJECT-EXT6-V4.0"
DATA_SET_NAME = "MARS EXPRESS HRSC MAP PROJECTED REFDR EXTENSION6 V4.0"
DETECTOR_ID = MEX_HRSC_S2
EVENT_TYPE = "MARS-REGIONAL-MAPPING-Vo-Im-Fl"
INSTRUMENT_HOST_ID = MEX
INSTRUMENT_HOST_NAME = "MARS EXPRESS"
INSTRUMENT_ID = HRSC
INSTRUMENT_NAME = "HIGH RESOLUTION STEREO CAMERA"
MISSION_NAME = "MARS EXPRESS"
MISSION_PHASE_NAME = ME_Phase_36
PROCESSING_LEVEL_ID = 4
PRODUCT_CREATION_TIME = 2023-01-26T14:39:22.000Z
PRODUCT_ID = "HG657_0000_S24.TIF"
RELEASE_ID = 0001
REVISION_ID = 0000
/* QUALITY DATA ELEMENTS */
DATA_QUALITY_ID = 1
DATA_QUALITY_DESC = "Data calculated based on original SPICE kernels"
/* TIME DATA ELEMENTS */
SPACECRAFT_CLOCK_START_COUNT = "1/0436044705.07307"
SPACECRAFT_CLOCK_STOP_COUNT = "1/0436044908.06274"
START_TIME = 2017-02-24T19:31:52.971Z
STOP_TIME = 2017-02-24T19:33:59.848Z
/* ORBITAL DATA ELEMENTS */
ASCENDING_NODE_LONGITUDE = 261.05
MAXIMUM_RESOLUTION = 0.0297
FOOTPRINT_POINT_LATITUDE = (-3.45955,-3.47772,-3.49042,-3.50268, -3.51443,-3.52582,-3.53683,-3.53751, -3.52494,-3.3647,-3.12801,-2.89225, -2.57476,-2.41206,-2.17265,-2.01296, -1.85357,-1.53591,-1.21856,-1.05898, -0.742252,-0.582182,-0.420409,-0.102091 ,0.134622,0.374165,0.534205,0.694925, 0.856038,1.01542,1.33357,1.49273,1.7315 ,1.89067,2.04998,2.20913,2.39034,2.5803 ,2.77031,2.96027,3.24516,3.43509, 3.71999,3.90987,4.19467,4.38451,4.57432 ,4.76401,4.8587,4.866,4.8799,4.89185, 4.90407,4.91677,4.92983,4.94584,4.9467, 4.94649,4.75664,4.56679,4.37687,4.18709 ,3.99721,3.80716,3.61717,3.42716,3.1424 ,2.95206,2.76234,2.57241,2.29469, 2.05567,1.89626,1.7371,1.57789,1.41861, 1.25944,1.0207,0.86148,0.622805, 0.463697,0.145412,-0.0929961,-0.411646, -0.652038,-0.891025,-1.05083,-1.21043, -1.36964,-1.5292,-1.68887,-1.84858, -2.16665,-2.40499,-2.5642,-2.8826, -3.04189,-3.3601,-3.43939,-3.45955)
FOOTPRINT_POINT_LONGITUDE = (147.788,147.515,147.319,147.126, 146.934,146.744,146.556,146.544,146.541 ,146.539,146.536,146.532,146.528, 146.526,146.523,146.52,146.518,146.513, 146.508,146.506,146.501,146.498,146.496 ,146.491,146.487,146.483,146.48,146.478 ,146.475,146.472,146.467,146.464,146.46 ,146.457,146.454,146.451,146.448, 146.445,146.441,146.438,146.432,146.429 ,146.423,146.419,146.414,146.41,146.406 ,146.403,146.401,146.4,146.649,146.861, 147.075,147.291,147.51,147.772,147.786, 147.791,147.79,147.789,147.789,147.789, 147.788,147.788,147.787,147.787,147.787 ,147.786,147.787,147.786,147.786, 147.786,147.786,147.786,147.786,147.786 ,147.786,147.787,147.787,147.787, 147.788,147.788,147.789,147.79,147.789, 147.79,147.79,147.79,147.79,147.791, 147.791,147.791,147.792,147.794,147.794 ,147.795,147.796,147.797,147.798, 147.788)
ORBIT_NUMBER = 16657
ORBITAL_ECCENTRICITY = 0.578
ORBITAL_INCLINATION = 86.92
ORBITAL_SEMIMAJOR_AXIS = 8855.11
PERIAPSIS_ALTITUDE = 337.95
PERIAPSIS_ARGUMENT_ANGLE = 347.92
PERIAPSIS_TIME = 2017-02-24T19:30:14.000Z
SPACECRAFT_ORIENTATION = (0.0,1.0,0.0)
^MEX_ORIENTATION_DESC = "MEX_ORIENTATION_DESC.TXT"
SPACECRAFT_POINTING_MODE = ACROSSTRACK
^MEX_POINTING_DESC = "MEX_POINTING_DESC.TXT"
RIGHT_ASCENSION = -1e+32
DECLINATION = -1e+32
OFFSET_ANGLE = -0.8
SPACECRAFT_SOLAR_DISTANCE = 2.19584e+08
TARGET_NAME = MARS
/* CAMERA DATA ELEMENTS */
DETECTOR_TEMPERATURE = 18.3705
FOCAL_PLANE_TEMPERATURE = 8.3794
INST_CMPRS_NAME = "DISCRETE COSINE TRANSFORMATION (DCT)"
INST_CMPRS_RATIO = 7.40389
INST_CMPRS_QUALITY = 0
INST_CMPRS_QUANTZ_TBL_ID = 0
INSTRUMENT_TEMPERATURE = 11.8457
LENS_TEMPERATURE = 8.7872
MACROPIXEL_SIZE = 2
MISSING_FRAMES = 0
PIXEL_SUBSAMPLING_FLAG = N
SIGNAL_CHAIN_ID = 1
/* RADIOMETRIC DATA ELEMENTS */
BANDWIDTH = 178.0
CENTER_FILTER_WAVELENGTH = 679.0
RADIANCE_OFFSET = 3.40576
RADIANCE_SCALING_FACTOR = 0.00875429
REFLECTANCE_SCALING_FACTOR = 0.000223538
MEX:REFLECTANCE_OFFSET = 0.086965
/* IMAGE OBJECT DEFINITIONS */
OBJECT = IMAGE
  INTERCHANGE_FORMAT = BINARY
  LINES = 19926
  LINE_SAMPLES = 3377
  SAMPLE_TYPE = UNSIGNED_INTEGER
  SAMPLE_BITS = 8
  BANDS = 1
  BAND_STORAGE_TYPE = BAND_SEQUENTIAL
  MAXIMUM = 255
  MEAN = 92.31
  MINIMUM = 1
  STANDARD_DEVIATION = 23.5735
END_OBJECT = IMAGE
/* MAP OBJECT DEFINITIONS */
OBJECT = IMAGE_MAP_PROJECTION
  ^DATA_SET_MAP_PROJECTION_CATALOG= "DSMAP.CAT"
  A_AXIS_RADIUS = 3396.0
  B_AXIS_RADIUS = 3396.0
  C_AXIS_RADIUS = 3396.0
  CENTER_LATITUDE = 0.0
  CENTER_LONGITUDE = 147.0
  COORDINATE_SYSTEM_NAME = PLANETOGRAPHIC
  COORDINATE_SYSTEM_TYPE = "BODY-FIXED ROTATING"
  EASTERNMOST_LONGITUDE = 147.798
  FIRST_STANDARD_PARALLEL = "N/A"
  LINE_FIRST_PIXEL = 1
  LINE_LAST_PIXEL = 19926
  LINE_PROJECTION_OFFSET = 11587.25
  MAP_PROJECTION_ROTATION = 0.0
  MAP_PROJECTION_TYPE = SINUSOIDAL
  MAP_RESOLUTION = 2370.85521546667
  MAP_SCALE = 0.025
  MAXIMUM_LATITUDE = 4.9467
  MINIMUM_LATITUDE = -3.53751
  POSITIVE_LONGITUDE_DIRECTION = EAST
  REFERENCE_LATITUDE = "N/A"
  REFERENCE_LONGITUDE = "N/A"
  SAMPLE_FIRST_PIXEL = 1
  SAMPLE_LAST_PIXEL = 3377
  SAMPLE_PROJECTION_OFFSET = 1476.25
  SECOND_STANDARD_PARALLEL = "N/A"
  WESTERNMOST_LONGITUDE = 146.4
END_OBJECT = IMAGE_MAP_PROJECTION
END
