PDS_VERSION_ID = PDS3
/* FILE DATA ELEMENTS */
RECORD_TYPE = UNDEFINED
/* POINTERS TO DATA OBJECTS */
^IMAGE = ("HG658_0000_ND4.TIF")
/* IDENTIFICATION DATA ELEMENTS */
DATA_SET_ID = "MEX-M-HRSC-4-REFDR-MAPPROJECT-EXT6-V4.0"
DATA_SET_NAME = "MARS EXPRESS HRSC MAP PROJECTED REFDR EXTENSION6 V4.0"
DETECTOR_ID = MEX_HRSC_NADIR
EVENT_TYPE = "MARS-REGIONAL-MAPPING-Im-Fl"
INSTRUMENT_HOST_ID = MEX
INSTRUMENT_HOST_NAME = "MARS EXPRESS"
INSTRUMENT_ID = HRSC
INSTRUMENT_NAME = "HIGH RESOLUTION STEREO CAMERA"
MISSION_NAME = "MARS EXPRESS"
MISSION_PHASE_NAME = ME_Phase_36
PROCESSING_LEVEL_ID = 4
PRODUCT_CREATION_TIME = 2023-01-26T14:39:22.000Z
PRODUCT_ID = "HG658_0000_ND4.TIF"
RELEASE_ID = 0001
REVISION_ID = 0000
/* QUALITY DATA ELEMENTS */
DATA_QUALITY_ID = 1
DATA_QUALITY_DESC = "Data calculated based on original SPICE kernels"
/* TIME DATA ELEMENTS */
SPACECRAFT_CLOCK_START_COUNT = "1/0436069684.08260"
SPACECRAFT_CLOCK_STOP_COUNT = "1/0436069894.41697"
START_TIME = 2017-02-25T02:28:43.474Z
STOP_TIME = 2017-02-25T02:31:09.470Z
/* ORBITAL DATA ELEMENTS */
ASCENDING_NODE_LONGITUDE = 261.04
MAXIMUM_RESOLUTION = 0.0134
FOOTPRINT_POINT_LATITUDE = (-16.9722,-16.9742,-16.9758,-16.9772, -16.9784,-16.9793,-16.9802,-16.9802, -16.9802,-16.6931,-16.5017,-16.2143, -16.0228,-15.831,-15.5437,-15.352, -15.0644,-14.8726,-14.6809,-14.489, -14.2972,-14.1054,-13.9135,-13.7216, -13.4337,-13.2418,-12.9564,-12.5849, -12.2134,-11.7489,-11.3773,-10.9129, -10.6342,-10.2627,-10.072,-9.87994, -9.68807,-9.4003,-9.11267,-8.92088, -8.72906,-8.53731,-8.34558,-8.05802, -7.77053,-7.5789,-7.4831,-7.46545, -7.46201,-7.45782,-7.45433,-7.4542, -7.45435,-7.64603,-7.83782,-8.0295, -8.22126,-8.41304,-8.60472,-8.79665, -8.9885,-9.18036,-9.37223,-9.56418, -9.85209,-10.044,-10.4212,-10.7, -10.8858,-11.0716,-11.4432,-11.6292, -11.9079,-12.1867,-12.3725,-12.5584, -12.8372,-13.023,-13.2149,-13.4069, -13.5989,-13.7909,-13.9828,-14.1747, -14.3666,-14.5585,-14.7504,-14.9423, -15.1341,-15.3259,-15.5176,-15.7094, -15.9011,-16.0928,-16.2844,-16.476, -16.6675,-16.8591,-16.9548,-16.9722)
FOOTPRINT_POINT_LONGITUDE = (45.2922,45.065,44.8646,44.6655,44.4679 ,44.2715,44.0516,44.0395,44.0341, 44.0343,44.0344,44.0343,44.0343,44.0339 ,44.0338,44.0336,44.0331,44.0327, 44.0322,44.0318,44.0312,44.0307,44.03, 44.0294,44.0283,44.0275,44.0262,44.0244 ,44.0225,44.0198,44.0175,44.0144, 44.0124,44.0096,44.0081,44.0063,44.0048 ,44.0024,44.0001,43.9983,43.9965, 43.9947,43.9928,43.9899,43.9869,43.9848 ,43.9837,43.9835,44.3939,44.8455, 45.1735,45.1857,45.1916,45.1921,45.1911 ,45.1929,45.1938,45.1951,45.1985,45.198 ,45.1995,45.2012,45.2031,45.204,45.2063 ,45.2082,45.2113,45.2135,45.2152, 45.2165,45.2228,45.2211,45.2245,45.2275 ,45.2295,45.2309,45.2339,45.2358, 45.2379,45.2401,45.2424,45.2449,45.2474 ,45.2499,45.2524,45.2547,45.257,45.2591 ,45.2617,45.2643,45.2667,45.2688, 45.2708,45.2736,45.2767,45.2795,45.2824 ,45.2851,45.2863,45.2922)
ORBIT_NUMBER = 16658
ORBITAL_ECCENTRICITY = 0.579
ORBITAL_INCLINATION = 86.93
ORBITAL_SEMIMAJOR_AXIS = 8859.77
PERIAPSIS_ALTITUDE = 337.33
PERIAPSIS_ARGUMENT_ANGLE = 347.75
PERIAPSIS_TIME = 2017-02-25T02:29:57.000Z
SPACECRAFT_ORIENTATION = (0.0,1.0,0.0)
^MEX_ORIENTATION_DESC = "MEX_ORIENTATION_DESC.TXT"
SPACECRAFT_POINTING_MODE = ACROSSTRACK
^MEX_POINTING_DESC = "MEX_POINTING_DESC.TXT"
RIGHT_ASCENSION = -1e+32
DECLINATION = -1e+32
OFFSET_ANGLE = -0.5
SPACECRAFT_SOLAR_DISTANCE = 2.19638e+08
TARGET_NAME = MARS
/* CAMERA DATA ELEMENTS */
DETECTOR_TEMPERATURE = 18.3705
FOCAL_PLANE_TEMPERATURE = 8.9911
INST_CMPRS_NAME = "DISCRETE COSINE TRANSFORMATION (DCT)"
INST_CMPRS_RATIO = 6.48555
INST_CMPRS_QUALITY = 0
INST_CMPRS_QUANTZ_TBL_ID = 0
INSTRUMENT_TEMPERATURE = 11.8457
LENS_TEMPERATURE = 9.6028
MACROPIXEL_SIZE = 1
MISSING_FRAMES = 0
PIXEL_SUBSAMPLING_FLAG = N
SIGNAL_CHAIN_ID = 0
/* RADIOMETRIC DATA ELEMENTS */
BANDWIDTH = 177.0
CENTER_FILTER_WAVELENGTH = 677.5
RADIANCE_OFFSET = 1.85897
RADIANCE_SCALING_FACTOR = 0.0149707
REFLECTANCE_SCALING_FACTOR = 0.000383655
MEX:REFLECTANCE_OFFSET = 0.04764
/* IMAGE OBJECT DEFINITIONS */
OBJECT = IMAGE
  INTERCHANGE_FORMAT = BINARY
  LINES = 45172
  LINE_SAMPLES = 6089
  SAMPLE_TYPE = UNSIGNED_INTEGER
  SAMPLE_BITS = 8
  BANDS = 1
  BAND_STORAGE_TYPE = BAND_SEQUENTIAL
  MAXIMUM = 255
  MEAN = 84.7156
  MINIMUM = 1
  STANDARD_DEVIATION = 28.095
END_OBJECT = IMAGE
/* MAP OBJECT DEFINITIONS */
OBJECT = IMAGE_MAP_PROJECTION
  ^DATA_SET_MAP_PROJECTION_CATALOG= "DSMAP.CAT"
  A_AXIS_RADIUS = 3396.0
  B_AXIS_RADIUS = 3396.0
  C_AXIS_RADIUS = 3396.0
  CENTER_LATITUDE = 0.0
  CENTER_LONGITUDE = 45.0
  COORDINATE_SYSTEM_NAME = PLANETOGRAPHIC
  COORDINATE_SYSTEM_TYPE = "BODY-FIXED ROTATING"
  EASTERNMOST_LONGITUDE = 45.2922
  FIRST_STANDARD_PARALLEL = "N/A"
  LINE_FIRST_PIXEL = 1
  LINE_LAST_PIXEL = 45172
  LINE_PROJECTION_OFFSET = -35346.0
  MAP_PROJECTION_ROTATION = 0.0
  MAP_PROJECTION_TYPE = SINUSOIDAL
  MAP_RESOLUTION = 4741.71043093333
  MAP_SCALE = 0.0125
  MAXIMUM_LATITUDE = -7.4542
  MINIMUM_LATITUDE = -16.9802
  POSITIVE_LONGITUDE_DIRECTION = EAST
  REFERENCE_LATITUDE = "N/A"
  REFERENCE_LONGITUDE = "N/A"
  SAMPLE_FIRST_PIXEL = 1
  SAMPLE_LAST_PIXEL = 6089
  SAMPLE_PROJECTION_OFFSET = 4778.0
  SECOND_STANDARD_PARALLEL = "N/A"
  WESTERNMOST_LONGITUDE = 43.9835
END_OBJECT = IMAGE_MAP_PROJECTION
END
