PDS_VERSION_ID = PDS3
/* FILE DATA ELEMENTS */
RECORD_TYPE = UNDEFINED
/* POINTERS TO DATA OBJECTS */
^IMAGE = ("HG658_0000_S14.TIF")
/* IDENTIFICATION DATA ELEMENTS */
DATA_SET_ID = "MEX-M-HRSC-4-REFDR-MAPPROJECT-EXT6-V4.0"
DATA_SET_NAME = "MARS EXPRESS HRSC MAP PROJECTED REFDR EXTENSION6 V4.0"
DETECTOR_ID = MEX_HRSC_S1
EVENT_TYPE = "MARS-REGIONAL-MAPPING-Im-Fl"
INSTRUMENT_HOST_ID = MEX
INSTRUMENT_HOST_NAME = "MARS EXPRESS"
INSTRUMENT_ID = HRSC
INSTRUMENT_NAME = "HIGH RESOLUTION STEREO CAMERA"
MISSION_NAME = "MARS EXPRESS"
MISSION_PHASE_NAME = ME_Phase_36
PROCESSING_LEVEL_ID = 4
PRODUCT_CREATION_TIME = 2023-01-26T14:39:22.000Z
PRODUCT_ID = "HG658_0000_S14.TIF"
RELEASE_ID = 0001
REVISION_ID = 0000
/* QUALITY DATA ELEMENTS */
DATA_QUALITY_ID = 1
DATA_QUALITY_DESC = "Data calculated based on original SPICE kernels"
/* TIME DATA ELEMENTS */
SPACECRAFT_CLOCK_START_COUNT = "1/0436069684.08260"
SPACECRAFT_CLOCK_STOP_COUNT = "1/0436069894.41697"
START_TIME = 2017-02-25T02:29:13.948Z
STOP_TIME = 2017-02-25T02:31:40.444Z
/* ORBITAL DATA ELEMENTS */
ASCENDING_NODE_LONGITUDE = 261.04
MAXIMUM_RESOLUTION = 0.0284
FOOTPRINT_POINT_LATITUDE = (-16.9818,-16.975,-16.97,-16.9603, -16.9507,-16.9504,-16.9417,-16.6516, -16.3584,-16.168,-15.8799,-15.6828, -15.4895,-15.2957,-15.103,-14.9122, -14.7254,-14.4454,-14.2587,-14.072, -13.8858,-13.6997,-13.328,-13.142, -12.8636,-12.5852,-12.2139,-12.024, -11.7375,-11.5461,-11.2596,-11.0691, -10.7826,-10.4969,-10.3063,-10.1154, -9.83541,-9.5499,-9.35738,-9.16373, -8.974,-8.69156,-8.40773,-8.12429, -7.8421,-7.56031,-7.467,-7.43912, -7.45006,-7.4568,-7.46132,-7.47219, -7.47249,-7.47343,-7.66218,-7.93813, -8.1272,-8.31548,-8.50646,-8.7889, -8.97806,-9.16783,-9.35796,-9.54704, -9.73713,-10.0224,-10.2126,-10.4978, -10.6881,-10.8786,-11.0689,-11.2645, -11.4557,-11.7373,-11.9287,-12.1208, -12.3086,-12.6795,-12.9573,-13.236, -13.422,-13.6083,-13.7949,-13.9817, -14.1685,-14.3551,-14.5419,-14.7284, -14.9143,-15.1054,-15.2988,-15.4918, -15.684,-15.8779,-16.0714,-16.2654, -16.5561,-16.8469,-16.9436,-16.9818)
FOOTPRINT_POINT_LONGITUDE = (45.2926,45.0219,44.8265,44.4399,44.058 ,44.0462,44.0427,44.0424,44.042,44.0416 ,44.0409,44.0405,44.04,44.0395,44.0388, 44.0381,44.0374,44.0363,44.0355,44.0347 ,44.0338,44.0329,44.0309,44.0298, 44.0281,44.0264,44.0239,44.0226,44.0204 ,44.019,44.0167,44.0151,44.0127,44.0102 ,44.0085,44.0067,44.0038,44.001,43.9992 ,43.9974,43.9954,43.9922,43.9891, 43.9858,43.9824,43.979,43.9778,43.9774, 44.4576,44.7899,44.9935,45.19,45.2022, 45.2068,45.2079,45.2053,45.2065,45.2071 ,45.2093,45.2102,45.2112,45.2125, 45.2139,45.2148,45.2161,45.2182,45.2195 ,45.2213,45.2225,45.2239,45.2251, 45.2294,45.231,45.2303,45.232,45.234, 45.2357,45.239,45.2411,45.2437,45.2455, 45.2475,45.2496,45.2518,45.254,45.2561, 45.2582,45.2602,45.2617,45.2643,45.2667 ,45.2688,45.2703,45.2729,45.2753, 45.2779,45.2816,45.2853,45.2864, 45.2926)
ORBIT_NUMBER = 16658
ORBITAL_ECCENTRICITY = 0.579
ORBITAL_INCLINATION = 86.93
ORBITAL_SEMIMAJOR_AXIS = 8859.77
PERIAPSIS_ALTITUDE = 337.33
PERIAPSIS_ARGUMENT_ANGLE = 347.75
PERIAPSIS_TIME = 2017-02-25T02:29:57.000Z
SPACECRAFT_ORIENTATION = (0.0,1.0,0.0)
^MEX_ORIENTATION_DESC = "MEX_ORIENTATION_DESC.TXT"
SPACECRAFT_POINTING_MODE = ACROSSTRACK
^MEX_POINTING_DESC = "MEX_POINTING_DESC.TXT"
RIGHT_ASCENSION = -1e+32
DECLINATION = -1e+32
OFFSET_ANGLE = -0.5
SPACECRAFT_SOLAR_DISTANCE = 2.19638e+08
TARGET_NAME = MARS
/* CAMERA DATA ELEMENTS */
DETECTOR_TEMPERATURE = 17.7588
FOCAL_PLANE_TEMPERATURE = 8.9911
INST_CMPRS_NAME = "DISCRETE COSINE TRANSFORMATION (DCT)"
INST_CMPRS_RATIO = 10.6158
INST_CMPRS_QUALITY = 0
INST_CMPRS_QUANTZ_TBL_ID = 0
INSTRUMENT_TEMPERATURE = 11.8457
LENS_TEMPERATURE = 9.6028
MACROPIXEL_SIZE = 2
MISSING_FRAMES = 0
PIXEL_SUBSAMPLING_FLAG = N
SIGNAL_CHAIN_ID = 1
/* RADIOMETRIC DATA ELEMENTS */
BANDWIDTH = 180.0
CENTER_FILTER_WAVELENGTH = 677.0
RADIANCE_OFFSET = 2.38694
RADIANCE_SCALING_FACTOR = 0.015861
REFLECTANCE_SCALING_FACTOR = 0.000399195
MEX:REFLECTANCE_OFFSET = 0.0600755
/* IMAGE OBJECT DEFINITIONS */
OBJECT = IMAGE
  INTERCHANGE_FORMAT = BINARY
  LINES = 22586
  LINE_SAMPLES = 3045
  SAMPLE_TYPE = UNSIGNED_INTEGER
  SAMPLE_BITS = 8
  BANDS = 1
  BAND_STORAGE_TYPE = BAND_SEQUENTIAL
  MAXIMUM = 255
  MEAN = 86.1611
  MINIMUM = 1
  STANDARD_DEVIATION = 28.8159
END_OBJECT = IMAGE
/* MAP OBJECT DEFINITIONS */
OBJECT = IMAGE_MAP_PROJECTION
  ^DATA_SET_MAP_PROJECTION_CATALOG= "DSMAP.CAT"
  A_AXIS_RADIUS = 3396.0
  B_AXIS_RADIUS = 3396.0
  C_AXIS_RADIUS = 3396.0
  CENTER_LATITUDE = 0.0
  CENTER_LONGITUDE = 45.0
  COORDINATE_SYSTEM_NAME = PLANETOGRAPHIC
  COORDINATE_SYSTEM_TYPE = "BODY-FIXED ROTATING"
  EASTERNMOST_LONGITUDE = 45.2926
  FIRST_STANDARD_PARALLEL = "N/A"
  LINE_FIRST_PIXEL = 1
  LINE_LAST_PIXEL = 22586
  LINE_PROJECTION_OFFSET = -17673.25
  MAP_PROJECTION_ROTATION = 0.0
  MAP_PROJECTION_TYPE = SINUSOIDAL
  MAP_RESOLUTION = 2370.85521546667
  MAP_SCALE = 0.025
  MAXIMUM_LATITUDE = -7.43912
  MINIMUM_LATITUDE = -16.9818
  POSITIVE_LONGITUDE_DIRECTION = EAST
  REFERENCE_LATITUDE = "N/A"
  REFERENCE_LONGITUDE = "N/A"
  SAMPLE_FIRST_PIXEL = 1
  SAMPLE_LAST_PIXEL = 3045
  SAMPLE_PROJECTION_OFFSET = 2388.75
  SECOND_STANDARD_PARALLEL = "N/A"
  WESTERNMOST_LONGITUDE = 43.9774
END_OBJECT = IMAGE_MAP_PROJECTION
END
