PDS_VERSION_ID = PDS3
/* FILE DATA ELEMENTS */
RECORD_TYPE = UNDEFINED
/* POINTERS TO DATA OBJECTS */
^IMAGE = ("HG658_0000_S24.TIF")
/* IDENTIFICATION DATA ELEMENTS */
DATA_SET_ID = "MEX-M-HRSC-4-REFDR-MAPPROJECT-EXT6-V4.0"
DATA_SET_NAME = "MARS EXPRESS HRSC MAP PROJECTED REFDR EXTENSION6 V4.0"
DETECTOR_ID = MEX_HRSC_S2
EVENT_TYPE = "MARS-REGIONAL-MAPPING-Im-Fl"
INSTRUMENT_HOST_ID = MEX
INSTRUMENT_HOST_NAME = "MARS EXPRESS"
INSTRUMENT_ID = HRSC
INSTRUMENT_NAME = "HIGH RESOLUTION STEREO CAMERA"
MISSION_NAME = "MARS EXPRESS"
MISSION_PHASE_NAME = ME_Phase_36
PROCESSING_LEVEL_ID = 4
PRODUCT_CREATION_TIME = 2023-01-26T14:39:22.000Z
PRODUCT_ID = "HG658_0000_S24.TIF"
RELEASE_ID = 0001
REVISION_ID = 0000
/* QUALITY DATA ELEMENTS */
DATA_QUALITY_ID = 1
DATA_QUALITY_DESC = "Data calculated based on original SPICE kernels"
/* TIME DATA ELEMENTS */
SPACECRAFT_CLOCK_START_COUNT = "1/0436069684.08260"
SPACECRAFT_CLOCK_STOP_COUNT = "1/0436069894.41697"
START_TIME = 2017-02-25T02:28:11.991Z
STOP_TIME = 2017-02-25T02:30:38.963Z
/* ORBITAL DATA ELEMENTS */
ASCENDING_NODE_LONGITUDE = 261.04
MAXIMUM_RESOLUTION = 0.0285
FOOTPRINT_POINT_LATITUDE = (-16.9637,-16.9756,-16.9837,-16.9912, -16.9982,-17.0047,-17.0108,-17.0111, -17.0188,-16.8307,-16.6408,-16.3576, -16.164,-15.8857,-15.6961,-15.5059, -15.3167,-15.1263,-14.9359,-14.6507, -14.3648,-14.1745,-13.9836,-13.7925, -13.6011,-13.4096,-13.2182,-13.0263, -12.8346,-12.6426,-12.451,-12.2592, -12.067,-11.874,-11.6819,-11.4897, -11.2968,-11.0096,-10.6364,-10.0767, -9.88368,-9.60337,-9.14155,-8.76581, -8.5774,-8.38976,-8.19864,-8.00436, -7.80925,-7.61381,-7.51595,-7.49946, -7.49111,-7.4772,-7.46201,-7.44406, -7.44349,-7.44372,-7.63995,-7.83967, -8.03348,-8.32279,-8.69645,-9.07316, -9.35387,-9.63617,-10.0104,-10.2913, -10.4785,-10.7594,-11.0401,-11.2288, -11.4205,-11.6194,-11.9073,-12.099, -12.2913,-12.5798,-12.8685,-13.0602, -13.2516,-13.4431,-13.6339,-13.8246, -14.0153,-14.2058,-14.4916,-14.6823, -14.8736,-15.0631,-15.2529,-15.4432, -15.6345,-15.9182,-16.1076,-16.2964, -16.5797,-16.8626,-16.9553,-16.9637)
FOOTPRINT_POINT_LONGITUDE = (45.3107,45.0322,44.8311,44.6314, 44.4332,44.236,44.0397,44.0275,44.024, 44.0245,44.0248,44.0253,44.0253,44.0259 ,44.026,44.0261,44.0262,44.0261,44.026, 44.0258,44.0255,44.0253,44.025,44.0246, 44.0242,44.0237,44.0232,44.0226,44.022, 44.0213,44.0206,44.0199,44.0191,44.0183 ,44.0174,44.0165,44.0155,44.0139, 44.0118,44.0084,44.0068,44.0049,44.0018 ,43.9988,43.9973,43.9957,43.994,43.9923 ,43.9906,43.9887,43.9878,43.9876, 44.2052,44.5522,44.9269,45.179,45.1909, 45.1952,45.1959,45.1947,45.1966,45.1986 ,45.203,45.2057,45.2087,45.2108,45.2147 ,45.2174,45.2192,45.2219,45.2246, 45.2289,45.2316,45.2303,45.2341,45.2367 ,45.2389,45.2422,45.2452,45.2476, 45.2502,45.2527,45.2554,45.2582,45.261, 45.2638,45.2679,45.2705,45.2728,45.2759 ,45.2789,45.2815,45.2835,45.2883, 45.2912,45.2944,45.2991,45.3039,45.3063 ,45.3107)
ORBIT_NUMBER = 16658
ORBITAL_ECCENTRICITY = 0.579
ORBITAL_INCLINATION = 86.93
ORBITAL_SEMIMAJOR_AXIS = 8859.77
PERIAPSIS_ALTITUDE = 337.33
PERIAPSIS_ARGUMENT_ANGLE = 347.75
PERIAPSIS_TIME = 2017-02-25T02:29:57.000Z
SPACECRAFT_ORIENTATION = (0.0,1.0,0.0)
^MEX_ORIENTATION_DESC = "MEX_ORIENTATION_DESC.TXT"
SPACECRAFT_POINTING_MODE = ACROSSTRACK
^MEX_POINTING_DESC = "MEX_POINTING_DESC.TXT"
RIGHT_ASCENSION = -1e+32
DECLINATION = -1e+32
OFFSET_ANGLE = -0.5
SPACECRAFT_SOLAR_DISTANCE = 2.19638e+08
TARGET_NAME = MARS
/* CAMERA DATA ELEMENTS */
DETECTOR_TEMPERATURE = 18.9822
FOCAL_PLANE_TEMPERATURE = 8.9911
INST_CMPRS_NAME = "DISCRETE COSINE TRANSFORMATION (DCT)"
INST_CMPRS_RATIO = 11.8698
INST_CMPRS_QUALITY = 0
INST_CMPRS_QUANTZ_TBL_ID = 0
INSTRUMENT_TEMPERATURE = 11.8457
LENS_TEMPERATURE = 9.6028
MACROPIXEL_SIZE = 2
MISSING_FRAMES = 0
PIXEL_SUBSAMPLING_FLAG = N
SIGNAL_CHAIN_ID = 1
/* RADIOMETRIC DATA ELEMENTS */
BANDWIDTH = 178.0
CENTER_FILTER_WAVELENGTH = 679.0
RADIANCE_OFFSET = 2.28861
RADIANCE_SCALING_FACTOR = 0.0159406
REFLECTANCE_SCALING_FACTOR = 0.000407238
MEX:REFLECTANCE_OFFSET = 0.0584677
/* IMAGE OBJECT DEFINITIONS */
OBJECT = IMAGE
  INTERCHANGE_FORMAT = BINARY
  LINES = 22586
  LINE_SAMPLES = 3045
  SAMPLE_TYPE = UNSIGNED_INTEGER
  SAMPLE_BITS = 8
  BANDS = 1
  BAND_STORAGE_TYPE = BAND_SEQUENTIAL
  MAXIMUM = 255
  MEAN = 87.0256
  MINIMUM = 1
  STANDARD_DEVIATION = 28.9173
END_OBJECT = IMAGE
/* MAP OBJECT DEFINITIONS */
OBJECT = IMAGE_MAP_PROJECTION
  ^DATA_SET_MAP_PROJECTION_CATALOG= "DSMAP.CAT"
  A_AXIS_RADIUS = 3396.0
  B_AXIS_RADIUS = 3396.0
  C_AXIS_RADIUS = 3396.0
  CENTER_LATITUDE = 0.0
  CENTER_LONGITUDE = 45.0
  COORDINATE_SYSTEM_NAME = PLANETOGRAPHIC
  COORDINATE_SYSTEM_TYPE = "BODY-FIXED ROTATING"
  EASTERNMOST_LONGITUDE = 45.3107
  FIRST_STANDARD_PARALLEL = "N/A"
  LINE_FIRST_PIXEL = 1
  LINE_LAST_PIXEL = 22586
  LINE_PROJECTION_OFFSET = -17673.25
  MAP_PROJECTION_ROTATION = 0.0
  MAP_PROJECTION_TYPE = SINUSOIDAL
  MAP_RESOLUTION = 2370.85521546667
  MAP_SCALE = 0.025
  MAXIMUM_LATITUDE = -7.44349
  MINIMUM_LATITUDE = -17.0188
  POSITIVE_LONGITUDE_DIRECTION = EAST
  REFERENCE_LATITUDE = "N/A"
  REFERENCE_LONGITUDE = "N/A"
  SAMPLE_FIRST_PIXEL = 1
  SAMPLE_LAST_PIXEL = 3045
  SAMPLE_PROJECTION_OFFSET = 2388.75
  SECOND_STANDARD_PARALLEL = "N/A"
  WESTERNMOST_LONGITUDE = 43.9876
END_OBJECT = IMAGE_MAP_PROJECTION
END
