PDS_VERSION_ID = PDS3
/* FILE DATA ELEMENTS */
RECORD_TYPE = UNDEFINED
/* POINTERS TO DATA OBJECTS */
^IMAGE = ("HG659_0000_S14.TIF")
/* IDENTIFICATION DATA ELEMENTS */
DATA_SET_ID = "MEX-M-HRSC-4-REFDR-MAPPROJECT-EXT6-V4.0"
DATA_SET_NAME = "MARS EXPRESS HRSC MAP PROJECTED REFDR EXTENSION6 V4.0"
DETECTOR_ID = MEX_HRSC_S1
EVENT_TYPE = "MARS-REGIONAL-MAPPING-Te-Mw-Ls"
INSTRUMENT_HOST_ID = MEX
INSTRUMENT_HOST_NAME = "MARS EXPRESS"
INSTRUMENT_ID = HRSC
INSTRUMENT_NAME = "HIGH RESOLUTION STEREO CAMERA"
MISSION_NAME = "MARS EXPRESS"
MISSION_PHASE_NAME = ME_Phase_36
PROCESSING_LEVEL_ID = 4
PRODUCT_CREATION_TIME = 2023-01-26T14:39:22.000Z
PRODUCT_ID = "HG659_0000_S14.TIF"
RELEASE_ID = 0001
REVISION_ID = 0000
/* QUALITY DATA ELEMENTS */
DATA_QUALITY_ID = 1
DATA_QUALITY_DESC = "Data calculated based on original SPICE kernels"
/* TIME DATA ELEMENTS */
SPACECRAFT_CLOCK_START_COUNT = "1/0436094877.07334"
SPACECRAFT_CLOCK_STOP_COUNT = "1/0436095107.47715"
START_TIME = 2017-02-25T09:29:07.566Z
STOP_TIME = 2017-02-25T09:31:53.590Z
/* ORBITAL DATA ELEMENTS */
ASCENDING_NODE_LONGITUDE = 261.01
MAXIMUM_RESOLUTION = 0.0285
FOOTPRINT_POINT_LATITUDE = (-16.7102,-16.6871,-16.6682,-16.6498, -16.6493,-16.6405,-16.4229,-16.2041, -15.9868,-15.5792,-15.3558,-15.0123, -14.6074,-14.2997,-14.0849,-13.8679, -13.6515,-13.4324,-13.1782,-12.9539, -12.63,-12.4137,-12.1977,-11.9817, -11.7661,-11.5508,-11.3355,-11.1203, -10.9054,-10.5834,-10.3692,-10.1552, -9.94116,-9.72729,-9.51354,-9.30001, -9.08668,-8.87352,-8.66058,-8.44765, -8.23497,-7.91606,-7.59815,-7.38558, -7.06803,-6.85629,-6.4349,-6.01407, -5.90891,-5.90807,-5.92893,-5.9394, -5.95219,-5.96689,-5.96751,-5.96816, -6.17919,-6.59935,-6.81166,-7.02296, -7.339,-7.55217,-7.87883,-8.29374, -8.61377,-9.03653,-9.25122,-9.46635, -9.68008,-9.89412,-10.218,-10.5366, -10.7508,-10.9653,-11.1803,-11.3954, -11.6108,-11.8267,-12.0423,-12.2584, -12.4747,-12.6907,-12.9071,-13.1241, -13.3406,-13.5665,-13.8056,-14.0274, -14.3621,-14.5782,-14.7922,-15.0102, -15.31,-15.6416,-15.947,-16.1623, -16.3799,-16.5993,-16.7084,-16.7102)
FOOTPRINT_POINT_LONGITUDE = (303.408,302.928,302.535,302.151, 302.139,302.134,302.133,302.132,302.131 ,302.134,302.131,302.126,302.129,302.13 ,302.129,302.127,302.126,302.124, 302.115,302.112,302.11,302.108,302.106, 302.104,302.102,302.1,302.098,302.096, 302.094,302.09,302.088,302.086,302.084, 302.081,302.079,302.076,302.074,302.071 ,302.069,302.066,302.064,302.06,302.056 ,302.053,302.048,302.045,302.04,302.034 ,302.032,302.032,302.487,302.706, 302.967,303.281,303.294,303.299,303.3, 303.301,303.303,303.304,303.304,303.306 ,303.315,303.31,303.313,303.313,303.316 ,303.319,303.321,303.323,303.328, 303.328,303.33,303.332,303.334,303.336, 303.339,303.341,303.344,303.347,303.349 ,303.352,303.355,303.358,303.361, 303.371,303.392,303.399,303.411,303.413 ,303.414,303.418,303.4,303.409,303.397, 303.398,303.401,303.405,303.407, 303.408)
ORBIT_NUMBER = 16659
ORBITAL_ECCENTRICITY = 0.578
ORBITAL_INCLINATION = 86.93
ORBITAL_SEMIMAJOR_AXIS = 8854.9
PERIAPSIS_ALTITUDE = 337.44
PERIAPSIS_ARGUMENT_ANGLE = 347.58
PERIAPSIS_TIME = 2017-02-25T09:29:44.000Z
SPACECRAFT_ORIENTATION = (0.0,1.0,0.0)
^MEX_ORIENTATION_DESC = "MEX_ORIENTATION_DESC.TXT"
SPACECRAFT_POINTING_MODE = ACROSSTRACK
^MEX_POINTING_DESC = "MEX_POINTING_DESC.TXT"
RIGHT_ASCENSION = -1e+32
DECLINATION = -1e+32
OFFSET_ANGLE = -0.9
SPACECRAFT_SOLAR_DISTANCE = 2.19692e+08
TARGET_NAME = MARS
/* CAMERA DATA ELEMENTS */
DETECTOR_TEMPERATURE = 17.5549
FOCAL_PLANE_TEMPERATURE = 8.1755
INST_CMPRS_NAME = "DISCRETE COSINE TRANSFORMATION (DCT)"
INST_CMPRS_RATIO = 11.7091
INST_CMPRS_QUALITY = 0
INST_CMPRS_QUANTZ_TBL_ID = 0
INSTRUMENT_TEMPERATURE = 11.6418
LENS_TEMPERATURE = 8.5833
MACROPIXEL_SIZE = 2
MISSING_FRAMES = 0
PIXEL_SUBSAMPLING_FLAG = N
SIGNAL_CHAIN_ID = 1
/* RADIOMETRIC DATA ELEMENTS */
BANDWIDTH = 180.0
CENTER_FILTER_WAVELENGTH = 677.0
RADIANCE_OFFSET = 3.87878
RADIANCE_SCALING_FACTOR = 0.0107907
REFLECTANCE_SCALING_FACTOR = 0.000271718
MEX:REFLECTANCE_OFFSET = 0.097671
/* IMAGE OBJECT DEFINITIONS */
OBJECT = IMAGE
  INTERCHANGE_FORMAT = BINARY
  LINES = 25521
  LINE_SAMPLES = 3207
  SAMPLE_TYPE = UNSIGNED_INTEGER
  SAMPLE_BITS = 8
  BANDS = 1
  BAND_STORAGE_TYPE = BAND_SEQUENTIAL
  MAXIMUM = 255
  MEAN = 93.326
  MINIMUM = 1
  STANDARD_DEVIATION = 57.0203
END_OBJECT = IMAGE
/* MAP OBJECT DEFINITIONS */
OBJECT = IMAGE_MAP_PROJECTION
  ^DATA_SET_MAP_PROJECTION_CATALOG= "DSMAP.CAT"
  A_AXIS_RADIUS = 3396.0
  B_AXIS_RADIUS = 3396.0
  C_AXIS_RADIUS = 3396.0
  CENTER_LATITUDE = 0.0
  CENTER_LONGITUDE = 303.0
  COORDINATE_SYSTEM_NAME = PLANETOGRAPHIC
  COORDINATE_SYSTEM_TYPE = "BODY-FIXED ROTATING"
  EASTERNMOST_LONGITUDE = 303.418
  FIRST_STANDARD_PARALLEL = "N/A"
  LINE_FIRST_PIXEL = 1
  LINE_LAST_PIXEL = 25521
  LINE_PROJECTION_OFFSET = -14087.25
  MAP_PROJECTION_ROTATION = 0.0
  MAP_PROJECTION_TYPE = SINUSOIDAL
  MAP_RESOLUTION = 2370.85521546667
  MAP_SCALE = 0.025
  MAXIMUM_LATITUDE = -5.90807
  MINIMUM_LATITUDE = -16.7102
  POSITIVE_LONGITUDE_DIRECTION = EAST
  REFERENCE_LATITUDE = "N/A"
  REFERENCE_LONGITUDE = "N/A"
  SAMPLE_FIRST_PIXEL = 1
  SAMPLE_LAST_PIXEL = 3207
  SAMPLE_PROJECTION_OFFSET = 2265.75
  SECOND_STANDARD_PARALLEL = "N/A"
  WESTERNMOST_LONGITUDE = 302.032
END_OBJECT = IMAGE_MAP_PROJECTION
END
