PDS_VERSION_ID = PDS3
/* FILE DATA ELEMENTS */
RECORD_TYPE = UNDEFINED
/* POINTERS TO DATA OBJECTS */
^IMAGE = ("HG661_0000_BL4.TIF")
/* IDENTIFICATION DATA ELEMENTS */
DATA_SET_ID = "MEX-M-HRSC-4-REFDR-MAPPROJECT-EXT6-V4.0"
DATA_SET_NAME = "MARS EXPRESS HRSC MAP PROJECTED REFDR EXTENSION6 V4.0"
DETECTOR_ID = MEX_HRSC_BLUE
EVENT_TYPE = "MARS-REGIONAL-MAPPING-Vo-Im-Fl"
INSTRUMENT_HOST_ID = MEX
INSTRUMENT_HOST_NAME = "MARS EXPRESS"
INSTRUMENT_ID = HRSC
INSTRUMENT_NAME = "HIGH RESOLUTION STEREO CAMERA"
MISSION_NAME = "MARS EXPRESS"
MISSION_PHASE_NAME = ME_Phase_36
PROCESSING_LEVEL_ID = 4
PRODUCT_CREATION_TIME = 2023-01-26T14:39:22.000Z
PRODUCT_ID = "HG661_0000_BL4.TIF"
RELEASE_ID = 0001
REVISION_ID = 0000
/* QUALITY DATA ELEMENTS */
DATA_QUALITY_ID = 1
DATA_QUALITY_DESC = "Data calculated based on original SPICE kernels"
/* TIME DATA ELEMENTS */
SPACECRAFT_CLOCK_START_COUNT = "1/0436145362.09057"
SPACECRAFT_CLOCK_STOP_COUNT = "1/0436145667.09151"
START_TIME = 2017-02-25T23:29:56.253Z
STOP_TIME = 2017-02-25T23:33:45.961Z
/* ORBITAL DATA ELEMENTS */
ASCENDING_NODE_LONGITUDE = 260.98
MAXIMUM_RESOLUTION = 0.0547
FOOTPRINT_POINT_LATITUDE = (-9.2638,-9.25861,-9.25272,-9.2438, -9.24357,-9.24417,-8.83046,-8.55467, -8.2788,-8.00303,-7.72752,-7.31415, -7.03903,-6.76334,-6.48637,-6.21081, -5.93556,-5.66079,-5.38576,-5.1111, -4.83565,-4.56071,-4.28437,-3.7354, -3.32306,-2.63761,-2.09019,-1.81391, -1.53753,-1.21379,-0.885206,-0.561793, -0.235454,0.0901503,0.578395,0.904531, 1.22859,1.55169,1.87703,2.20199,2.52549 ,2.84794,3.17157,3.65764,4.13986, 4.46144,4.78381,5.2662,5.42701,5.58807, 5.58649,5.58487,5.58222,5.58217,5.58112 ,5.09665,4.77542,4.45348,4.13009, 3.80802,3.48476,3.16066,2.83696,2.35247 ,2.02813,1.54142,1.05375,0.728538, 0.402658,0.0766315,-0.249794,-0.575685, -1.06558,-1.39259,-1.69397,-1.96823, -2.3796,-2.65409,-3.06534,-3.3401, -3.61485,-3.88972,-4.3023,-4.5774, -4.85261,-5.12796,-5.54129,-5.81719, -6.09375,-6.50717,-6.91994,-7.19581, -7.47207,-7.88776,-8.16379,-8.43963, -8.71512,-8.99124,-9.12873,-9.2638)
FOOTPRINT_POINT_LONGITUDE = (96.2623,95.8952,95.5144,94.9918,94.979 ,94.984,94.983,94.9822,94.9806,94.9793, 94.9791,94.9775,94.9785,94.9759,94.9661 ,94.9634,94.9619,94.9625,94.9612, 94.9613,94.9565,94.9539,94.9432,94.9397 ,94.932,94.925,94.9209,94.9039,94.8932, 94.9028,94.8853,94.8939,94.8856,94.8798 ,94.8693,94.8571,94.8543,94.855,94.8424 ,94.8301,94.8238,94.8213,94.8108, 94.7888,94.7826,94.7756,94.7627,94.7458 ,94.7391,94.7347,95.3408,95.678,96.2205 ,96.2337,96.2381,96.2381,96.2374, 96.2376,96.2398,96.239,96.2399,96.2419, 96.2426,96.2405,96.2411,96.2414,96.2424 ,96.2427,96.2439,96.2449,96.2463, 96.2461,96.2472,96.2483,96.2487,96.2496 ,96.2503,96.251,96.2505,96.2511,96.2515 ,96.2519,96.2527,96.2531,96.2535,96.254 ,96.2552,96.2566,96.2593,96.2598, 96.2585,96.2591,96.2605,96.2655,96.2661 ,96.2662,96.2654,96.266,96.265,96.2623)
ORBIT_NUMBER = 16661
ORBITAL_ECCENTRICITY = 0.579
ORBITAL_INCLINATION = 86.93
ORBITAL_SEMIMAJOR_AXIS = 8859.84
PERIAPSIS_ALTITUDE = 336.61
PERIAPSIS_ARGUMENT_ANGLE = 347.19
PERIAPSIS_TIME = 2017-02-25T23:29:08.000Z
SPACECRAFT_ORIENTATION = (0.0,1.0,0.0)
^MEX_ORIENTATION_DESC = "MEX_ORIENTATION_DESC.TXT"
SPACECRAFT_POINTING_MODE = ACROSSTRACK
^MEX_POINTING_DESC = "MEX_POINTING_DESC.TXT"
RIGHT_ASCENSION = -1e+32
DECLINATION = -1e+32
OFFSET_ANGLE = 1.5
SPACECRAFT_SOLAR_DISTANCE = 2.19801e+08
TARGET_NAME = MARS
/* CAMERA DATA ELEMENTS */
DETECTOR_TEMPERATURE = 18.5744
FOCAL_PLANE_TEMPERATURE = 8.1755
INST_CMPRS_NAME = "DISCRETE COSINE TRANSFORMATION (DCT)"
INST_CMPRS_RATIO = 3.77409
INST_CMPRS_QUALITY = 0
INST_CMPRS_QUANTZ_TBL_ID = 0
INSTRUMENT_TEMPERATURE = 11.6418
LENS_TEMPERATURE = 8.7872
MACROPIXEL_SIZE = 4
MISSING_FRAMES = 0
PIXEL_SUBSAMPLING_FLAG = N
SIGNAL_CHAIN_ID = 2
/* RADIOMETRIC DATA ELEMENTS */
BANDWIDTH = 76.0
CENTER_FILTER_WAVELENGTH = 444.0
RADIANCE_OFFSET = 0.388814
RADIANCE_SCALING_FACTOR = 0.00170958
REFLECTANCE_SCALING_FACTOR = 8.48606e-05
MEX:REFLECTANCE_OFFSET = 0.0193
/* IMAGE OBJECT DEFINITIONS */
OBJECT = IMAGE
  INTERCHANGE_FORMAT = BINARY
  LINES = 17607
  LINE_SAMPLES = 1824
  SAMPLE_TYPE = UNSIGNED_INTEGER
  SAMPLE_BITS = 8
  BANDS = 1
  BAND_STORAGE_TYPE = BAND_SEQUENTIAL
  MAXIMUM = 255
  MEAN = 125.647
  MINIMUM = 1
  STANDARD_DEVIATION = 29.1502
END_OBJECT = IMAGE
/* MAP OBJECT DEFINITIONS */
OBJECT = IMAGE_MAP_PROJECTION
  ^DATA_SET_MAP_PROJECTION_CATALOG= "DSMAP.CAT"
  A_AXIS_RADIUS = 3396.0
  B_AXIS_RADIUS = 3396.0
  C_AXIS_RADIUS = 3396.0
  CENTER_LATITUDE = 0.0
  CENTER_LONGITUDE = 96.0
  COORDINATE_SYSTEM_NAME = PLANETOGRAPHIC
  COORDINATE_SYSTEM_TYPE = "BODY-FIXED ROTATING"
  EASTERNMOST_LONGITUDE = 96.2662
  FIRST_STANDARD_PARALLEL = "N/A"
  LINE_FIRST_PIXEL = 1
  LINE_LAST_PIXEL = 17607
  LINE_PROJECTION_OFFSET = 6628.125
  MAP_PROJECTION_ROTATION = 0.0
  MAP_PROJECTION_TYPE = SINUSOIDAL
  MAP_RESOLUTION = 1185.42760773333
  MAP_SCALE = 0.05
  MAXIMUM_LATITUDE = 5.58807
  MINIMUM_LATITUDE = -9.2638
  POSITIVE_LONGITUDE_DIRECTION = EAST
  REFERENCE_LATITUDE = "N/A"
  REFERENCE_LONGITUDE = "N/A"
  SAMPLE_FIRST_PIXEL = 1
  SAMPLE_LAST_PIXEL = 1824
  SAMPLE_PROJECTION_OFFSET = 1509.125
  SECOND_STANDARD_PARALLEL = "N/A"
  WESTERNMOST_LONGITUDE = 94.7347
END_OBJECT = IMAGE_MAP_PROJECTION
END
