PDS_VERSION_ID = PDS3
/* FILE DATA ELEMENTS */
RECORD_TYPE = UNDEFINED
/* POINTERS TO DATA OBJECTS */
^IMAGE = ("HG662_0000_P14.TIF")
/* IDENTIFICATION DATA ELEMENTS */
DATA_SET_ID = "MEX-M-HRSC-4-REFDR-MAPPROJECT-EXT6-V4.0"
DATA_SET_NAME = "MARS EXPRESS HRSC MAP PROJECTED REFDR EXTENSION6 V4.0"
DETECTOR_ID = MEX_HRSC_P1
EVENT_TYPE = "MARS-LOCAL-MAPPING-Tc-Ot"
INSTRUMENT_HOST_ID = MEX
INSTRUMENT_HOST_NAME = "MARS EXPRESS"
INSTRUMENT_ID = HRSC
INSTRUMENT_NAME = "HIGH RESOLUTION STEREO CAMERA"
MISSION_NAME = "MARS EXPRESS"
MISSION_PHASE_NAME = ME_Phase_36
PROCESSING_LEVEL_ID = 4
PRODUCT_CREATION_TIME = 2023-01-26T14:39:22.000Z
PRODUCT_ID = "HG662_0000_P14.TIF"
RELEASE_ID = 0001
REVISION_ID = 0000
/* QUALITY DATA ELEMENTS */
DATA_QUALITY_ID = 1
DATA_QUALITY_DESC = "Data calculated based on original SPICE kernels"
/* TIME DATA ELEMENTS */
SPACECRAFT_CLOCK_START_COUNT = "1/0436170598.09060"
SPACECRAFT_CLOCK_STOP_COUNT = "1/0436170797.27292"
START_TIME = 2017-02-26T06:30:58.133Z
STOP_TIME = 2017-02-26T06:33:10.124Z
/* ORBITAL DATA ELEMENTS */
ASCENDING_NODE_LONGITUDE = 260.96
MAXIMUM_RESOLUTION = 0.029
FOOTPRINT_POINT_LATITUDE = (-6.01291,-6.00496,-5.9993,-5.99378, -5.98841,-5.98318,-5.97808,-5.97776, -5.98414,-5.75462,-5.52541,-5.37268, -5.22012,-4.99133,-4.83886,-4.68659, -4.53427,-4.38209,-4.22956,-4.00135, -3.54674,-3.24364,-3.01671,-2.71398, -2.41214,-2.25304,-2.07315,-1.89331, -1.71379,-1.53409,-1.3548,-1.17563, -0.906998,-0.728207,-0.549483,-0.370878 ,-0.19244,-0.0140109,0.16423,0.342207, 0.519934,0.69739,0.874684,1.14033, 1.31746,1.49447,1.67101,1.84761,2.02404 ,2.20027,2.28802,2.30844,2.30415, 2.29879,2.29439,2.28903,2.28017,2.2739, 2.27349,2.27286,2.09681,1.83206,1.65555 ,1.47882,1.30228,1.03689,0.860065, 0.682705,0.50495,0.326913,0.14838, -0.0298355,-0.208024,-0.386301,-0.65383 ,-0.921898,-1.19024,-1.45906,-1.63834, -1.81774,-1.99741,-2.17738,-2.50528, -2.73215,-2.95933,-3.18664,-3.49014, -3.79356,-4.17269,-4.40028,-4.70459, -4.85691,-5.08578,-5.23827,-5.39122, -5.61997,-5.77265,-5.92555,-6.00205, -6.01291)
FOOTPRINT_POINT_LONGITUDE = (356.416,356.138,355.938,355.741, 355.546,355.354,355.163,355.151,355.149 ,355.146,355.142,355.14,355.138,355.134 ,355.132,355.13,355.127,355.125,355.122 ,355.118,355.111,355.106,355.102, 355.097,355.091,355.089,355.085,355.082 ,355.079,355.075,355.072,355.069, 355.063,355.06,355.056,355.053,355.049, 355.046,355.042,355.039,355.035,355.031 ,355.028,355.022,355.018,355.015, 355.011,355.007,355.003,354.999,354.997 ,354.997,355.184,355.44,355.618,355.838 ,356.173,356.4,356.414,356.419,356.418, 356.418,356.417,356.417,356.416,356.415 ,356.414,356.414,356.414,356.414, 356.414,356.414,356.414,356.414,356.413 ,356.413,356.413,356.413,356.413, 356.413,356.413,356.413,356.414,356.414 ,356.415,356.416,356.417,356.418, 356.419,356.419,356.42,356.42,356.421, 356.422,356.423,356.423,356.424,356.424 ,356.424,356.416)
ORBIT_NUMBER = 16662
ORBITAL_ECCENTRICITY = 0.578
ORBITAL_INCLINATION = 86.92
ORBITAL_SEMIMAJOR_AXIS = 8853.36
PERIAPSIS_ALTITUDE = 337.38
PERIAPSIS_ARGUMENT_ANGLE = 347.03
PERIAPSIS_TIME = 2017-02-26T06:28:51.000Z
SPACECRAFT_ORIENTATION = (0.0,1.0,0.0)
^MEX_ORIENTATION_DESC = "MEX_ORIENTATION_DESC.TXT"
SPACECRAFT_POINTING_MODE = ACROSSTRACK
^MEX_POINTING_DESC = "MEX_POINTING_DESC.TXT"
RIGHT_ASCENSION = -1e+32
DECLINATION = -1e+32
OFFSET_ANGLE = -0.916
SPACECRAFT_SOLAR_DISTANCE = 2.19856e+08
TARGET_NAME = MARS
/* CAMERA DATA ELEMENTS */
DETECTOR_TEMPERATURE = 17.5549
FOCAL_PLANE_TEMPERATURE = 8.1755
INST_CMPRS_NAME = "DISCRETE COSINE TRANSFORMATION (DCT)"
INST_CMPRS_RATIO = 12.5327
INST_CMPRS_QUALITY = 0
INST_CMPRS_QUANTZ_TBL_ID = 0
INSTRUMENT_TEMPERATURE = 11.4379
LENS_TEMPERATURE = 8.7872
MACROPIXEL_SIZE = 2
MISSING_FRAMES = 0
PIXEL_SUBSAMPLING_FLAG = N
SIGNAL_CHAIN_ID = 3
/* RADIOMETRIC DATA ELEMENTS */
BANDWIDTH = 174.0
CENTER_FILTER_WAVELENGTH = 675.0
RADIANCE_OFFSET = 3.17156
RADIANCE_SCALING_FACTOR = 0.00527652
REFLECTANCE_SCALING_FACTOR = 0.000137186
MEX:REFLECTANCE_OFFSET = 0.0824583
/* IMAGE OBJECT DEFINITIONS */
OBJECT = IMAGE
  INTERCHANGE_FORMAT = BINARY
  LINES = 19715
  LINE_SAMPLES = 3316
  SAMPLE_TYPE = UNSIGNED_INTEGER
  SAMPLE_BITS = 8
  BANDS = 1
  BAND_STORAGE_TYPE = BAND_SEQUENTIAL
  MAXIMUM = 255
  MEAN = 116.539
  MINIMUM = 1
  STANDARD_DEVIATION = 48.9396
END_OBJECT = IMAGE
/* MAP OBJECT DEFINITIONS */
OBJECT = IMAGE_MAP_PROJECTION
  ^DATA_SET_MAP_PROJECTION_CATALOG= "DSMAP.CAT"
  A_AXIS_RADIUS = 3396.0
  B_AXIS_RADIUS = 3396.0
  C_AXIS_RADIUS = 3396.0
  CENTER_LATITUDE = 0.0
  CENTER_LONGITUDE = 356.0
  COORDINATE_SYSTEM_NAME = PLANETOGRAPHIC
  COORDINATE_SYSTEM_TYPE = "BODY-FIXED ROTATING"
  EASTERNMOST_LONGITUDE = 356.424
  FIRST_STANDARD_PARALLEL = "N/A"
  LINE_FIRST_PIXEL = 1
  LINE_LAST_PIXEL = 19715
  LINE_PROJECTION_OFFSET = 5474.25
  MAP_PROJECTION_ROTATION = 0.0
  MAP_PROJECTION_TYPE = SINUSOIDAL
  MAP_RESOLUTION = 2370.85521546667
  MAP_SCALE = 0.025
  MAXIMUM_LATITUDE = 2.30844
  MINIMUM_LATITUDE = -6.01291
  POSITIVE_LONGITUDE_DIRECTION = EAST
  REFERENCE_LATITUDE = "N/A"
  REFERENCE_LONGITUDE = "N/A"
  SAMPLE_FIRST_PIXEL = 1
  SAMPLE_LAST_PIXEL = 3316
  SAMPLE_PROJECTION_OFFSET = 2340.75
  SECOND_STANDARD_PARALLEL = "N/A"
  WESTERNMOST_LONGITUDE = 354.997
END_OBJECT = IMAGE_MAP_PROJECTION
END
