PDS_VERSION_ID = PDS3
/* FILE DATA ELEMENTS */
RECORD_TYPE = UNDEFINED
/* POINTERS TO DATA OBJECTS */
^IMAGE = ("HG662_0000_P24.TIF")
/* IDENTIFICATION DATA ELEMENTS */
DATA_SET_ID = "MEX-M-HRSC-4-REFDR-MAPPROJECT-EXT6-V4.0"
DATA_SET_NAME = "MARS EXPRESS HRSC MAP PROJECTED REFDR EXTENSION6 V4.0"
DETECTOR_ID = MEX_HRSC_P2
EVENT_TYPE = "MARS-LOCAL-MAPPING-Tc-Ot"
INSTRUMENT_HOST_ID = MEX
INSTRUMENT_HOST_NAME = "MARS EXPRESS"
INSTRUMENT_ID = HRSC
INSTRUMENT_NAME = "HIGH RESOLUTION STEREO CAMERA"
MISSION_NAME = "MARS EXPRESS"
MISSION_PHASE_NAME = ME_Phase_36
PROCESSING_LEVEL_ID = 4
PRODUCT_CREATION_TIME = 2023-01-26T14:39:22.000Z
PRODUCT_ID = "HG662_0000_P24.TIF"
RELEASE_ID = 0001
REVISION_ID = 0000
/* QUALITY DATA ELEMENTS */
DATA_QUALITY_ID = 1
DATA_QUALITY_DESC = "Data calculated based on original SPICE kernels"
/* TIME DATA ELEMENTS */
SPACECRAFT_CLOCK_START_COUNT = "1/0436170598.09060"
SPACECRAFT_CLOCK_STOP_COUNT = "1/0436170797.27292"
START_TIME = 2017-02-26T06:30:16.599Z
STOP_TIME = 2017-02-26T06:32:23.142Z
/* ORBITAL DATA ELEMENTS */
ASCENDING_NODE_LONGITUDE = 260.96
MAXIMUM_RESOLUTION = 0.0285
FOOTPRINT_POINT_LATITUDE = (-5.96556,-5.98018,-5.99037,-6.0002, -6.00962,-6.01872,-6.02752,-6.02806, -6.02031,-5.86078,-5.7008,-5.54123, -5.38142,-5.22156,-4.98193,-4.82222, -4.66238,-4.50266,-4.34296,-4.18352, -4.02387,-3.86387,-3.62402,-3.46418, -3.22477,-2.98491,-2.58586,-2.42606, -2.2664,-2.10669,-1.94709,-1.7873, -1.62786,-1.3884,-1.22876,-1.06929, -0.909738,-0.750143,-0.431268,-0.112538 ,0.12627,0.44496,0.718541,0.908803, 1.19388,1.47875,1.66884,1.85865,2.14327 ,2.23847,2.27457,2.28291,2.29561, 2.30415,2.31661,2.32643,2.33724,2.33799 ,2.33772,2.05294,1.76849,1.57858, 1.38852,1.19823,0.912667,0.722183, 0.538425,0.220733,-0.0978505,-0.257312, -0.416921,-0.576802,-0.736255,-0.895987 ,-1.05583,-1.37485,-1.5347,-1.69441, -1.85423,-2.01391,-2.25332,-2.41306, -2.57262,-2.89137,-3.05103,-3.36983, -3.52955,-3.76905,-3.92915,-4.16903, -4.40939,-4.56944,-4.72911,-4.96863, -5.20813,-5.44806,-5.68784,-5.84762, -5.92747,-5.96556)
FOOTPRINT_POINT_LONGITUDE = (356.404,356.131,355.935,355.741,355.55 ,355.361,355.174,355.162,355.16,355.158 ,355.156,355.154,355.152,355.15,355.146 ,355.144,355.142,355.14,355.138,355.135 ,355.133,355.131,355.127,355.125, 355.122,355.118,355.112,355.109,355.107 ,355.104,355.102,355.099,355.097, 355.093,355.09,355.087,355.085,355.082, 355.077,355.071,355.067,355.061,355.056 ,355.053,355.047,355.042,355.038, 355.035,355.029,355.028,355.027,355.218 ,355.503,355.686,355.951,356.152, 356.369,356.383,356.388,356.387,356.388 ,356.388,356.388,356.387,356.387, 356.387,356.387,356.389,356.389,356.39, 356.39,356.39,356.39,356.39,356.39, 356.391,356.391,356.392,356.392,356.393 ,356.394,356.394,356.395,356.397, 356.398,356.4,356.401,356.402,356.402, 356.403,356.404,356.404,356.405,356.407 ,356.408,356.41,356.411,356.412,356.413 ,356.404)
ORBIT_NUMBER = 16662
ORBITAL_ECCENTRICITY = 0.578
ORBITAL_INCLINATION = 86.92
ORBITAL_SEMIMAJOR_AXIS = 8853.36
PERIAPSIS_ALTITUDE = 337.38
PERIAPSIS_ARGUMENT_ANGLE = 347.03
PERIAPSIS_TIME = 2017-02-26T06:28:51.000Z
SPACECRAFT_ORIENTATION = (0.0,1.0,0.0)
^MEX_ORIENTATION_DESC = "MEX_ORIENTATION_DESC.TXT"
SPACECRAFT_POINTING_MODE = ACROSSTRACK
^MEX_POINTING_DESC = "MEX_POINTING_DESC.TXT"
RIGHT_ASCENSION = -1e+32
DECLINATION = -1e+32
OFFSET_ANGLE = -0.916
SPACECRAFT_SOLAR_DISTANCE = 2.19856e+08
TARGET_NAME = MARS
/* CAMERA DATA ELEMENTS */
DETECTOR_TEMPERATURE = 18.1666
FOCAL_PLANE_TEMPERATURE = 8.1755
INST_CMPRS_NAME = "DISCRETE COSINE TRANSFORMATION (DCT)"
INST_CMPRS_RATIO = 8.10922
INST_CMPRS_QUALITY = 0
INST_CMPRS_QUANTZ_TBL_ID = 0
INSTRUMENT_TEMPERATURE = 11.4379
LENS_TEMPERATURE = 8.7872
MACROPIXEL_SIZE = 2
MISSING_FRAMES = 0
PIXEL_SUBSAMPLING_FLAG = N
SIGNAL_CHAIN_ID = 3
/* RADIOMETRIC DATA ELEMENTS */
BANDWIDTH = 177.0
CENTER_FILTER_WAVELENGTH = 676.5
RADIANCE_OFFSET = 3.13505
RADIANCE_SCALING_FACTOR = 0.00517655
REFLECTANCE_SCALING_FACTOR = 0.00013267
MEX:REFLECTANCE_OFFSET = 0.0803484
/* IMAGE OBJECT DEFINITIONS */
OBJECT = IMAGE
  INTERCHANGE_FORMAT = BINARY
  LINES = 19715
  LINE_SAMPLES = 3316
  SAMPLE_TYPE = UNSIGNED_INTEGER
  SAMPLE_BITS = 8
  BANDS = 1
  BAND_STORAGE_TYPE = BAND_SEQUENTIAL
  MAXIMUM = 255
  MEAN = 113.224
  MINIMUM = 1
  STANDARD_DEVIATION = 48.4351
END_OBJECT = IMAGE
/* MAP OBJECT DEFINITIONS */
OBJECT = IMAGE_MAP_PROJECTION
  ^DATA_SET_MAP_PROJECTION_CATALOG= "DSMAP.CAT"
  A_AXIS_RADIUS = 3396.0
  B_AXIS_RADIUS = 3396.0
  C_AXIS_RADIUS = 3396.0
  CENTER_LATITUDE = 0.0
  CENTER_LONGITUDE = 356.0
  COORDINATE_SYSTEM_NAME = PLANETOGRAPHIC
  COORDINATE_SYSTEM_TYPE = "BODY-FIXED ROTATING"
  EASTERNMOST_LONGITUDE = 356.413
  FIRST_STANDARD_PARALLEL = "N/A"
  LINE_FIRST_PIXEL = 1
  LINE_LAST_PIXEL = 19715
  LINE_PROJECTION_OFFSET = 5474.25
  MAP_PROJECTION_ROTATION = 0.0
  MAP_PROJECTION_TYPE = SINUSOIDAL
  MAP_RESOLUTION = 2370.85521546667
  MAP_SCALE = 0.025
  MAXIMUM_LATITUDE = 2.33799
  MINIMUM_LATITUDE = -6.02806
  POSITIVE_LONGITUDE_DIRECTION = EAST
  REFERENCE_LATITUDE = "N/A"
  REFERENCE_LONGITUDE = "N/A"
  SAMPLE_FIRST_PIXEL = 1
  SAMPLE_LAST_PIXEL = 3316
  SAMPLE_PROJECTION_OFFSET = 2340.75
  SECOND_STANDARD_PARALLEL = "N/A"
  WESTERNMOST_LONGITUDE = 355.027
END_OBJECT = IMAGE_MAP_PROJECTION
END
