PDS_VERSION_ID = PDS3
/* FILE DATA ELEMENTS */
RECORD_TYPE = UNDEFINED
/* POINTERS TO DATA OBJECTS */
^IMAGE = ("HG670_0000_ND4.TIF")
/* IDENTIFICATION DATA ELEMENTS */
DATA_SET_ID = "MEX-M-HRSC-4-REFDR-MAPPROJECT-EXT6-V4.0"
DATA_SET_NAME = "MARS EXPRESS HRSC MAP PROJECTED REFDR EXTENSION6 V4.0"
DETECTOR_ID = MEX_HRSC_NADIR
EVENT_TYPE = "MARS-REGIONAL-STEREO-Vo-Te-Gl"
INSTRUMENT_HOST_ID = MEX
INSTRUMENT_HOST_NAME = "MARS EXPRESS"
INSTRUMENT_ID = HRSC
INSTRUMENT_NAME = "HIGH RESOLUTION STEREO CAMERA"
MISSION_NAME = "MARS EXPRESS"
MISSION_PHASE_NAME = ME_Phase_36
PROCESSING_LEVEL_ID = 4
PRODUCT_CREATION_TIME = 2023-01-26T14:39:22.000Z
PRODUCT_ID = "HG670_0000_ND4.TIF"
RELEASE_ID = 0001
REVISION_ID = 0000
/* QUALITY DATA ELEMENTS */
DATA_QUALITY_ID = 1
DATA_QUALITY_DESC = "Data calculated based on original SPICE kernels"
/* TIME DATA ELEMENTS */
SPACECRAFT_CLOCK_START_COUNT = "1/0436372009.07311"
SPACECRAFT_CLOCK_STOP_COUNT = "1/0436372175.55649"
START_TIME = 2017-02-28T14:27:27.217Z
STOP_TIME = 2017-02-28T14:29:09.219Z
/* ORBITAL DATA ELEMENTS */
ASCENDING_NODE_LONGITUDE = 260.81
MAXIMUM_RESOLUTION = 0.0132
FOOTPRINT_POINT_LATITUDE = (-11.617,-11.6186,-11.6199,-11.6211, -11.6222,-11.6233,-11.6242,-11.6243, -11.6249,-11.2367,-10.978,-10.7193, -10.396,-10.1374,-10.0045,-9.87098, -9.73744,-9.60391,-9.47041,-9.33692, -9.20345,-9.06999,-8.93656,-8.80315, -8.66976,-8.53639,-8.40304,-8.26971, -8.13641,-8.00314,-7.80323,-7.60345, -7.47027,-7.33707,-7.20392,-7.07075, -6.93776,-6.73825,-6.60524,-6.47226, -6.27283,-6.13981,-6.00701,-5.80781, -5.67501,-5.54221,-5.27681,-5.07783, -5.01151,-4.99483,-4.99286,-4.99146, -4.98942,-4.98659,-4.98435,-4.98424, -4.9844,-5.1172,-5.24999,-5.38277, -5.51558,-5.64841,-5.78121,-5.91408, -6.11325,-6.24619,-6.37937,-6.51257, -6.64566,-6.8452,-6.97835,-7.11156, -7.24473,-7.44431,-7.57764,-7.77753, -7.91095,-8.04429,-8.17765,-8.31102, -8.44442,-8.57784,-8.71123,-8.84468, -8.97824,-9.11174,-9.24526,-9.3788, -9.51237,-9.64595,-9.77954,-9.91316, -10.1135,-10.3722,-10.6309,-10.8897, -11.1486,-11.537,-11.6017,-11.617)
FOOTPRINT_POINT_LONGITUDE = (257.049,256.835,256.658,256.468, 256.279,256.067,255.866,255.854,255.861 ,255.859,255.857,255.855,255.853, 255.851,255.85,255.849,255.848,255.847, 255.846,255.844,255.843,255.842,255.841 ,255.84,255.838,255.837,255.836,255.834 ,255.833,255.832,255.829,255.828, 255.826,255.824,255.822,255.82,255.819, 255.818,255.816,255.815,255.812,255.808 ,255.807,255.806,255.804,255.801, 255.798,255.795,255.794,255.794,256.043 ,256.209,256.448,256.769,256.987, 256.999,257.005,257.004,257.003,257.003 ,257.003,257.003,257.004,257.005, 257.009,257.01,257.007,257.005,257.005, 257.007,257.007,257.007,257.008,257.012 ,257.012,257.013,257.012,257.012, 257.013,257.014,257.014,257.015,257.016 ,257.017,257.017,257.018,257.019, 257.019,257.02,257.021,257.022,257.022, 257.023,257.025,257.026,257.028,257.03, 257.032,257.033,257.049)
ORBIT_NUMBER = 16670
ORBITAL_ECCENTRICITY = 0.579
ORBITAL_INCLINATION = 86.92
ORBITAL_SEMIMAJOR_AXIS = 8866.23
PERIAPSIS_ALTITUDE = 336.15
PERIAPSIS_ARGUMENT_ANGLE = 345.65
PERIAPSIS_TIME = 2017-02-28T14:26:47.000Z
SPACECRAFT_ORIENTATION = (0.0,1.0,0.0)
^MEX_ORIENTATION_DESC = "MEX_ORIENTATION_DESC.TXT"
SPACECRAFT_POINTING_MODE = ACROSSTRACK
^MEX_POINTING_DESC = "MEX_POINTING_DESC.TXT"
RIGHT_ASCENSION = -1e+32
DECLINATION = -1e+32
OFFSET_ANGLE = -0.05
SPACECRAFT_SOLAR_DISTANCE = 2.20293e+08
TARGET_NAME = MARS
/* CAMERA DATA ELEMENTS */
DETECTOR_TEMPERATURE = 18.3705
FOCAL_PLANE_TEMPERATURE = 8.7872
INST_CMPRS_NAME = "DISCRETE COSINE TRANSFORMATION (DCT)"
INST_CMPRS_RATIO = 7.07573
INST_CMPRS_QUALITY = 0
INST_CMPRS_QUANTZ_TBL_ID = 0
INSTRUMENT_TEMPERATURE = 10.4184
LENS_TEMPERATURE = 9.6028
MACROPIXEL_SIZE = 1
MISSING_FRAMES = 0
PIXEL_SUBSAMPLING_FLAG = N
SIGNAL_CHAIN_ID = 0
/* RADIOMETRIC DATA ELEMENTS */
BANDWIDTH = 177.0
CENTER_FILTER_WAVELENGTH = 677.5
RADIANCE_OFFSET = 2.61097
RADIANCE_SCALING_FACTOR = 0.0212366
REFLECTANCE_SCALING_FACTOR = 0.000547487
MEX:REFLECTANCE_OFFSET = 0.0673115
/* IMAGE OBJECT DEFINITIONS */
OBJECT = IMAGE
  INTERCHANGE_FORMAT = BINARY
  LINES = 31488
  LINE_SAMPLES = 5773
  SAMPLE_TYPE = UNSIGNED_INTEGER
  SAMPLE_BITS = 8
  BANDS = 1
  BAND_STORAGE_TYPE = BAND_SEQUENTIAL
  MAXIMUM = 255
  MEAN = 99.1948
  MINIMUM = 1
  STANDARD_DEVIATION = 24.1782
END_OBJECT = IMAGE
/* MAP OBJECT DEFINITIONS */
OBJECT = IMAGE_MAP_PROJECTION
  ^DATA_SET_MAP_PROJECTION_CATALOG= "DSMAP.CAT"
  A_AXIS_RADIUS = 3396.0
  B_AXIS_RADIUS = 3396.0
  C_AXIS_RADIUS = 3396.0
  CENTER_LATITUDE = 0.0
  CENTER_LONGITUDE = 256.0
  COORDINATE_SYSTEM_NAME = PLANETOGRAPHIC
  COORDINATE_SYSTEM_TYPE = "BODY-FIXED ROTATING"
  EASTERNMOST_LONGITUDE = 257.049
  FIRST_STANDARD_PARALLEL = "N/A"
  LINE_FIRST_PIXEL = 1
  LINE_LAST_PIXEL = 31488
  LINE_PROJECTION_OFFSET = -23636.0
  MAP_PROJECTION_ROTATION = 0.0
  MAP_PROJECTION_TYPE = SINUSOIDAL
  MAP_RESOLUTION = 4741.71043093333
  MAP_SCALE = 0.0125
  MAXIMUM_LATITUDE = -4.98424
  MINIMUM_LATITUDE = -11.6249
  POSITIVE_LONGITUDE_DIRECTION = EAST
  REFERENCE_LATITUDE = "N/A"
  REFERENCE_LONGITUDE = "N/A"
  SAMPLE_FIRST_PIXEL = 1
  SAMPLE_LAST_PIXEL = 5773
  SAMPLE_PROJECTION_OFFSET = 974.0
  SECOND_STANDARD_PARALLEL = "N/A"
  WESTERNMOST_LONGITUDE = 255.794
END_OBJECT = IMAGE_MAP_PROJECTION
END
