PDS_VERSION_ID = PDS3
/* FILE DATA ELEMENTS */
RECORD_TYPE = UNDEFINED
/* POINTERS TO DATA OBJECTS */
^IMAGE = ("HG672_0000_IR4.TIF")
/* IDENTIFICATION DATA ELEMENTS */
DATA_SET_ID = "MEX-M-HRSC-4-REFDR-MAPPROJECT-EXT6-V4.0"
DATA_SET_NAME = "MARS EXPRESS HRSC MAP PROJECTED REFDR EXTENSION6 V4.0"
DETECTOR_ID = MEX_HRSC_IR
EVENT_TYPE = "MARS-REGIONAL-MAPPING-Im-Fl-Gl"
INSTRUMENT_HOST_ID = MEX
INSTRUMENT_HOST_NAME = "MARS EXPRESS"
INSTRUMENT_ID = HRSC
INSTRUMENT_NAME = "HIGH RESOLUTION STEREO CAMERA"
MISSION_NAME = "MARS EXPRESS"
MISSION_PHASE_NAME = ME_Phase_36
PROCESSING_LEVEL_ID = 4
PRODUCT_CREATION_TIME = 2023-01-26T14:39:22.000Z
PRODUCT_ID = "HG672_0000_IR4.TIF"
RELEASE_ID = 0001
REVISION_ID = 0000
/* QUALITY DATA ELEMENTS */
DATA_QUALITY_ID = 1
DATA_QUALITY_DESC = "Data calculated based on original SPICE kernels"
/* TIME DATA ELEMENTS */
SPACECRAFT_CLOCK_START_COUNT = "1/0436421953.07310"
SPACECRAFT_CLOCK_STOP_COUNT = "1/0436422201.38925"
START_TIME = 2017-03-01T04:20:42.935Z
STOP_TIME = 2017-03-01T04:23:21.962Z
/* ORBITAL DATA ELEMENTS */
ASCENDING_NODE_LONGITUDE = 260.77
MAXIMUM_RESOLUTION = 0.0609
FOOTPRINT_POINT_LATITUDE = (-37.854,-37.845,-37.8389,-37.8324, -37.8255,-37.8183,-37.8106,-37.8101, -37.8814,-37.666,-37.4515,-37.2373, -37.0228,-36.813,-36.6025,-36.3925, -35.9759,-35.7674,-35.5626,-35.3547, -35.1428,-34.8315,-34.6285,-34.3252, -34.1225,-33.7263,-33.5256,-33.3241, -33.1221,-32.8169,-32.6122,-32.4109, -32.2062,-31.9971,-31.695,-31.3941, -31.1931,-30.9923,-30.7899,-30.3865, -29.9881,-29.7869,-29.5845,-29.1829, -28.9755,-28.773,-28.5728,-28.1768, -27.9274,-27.5891,-27.505,-27.4404, -27.4513,-27.4548,-27.465,-27.4675, -27.4677,-27.4687,-27.9007,-28.2393, -28.6388,-28.8405,-29.1426,-29.347, -29.5486,-29.7506,-29.9522,-30.2546, -30.4575,-30.6589,-30.864,-31.1694, -31.373,-31.6764,-31.9794,-32.1814, -32.4847,-32.6885,-32.891,-33.0929, -33.2961,-33.5991,-33.901,-34.1017, -34.4021,-34.6025,-34.8082,-35.0132, -35.2187,-35.5269,-35.7327,-36.0456, -36.463,-36.6728,-36.8824,-37.2018, -37.4163,-37.739,-37.8465,-37.854)
FOOTPRINT_POINT_LONGITUDE = (53.3106,52.8406,52.5534,52.2677, 51.9837,51.7011,51.4196,51.402,51.3851, 51.3946,51.4038,51.4127,51.4215,51.43, 51.4385,51.4468,51.4626,51.4703,51.4778 ,51.4855,51.4937,51.5048,51.5113, 51.5214,51.5281,51.54,51.5461,51.5522, 51.5582,51.5673,51.5733,51.5788,51.5846 ,51.5908,51.5985,51.6058,51.6106, 51.6152,51.62,51.6289,51.637,51.6411, 51.6452,51.6528,51.6571,51.6609,51.6643 ,51.671,51.6748,51.6801,51.6814,51.6824 ,51.9873,52.2681,52.7285,53.1081, 53.1218,53.1264,53.1408,53.147,53.1538, 53.1574,53.1625,53.1683,53.1719,53.176, 53.1798,53.1856,53.1905,53.1943,53.2011 ,53.2096,53.2153,53.2225,53.2294, 53.2341,53.2416,53.248,53.2534,53.2583, 53.2644,53.2722,53.2794,53.2838,53.2901 ,53.2945,53.2991,53.3032,53.3077, 53.3145,53.3195,53.3269,53.3362,53.3407 ,53.3451,53.3531,53.3575,53.365,53.3675 ,53.3106)
ORBIT_NUMBER = 16672
ORBITAL_ECCENTRICITY = 0.579
ORBITAL_INCLINATION = 86.94
ORBITAL_SEMIMAJOR_AXIS = 8857.56
PERIAPSIS_ALTITUDE = 336.19
PERIAPSIS_ARGUMENT_ANGLE = 345.34
PERIAPSIS_TIME = 2017-03-01T04:26:13.000Z
SPACECRAFT_ORIENTATION = (0.0,1.0,0.0)
^MEX_ORIENTATION_DESC = "MEX_ORIENTATION_DESC.TXT"
SPACECRAFT_POINTING_MODE = ACROSSTRACK
^MEX_POINTING_DESC = "MEX_POINTING_DESC.TXT"
RIGHT_ASCENSION = -1e+32
DECLINATION = -1e+32
OFFSET_ANGLE = -0.5
SPACECRAFT_SOLAR_DISTANCE = 2.20403e+08
TARGET_NAME = MARS
/* CAMERA DATA ELEMENTS */
DETECTOR_TEMPERATURE = 17.7588
FOCAL_PLANE_TEMPERATURE = 8.5833
INST_CMPRS_NAME = "DISCRETE COSINE TRANSFORMATION (DCT)"
INST_CMPRS_RATIO = 10.9119
INST_CMPRS_QUALITY = 0
INST_CMPRS_QUANTZ_TBL_ID = 0
INSTRUMENT_TEMPERATURE = 11.234
LENS_TEMPERATURE = 8.7872
MACROPIXEL_SIZE = 4
PIXEL_SUBSAMPLING_FLAG = N
SIGNAL_CHAIN_ID = 2
/* RADIOMETRIC DATA ELEMENTS */
BANDWIDTH = 81.0
CENTER_FILTER_WAVELENGTH = 955.5
RADIANCE_OFFSET = 0.574953
RADIANCE_SCALING_FACTOR = 0.00330433
REFLECTANCE_SCALING_FACTOR = 0.000346293
MEX:REFLECTANCE_OFFSET = 0.060255
/* IMAGE OBJECT DEFINITIONS */
OBJECT = IMAGE
  INTERCHANGE_FORMAT = BINARY
  LINES = 12360
  LINE_SAMPLES = 1940
  SAMPLE_TYPE = UNSIGNED_INTEGER
  SAMPLE_BITS = 8
  BANDS = 1
  BAND_STORAGE_TYPE = BAND_SEQUENTIAL
  MAXIMUM = 255
  MEAN = 128.189
  MINIMUM = 1
  STANDARD_DEVIATION = 53.6417
END_OBJECT = IMAGE
/* MAP OBJECT DEFINITIONS */
OBJECT = IMAGE_MAP_PROJECTION
  ^DATA_SET_MAP_PROJECTION_CATALOG= "DSMAP.CAT"
  A_AXIS_RADIUS = 3396.0
  B_AXIS_RADIUS = 3396.0
  C_AXIS_RADIUS = 3396.0
  CENTER_LATITUDE = 0.0
  CENTER_LONGITUDE = 52.0
  COORDINATE_SYSTEM_NAME = PLANETOGRAPHIC
  COORDINATE_SYSTEM_TYPE = "BODY-FIXED ROTATING"
  EASTERNMOST_LONGITUDE = 53.3675
  FIRST_STANDARD_PARALLEL = "N/A"
  LINE_FIRST_PIXEL = 1
  LINE_LAST_PIXEL = 12360
  LINE_PROJECTION_OFFSET = -32554.375
  MAP_PROJECTION_ROTATION = 0.0
  MAP_PROJECTION_TYPE = SINUSOIDAL
  MAP_RESOLUTION = 1185.42760773333
  MAP_SCALE = 0.05
  MAXIMUM_LATITUDE = -27.4404
  MINIMUM_LATITUDE = -37.8814
  POSITIVE_LONGITUDE_DIRECTION = EAST
  REFERENCE_LATITUDE = "N/A"
  REFERENCE_LONGITUDE = "N/A"
  SAMPLE_FIRST_PIXEL = 1
  SAMPLE_LAST_PIXEL = 1940
  SAMPLE_PROJECTION_OFFSET = 626.875
  SECOND_STANDARD_PARALLEL = "N/A"
  WESTERNMOST_LONGITUDE = 51.3851
END_OBJECT = IMAGE_MAP_PROJECTION
END
