PDS_VERSION_ID = PDS3
/* FILE DATA ELEMENTS */
RECORD_TYPE = UNDEFINED
/* POINTERS TO DATA OBJECTS */
^IMAGE = ("HG672_0000_RE4.TIF")
/* IDENTIFICATION DATA ELEMENTS */
DATA_SET_ID = "MEX-M-HRSC-4-REFDR-MAPPROJECT-EXT6-V4.0"
DATA_SET_NAME = "MARS EXPRESS HRSC MAP PROJECTED REFDR EXTENSION6 V4.0"
DETECTOR_ID = MEX_HRSC_RED
EVENT_TYPE = "MARS-REGIONAL-MAPPING-Im-Fl-Gl"
INSTRUMENT_HOST_ID = MEX
INSTRUMENT_HOST_NAME = "MARS EXPRESS"
INSTRUMENT_ID = HRSC
INSTRUMENT_NAME = "HIGH RESOLUTION STEREO CAMERA"
MISSION_NAME = "MARS EXPRESS"
MISSION_PHASE_NAME = ME_Phase_36
PROCESSING_LEVEL_ID = 4
PRODUCT_CREATION_TIME = 2023-01-26T14:39:22.000Z
PRODUCT_ID = "HG672_0000_RE4.TIF"
RELEASE_ID = 0001
REVISION_ID = 0000
/* QUALITY DATA ELEMENTS */
DATA_QUALITY_ID = 1
DATA_QUALITY_DESC = "Data calculated based on original SPICE kernels"
/* TIME DATA ELEMENTS */
SPACECRAFT_CLOCK_START_COUNT = "1/0436421953.07310"
SPACECRAFT_CLOCK_STOP_COUNT = "1/0436422201.38925"
START_TIME = 2017-03-01T04:19:29.577Z
STOP_TIME = 2017-03-01T04:22:25.019Z
/* ORBITAL DATA ELEMENTS */
ASCENDING_NODE_LONGITUDE = 260.77
MAXIMUM_RESOLUTION = 0.0644
FOOTPRINT_POINT_LATITUDE = (-37.9269,-37.9359,-37.9399,-37.9426, -37.944,-37.9442,-37.9433,-37.9432, -37.8644,-37.6453,-37.3183,-37.1027, -36.8871,-36.564,-36.3519,-36.0336, -35.8208,-35.6099,-35.405,-35.2045, -34.8936,-34.6859,-34.4787,-34.2742, -33.968,-33.7611,-33.4587,-33.257, -33.0571,-32.7588,-32.3702,-31.9945, -31.6979,-31.4058,-31.2112,-30.9179, -30.6297,-30.4378,-30.1511,-29.9573, -29.7649,-29.5708,-29.1874,-28.8085, -28.5177,-28.324,-28.029,-27.8327, -27.6393,-27.5436,-27.4829,-27.4755, -27.4669,-27.4586,-27.455,-27.4546, -27.4554,-27.931,-28.1245,-28.3182, -28.5123,-28.7053,-28.8991,-29.1886, -29.4743,-29.6664,-30.0497,-30.2421, -30.6229,-30.817,-31.2015,-31.3949, -31.685,-31.8832,-32.2666,-32.4635, -32.6604,-32.9592,-33.1599,-33.4602, -33.6612,-33.8635,-34.1736,-34.4813, -34.6865,-34.8953,-35.1052,-35.3141, -35.6274,-35.8386,-36.0518,-36.2643, -36.4769,-36.6922,-36.9117,-37.1246, -37.3402,-37.67,-37.7799,-37.9269)
FOOTPRINT_POINT_LONGITUDE = (53.4136,52.8922,52.5736,52.2564, 51.9411,51.6269,51.3135,51.2939,51.2777 ,51.2891,51.3059,51.3166,51.3271, 51.3428,51.3527,51.3673,51.3768,51.386, 51.3955,51.4055,51.4189,51.4272,51.435, 51.4432,51.4553,51.4626,51.4736,51.4808 ,51.4882,51.499,51.5129,51.5263,51.5355 ,51.5442,51.5499,51.5582,51.5668, 51.5719,51.5794,51.5841,51.5888,51.5933 ,51.6026,51.6121,51.6183,51.6224, 51.6281,51.6318,51.6357,51.6377,51.6389 ,52.0885,52.4441,52.8311,53.1458, 53.1603,53.1652,53.1828,53.1874,53.1917 ,53.1956,53.2001,53.204,53.2103,53.219, 53.2235,53.2327,53.2366,53.2478,53.2538 ,53.2678,53.2738,53.2826,53.2881,53.3, 53.3064,53.3126,53.3223,53.329,53.3395, 53.3457,53.3518,53.3599,53.3691,53.3751 ,53.3807,53.3866,53.3929,53.4021,53.409 ,53.4153,53.4218,53.428,53.4345,53.439, 53.448,53.4548,53.4647,53.4682,53.4136)
ORBIT_NUMBER = 16672
ORBITAL_ECCENTRICITY = 0.579
ORBITAL_INCLINATION = 86.94
ORBITAL_SEMIMAJOR_AXIS = 8857.56
PERIAPSIS_ALTITUDE = 336.19
PERIAPSIS_ARGUMENT_ANGLE = 345.34
PERIAPSIS_TIME = 2017-03-01T04:26:13.000Z
SPACECRAFT_ORIENTATION = (0.0,1.0,0.0)
^MEX_ORIENTATION_DESC = "MEX_ORIENTATION_DESC.TXT"
SPACECRAFT_POINTING_MODE = ACROSSTRACK
^MEX_POINTING_DESC = "MEX_POINTING_DESC.TXT"
RIGHT_ASCENSION = -1e+32
DECLINATION = -1e+32
OFFSET_ANGLE = -0.5
SPACECRAFT_SOLAR_DISTANCE = 2.20403e+08
TARGET_NAME = MARS
/* CAMERA DATA ELEMENTS */
DETECTOR_TEMPERATURE = 18.5744
FOCAL_PLANE_TEMPERATURE = 8.5833
INST_CMPRS_NAME = "DISCRETE COSINE TRANSFORMATION (DCT)"
INST_CMPRS_RATIO = 18.8334
INST_CMPRS_QUALITY = 0
INST_CMPRS_QUANTZ_TBL_ID = 0
INSTRUMENT_TEMPERATURE = 11.234
LENS_TEMPERATURE = 8.7872
MACROPIXEL_SIZE = 4
PIXEL_SUBSAMPLING_FLAG = N
SIGNAL_CHAIN_ID = 2
/* RADIOMETRIC DATA ELEMENTS */
BANDWIDTH = 48.0
CENTER_FILTER_WAVELENGTH = 748.0
RADIANCE_OFFSET = 0.72285
RADIANCE_SCALING_FACTOR = 0.00351165
REFLECTANCE_SCALING_FACTOR = 0.000389286
MEX:REFLECTANCE_OFFSET = 0.080132
/* IMAGE OBJECT DEFINITIONS */
OBJECT = IMAGE
  INTERCHANGE_FORMAT = BINARY
  LINES = 12360
  LINE_SAMPLES = 1940
  SAMPLE_TYPE = UNSIGNED_INTEGER
  SAMPLE_BITS = 8
  BANDS = 1
  BAND_STORAGE_TYPE = BAND_SEQUENTIAL
  MAXIMUM = 255
  MEAN = 131.299
  MINIMUM = 1
  STANDARD_DEVIATION = 50.3139
END_OBJECT = IMAGE
/* MAP OBJECT DEFINITIONS */
OBJECT = IMAGE_MAP_PROJECTION
  ^DATA_SET_MAP_PROJECTION_CATALOG= "DSMAP.CAT"
  A_AXIS_RADIUS = 3396.0
  B_AXIS_RADIUS = 3396.0
  C_AXIS_RADIUS = 3396.0
  CENTER_LATITUDE = 0.0
  CENTER_LONGITUDE = 52.0
  COORDINATE_SYSTEM_NAME = PLANETOGRAPHIC
  COORDINATE_SYSTEM_TYPE = "BODY-FIXED ROTATING"
  EASTERNMOST_LONGITUDE = 53.4682
  FIRST_STANDARD_PARALLEL = "N/A"
  LINE_FIRST_PIXEL = 1
  LINE_LAST_PIXEL = 12360
  LINE_PROJECTION_OFFSET = -32554.375
  MAP_PROJECTION_ROTATION = 0.0
  MAP_PROJECTION_TYPE = SINUSOIDAL
  MAP_RESOLUTION = 1185.42760773333
  MAP_SCALE = 0.05
  MAXIMUM_LATITUDE = -27.4546
  MINIMUM_LATITUDE = -37.9442
  POSITIVE_LONGITUDE_DIRECTION = EAST
  REFERENCE_LATITUDE = "N/A"
  REFERENCE_LONGITUDE = "N/A"
  SAMPLE_FIRST_PIXEL = 1
  SAMPLE_LAST_PIXEL = 1940
  SAMPLE_PROJECTION_OFFSET = 626.875
  SECOND_STANDARD_PARALLEL = "N/A"
  WESTERNMOST_LONGITUDE = 51.2777
END_OBJECT = IMAGE_MAP_PROJECTION
END
