PDS_VERSION_ID = PDS3
/* FILE DATA ELEMENTS */
RECORD_TYPE = UNDEFINED
/* POINTERS TO DATA OBJECTS */
^IMAGE = ("HG673_0000_S14.TIF")
/* IDENTIFICATION DATA ELEMENTS */
DATA_SET_ID = "MEX-M-HRSC-4-REFDR-MAPPROJECT-EXT6-V4.0"
DATA_SET_NAME = "MARS EXPRESS HRSC MAP PROJECTED REFDR EXTENSION6 V4.0"
DETECTOR_ID = MEX_HRSC_S1
EVENT_TYPE = "MARS-REGIONAL-STEREO-Lc-La-Tc"
INSTRUMENT_HOST_ID = MEX
INSTRUMENT_HOST_NAME = "MARS EXPRESS"
INSTRUMENT_ID = HRSC
INSTRUMENT_NAME = "HIGH RESOLUTION STEREO CAMERA"
MISSION_NAME = "MARS EXPRESS"
MISSION_PHASE_NAME = ME_Phase_36
PROCESSING_LEVEL_ID = 4
PRODUCT_CREATION_TIME = 2023-01-26T14:39:22.000Z
PRODUCT_ID = "HG673_0000_S14.TIF"
RELEASE_ID = 0001
REVISION_ID = 0000
/* QUALITY DATA ELEMENTS */
DATA_QUALITY_ID = 1
DATA_QUALITY_DESC = "Data calculated based on original SPICE kernels"
/* TIME DATA ELEMENTS */
SPACECRAFT_CLOCK_START_COUNT = "1/0436447474.09051"
SPACECRAFT_CLOCK_STOP_COUNT = "1/0436447631.51552"
START_TIME = 2017-03-01T11:25:43.252Z
STOP_TIME = 2017-03-01T11:27:17.621Z
/* ORBITAL DATA ELEMENTS */
ASCENDING_NODE_LONGITUDE = 260.75
MAXIMUM_RESOLUTION = 0.0143
FOOTPRINT_POINT_LATITUDE = (-17.5426,-17.5484,-17.5542,-17.56, -17.5659,-17.5719,-17.5793,-17.5797, -17.5806,-17.3974,-17.2145,-17.0932, -16.9111,-16.7895,-16.6683,-16.5468, -16.4266,-16.3061,-16.1877,-16.0666, -15.9459,-15.8278,-15.6164,-15.4954, -15.3148,-15.191,-15.0061,-14.8847, -14.6501,-14.5291,-14.3472,-14.1647, -14.042,-13.9238,-13.8025,-13.6731, -13.4826,-13.3568,-13.2217,-13.0146, -12.8903,-12.7662,-12.58,-12.4558, -12.2697,-12.0838,-11.8982,-11.7742, -11.6506,-11.5272,-11.4653,-11.4598, -11.4513,-11.4445,-11.4379,-11.4314, -11.4251,-11.4185,-11.4181,-11.4181, -11.5422,-11.7279,-11.8518,-11.9758, -12.0998,-12.2238,-12.4119,-12.5438, -12.6897,-12.8191,-12.9429,-13.0678, -13.1938,-13.3167,-13.4381,-13.6317, -13.7588,-13.9335,-14.1131,-14.2982, -14.4198,-14.5414,-14.7223,-14.8443, -14.9629,-15.1455,-15.2684,-15.5008, -15.7205,-15.8562,-15.9824,-16.1733, -16.4714,-16.6559,-16.8954,-17.1766, -17.3591,-17.4807,-17.5418,-17.5426)
FOOTPRINT_POINT_LONGITUDE = (309.657,309.464,309.27,309.074,308.878 ,308.68,308.431,308.418,308.412,308.413 ,308.414,308.414,308.414,308.414, 308.415,308.415,308.414,308.414,308.413 ,308.413,308.412,308.411,308.393, 308.393,308.393,308.394,308.396,308.396 ,308.392,308.392,308.392,308.392, 308.393,308.392,308.392,308.394,308.396 ,308.396,308.401,308.412,308.412, 308.411,308.41,308.41,308.409,308.408, 308.407,308.406,308.405,308.404,308.404 ,308.404,308.65,308.845,309.039,309.232 ,309.424,309.615,309.627,309.632, 309.633,309.633,309.634,309.634,309.635 ,309.635,309.636,309.637,309.639,309.64 ,309.64,309.641,309.641,309.642,309.642 ,309.643,309.644,309.644,309.645, 309.646,309.646,309.647,309.647,309.648 ,309.648,309.649,309.65,309.65,309.649, 309.651,309.652,309.653,309.654,309.655 ,309.656,309.656,309.657,309.657, 309.657,309.657)
ORBIT_NUMBER = 16673
ORBITAL_ECCENTRICITY = 0.578
ORBITAL_INCLINATION = 86.94
ORBITAL_SEMIMAJOR_AXIS = 8850.58
PERIAPSIS_ALTITUDE = 336.53
PERIAPSIS_ARGUMENT_ANGLE = 345.17
PERIAPSIS_TIME = 2017-03-01T11:25:56.000Z
SPACECRAFT_ORIENTATION = (0.0,1.0,0.0)
^MEX_ORIENTATION_DESC = "MEX_ORIENTATION_DESC.TXT"
SPACECRAFT_POINTING_MODE = ACROSSTRACK
^MEX_POINTING_DESC = "MEX_POINTING_DESC.TXT"
RIGHT_ASCENSION = -1e+32
DECLINATION = -1e+32
OFFSET_ANGLE = 0.45
SPACECRAFT_SOLAR_DISTANCE = 2.20458e+08
TARGET_NAME = MARS
/* CAMERA DATA ELEMENTS */
DETECTOR_TEMPERATURE = 17.5549
FOCAL_PLANE_TEMPERATURE = 8.1755
INST_CMPRS_NAME = "DISCRETE COSINE TRANSFORMATION (DCT)"
INST_CMPRS_RATIO = 7.16467
INST_CMPRS_QUALITY = 0
INST_CMPRS_QUANTZ_TBL_ID = 0
INSTRUMENT_TEMPERATURE = 11.4379
LENS_TEMPERATURE = 8.9911
MACROPIXEL_SIZE = 1
MISSING_FRAMES = 0
PIXEL_SUBSAMPLING_FLAG = N
SIGNAL_CHAIN_ID = 2
/* RADIOMETRIC DATA ELEMENTS */
BANDWIDTH = 180.0
CENTER_FILTER_WAVELENGTH = 677.0
RADIANCE_OFFSET = 3.73907
RADIANCE_SCALING_FACTOR = 0.0105085
REFLECTANCE_SCALING_FACTOR = 0.000266461
MEX:REFLECTANCE_OFFSET = 0.0948106
/* IMAGE OBJECT DEFINITIONS */
OBJECT = IMAGE
  INTERCHANGE_FORMAT = BINARY
  LINES = 29082
  LINE_SAMPLES = 5747
  SAMPLE_TYPE = UNSIGNED_INTEGER
  SAMPLE_BITS = 8
  BANDS = 1
  BAND_STORAGE_TYPE = BAND_SEQUENTIAL
  MAXIMUM = 254
  MEAN = 125.156
  MINIMUM = 1
  STANDARD_DEVIATION = 52.0376
END_OBJECT = IMAGE
/* MAP OBJECT DEFINITIONS */
OBJECT = IMAGE_MAP_PROJECTION
  ^DATA_SET_MAP_PROJECTION_CATALOG= "DSMAP.CAT"
  A_AXIS_RADIUS = 3396.0
  B_AXIS_RADIUS = 3396.0
  C_AXIS_RADIUS = 3396.0
  CENTER_LATITUDE = 0.0
  CENTER_LONGITUDE = 309.0
  COORDINATE_SYSTEM_NAME = PLANETOGRAPHIC
  COORDINATE_SYSTEM_TYPE = "BODY-FIXED ROTATING"
  EASTERNMOST_LONGITUDE = 309.657
  FIRST_STANDARD_PARALLEL = "N/A"
  LINE_FIRST_PIXEL = 1
  LINE_LAST_PIXEL = 29082
  LINE_PROJECTION_OFFSET = -54266.0
  MAP_PROJECTION_ROTATION = 0.0
  MAP_PROJECTION_TYPE = SINUSOIDAL
  MAP_RESOLUTION = 4741.71043093333
  MAP_SCALE = 0.0125
  MAXIMUM_LATITUDE = -11.4181
  MINIMUM_LATITUDE = -17.5806
  POSITIVE_LONGITUDE_DIRECTION = EAST
  REFERENCE_LATITUDE = "N/A"
  REFERENCE_LONGITUDE = "N/A"
  SAMPLE_FIRST_PIXEL = 1
  SAMPLE_LAST_PIXEL = 5747
  SAMPLE_PROJECTION_OFFSET = 2765.0
  SECOND_STANDARD_PARALLEL = "N/A"
  WESTERNMOST_LONGITUDE = 308.392
END_OBJECT = IMAGE_MAP_PROJECTION
END
