PDS_VERSION_ID = PDS3
/* FILE DATA ELEMENTS */
RECORD_TYPE = UNDEFINED
/* POINTERS TO DATA OBJECTS */
^IMAGE = ("HG673_0000_S24.TIF")
/* IDENTIFICATION DATA ELEMENTS */
DATA_SET_ID = "MEX-M-HRSC-4-REFDR-MAPPROJECT-EXT6-V4.0"
DATA_SET_NAME = "MARS EXPRESS HRSC MAP PROJECTED REFDR EXTENSION6 V4.0"
DETECTOR_ID = MEX_HRSC_S2
EVENT_TYPE = "MARS-REGIONAL-STEREO-Lc-La-Tc"
INSTRUMENT_HOST_ID = MEX
INSTRUMENT_HOST_NAME = "MARS EXPRESS"
INSTRUMENT_ID = HRSC
INSTRUMENT_NAME = "HIGH RESOLUTION STEREO CAMERA"
MISSION_NAME = "MARS EXPRESS"
MISSION_PHASE_NAME = ME_Phase_36
PROCESSING_LEVEL_ID = 4
PRODUCT_CREATION_TIME = 2023-01-26T14:39:22.000Z
PRODUCT_ID = "HG673_0000_S24.TIF"
RELEASE_ID = 0001
REVISION_ID = 0000
/* QUALITY DATA ELEMENTS */
DATA_QUALITY_ID = 1
DATA_QUALITY_DESC = "Data calculated based on original SPICE kernels"
/* TIME DATA ELEMENTS */
SPACECRAFT_CLOCK_START_COUNT = "1/0436447474.09051"
SPACECRAFT_CLOCK_STOP_COUNT = "1/0436447631.51552"
START_TIME = 2017-03-01T11:24:42.007Z
STOP_TIME = 2017-03-01T11:26:16.608Z
/* ORBITAL DATA ELEMENTS */
ASCENDING_NODE_LONGITUDE = 260.75
MAXIMUM_RESOLUTION = 0.0143
FOOTPRINT_POINT_LATITUDE = (-17.6177,-17.6129,-17.6077,-17.6019, -17.5957,-17.5889,-17.5798,-17.5793, -17.5776,-17.4546,-17.3312,-17.208, -17.0842,-16.9599,-16.836,-16.7122, -16.5257,-16.4011,-16.2757,-16.1493, -15.9614,-15.821,-15.6146,-15.4294, -15.2396,-15.0596,-14.9376,-14.8103, -14.6878,-14.5068,-14.3868,-14.2665, -14.1473,-13.9648,-13.8442,-13.6096, -13.4899,-13.3139,-13.1497,-12.9178, -12.7963,-12.6749,-12.4928,-12.3108, -12.1892,-12.0677,-11.9458,-11.8245, -11.7027,-11.52,-11.4592,-11.4471, -11.4545,-11.462,-11.4672,-11.4704, -11.4749,-11.4791,-11.4794,-11.4797, -11.6014,-11.784,-11.9666,-12.0884, -12.2101,-12.4431,-12.6029,-12.8406, -12.9626,-13.1434,-13.2638,-13.3868, -13.572,-13.8047,-13.9328,-14.0563, -14.1767,-14.3541,-14.5334,-14.6549, -14.7762,-14.8959,-15.0197,-15.2057, -15.3285,-15.474,-15.6088,-15.7909, -16.0275,-16.267,-16.3931,-16.5838, -16.7051,-16.9023,-17.0361,-17.2301, -17.415,-17.5386,-17.6001,-17.6177)
FOOTPRINT_POINT_LONGITUDE = (309.667,309.47,309.272,309.073,308.873 ,308.672,308.418,308.405,308.398, 308.399,308.4,308.401,308.402,308.403, 308.403,308.404,308.405,308.405,308.405 ,308.404,308.404,308.396,308.386, 308.387,308.386,308.39,308.392,308.388, 308.387,308.388,308.388,308.389,308.39, 308.39,308.39,308.394,308.395,308.398, 308.407,308.413,308.412,308.412,308.412 ,308.412,308.412,308.411,308.411, 308.411,308.41,308.41,308.409,308.409, 308.652,308.906,309.097,309.228,309.418 ,309.606,309.618,309.624,309.625, 309.626,309.627,309.628,309.628,309.631 ,309.633,309.635,309.636,309.637, 309.638,309.639,309.64,309.642,309.642, 309.643,309.644,309.646,309.647,309.648 ,309.649,309.65,309.65,309.652,309.653, 309.652,309.652,309.654,309.657,309.659 ,309.66,309.661,309.662,309.663,309.663 ,309.664,309.666,309.667,309.667, 309.667)
ORBIT_NUMBER = 16673
ORBITAL_ECCENTRICITY = 0.578
ORBITAL_INCLINATION = 86.94
ORBITAL_SEMIMAJOR_AXIS = 8850.58
PERIAPSIS_ALTITUDE = 336.53
PERIAPSIS_ARGUMENT_ANGLE = 345.17
PERIAPSIS_TIME = 2017-03-01T11:25:56.000Z
SPACECRAFT_ORIENTATION = (0.0,1.0,0.0)
^MEX_ORIENTATION_DESC = "MEX_ORIENTATION_DESC.TXT"
SPACECRAFT_POINTING_MODE = ACROSSTRACK
^MEX_POINTING_DESC = "MEX_POINTING_DESC.TXT"
RIGHT_ASCENSION = -1e+32
DECLINATION = -1e+32
OFFSET_ANGLE = 0.45
SPACECRAFT_SOLAR_DISTANCE = 2.20458e+08
TARGET_NAME = MARS
/* CAMERA DATA ELEMENTS */
DETECTOR_TEMPERATURE = 18.5744
FOCAL_PLANE_TEMPERATURE = 8.1755
INST_CMPRS_NAME = "DISCRETE COSINE TRANSFORMATION (DCT)"
INST_CMPRS_RATIO = 6.48423
INST_CMPRS_QUALITY = 0
INST_CMPRS_QUANTZ_TBL_ID = 0
INSTRUMENT_TEMPERATURE = 11.4379
LENS_TEMPERATURE = 8.9911
MACROPIXEL_SIZE = 1
MISSING_FRAMES = 0
PIXEL_SUBSAMPLING_FLAG = N
SIGNAL_CHAIN_ID = 1
/* RADIOMETRIC DATA ELEMENTS */
BANDWIDTH = 178.0
CENTER_FILTER_WAVELENGTH = 679.0
RADIANCE_OFFSET = 3.71213
RADIANCE_SCALING_FACTOR = 0.0106229
REFLECTANCE_SCALING_FACTOR = 0.000273417
MEX:REFLECTANCE_OFFSET = 0.0955441
/* IMAGE OBJECT DEFINITIONS */
OBJECT = IMAGE
  INTERCHANGE_FORMAT = BINARY
  LINES = 29082
  LINE_SAMPLES = 5747
  SAMPLE_TYPE = UNSIGNED_INTEGER
  SAMPLE_BITS = 8
  BANDS = 1
  BAND_STORAGE_TYPE = BAND_SEQUENTIAL
  MAXIMUM = 254
  MEAN = 130.462
  MINIMUM = 1
  STANDARD_DEVIATION = 51.1167
END_OBJECT = IMAGE
/* MAP OBJECT DEFINITIONS */
OBJECT = IMAGE_MAP_PROJECTION
  ^DATA_SET_MAP_PROJECTION_CATALOG= "DSMAP.CAT"
  A_AXIS_RADIUS = 3396.0
  B_AXIS_RADIUS = 3396.0
  C_AXIS_RADIUS = 3396.0
  CENTER_LATITUDE = 0.0
  CENTER_LONGITUDE = 309.0
  COORDINATE_SYSTEM_NAME = PLANETOGRAPHIC
  COORDINATE_SYSTEM_TYPE = "BODY-FIXED ROTATING"
  EASTERNMOST_LONGITUDE = 309.667
  FIRST_STANDARD_PARALLEL = "N/A"
  LINE_FIRST_PIXEL = 1
  LINE_LAST_PIXEL = 29082
  LINE_PROJECTION_OFFSET = -54266.0
  MAP_PROJECTION_ROTATION = 0.0
  MAP_PROJECTION_TYPE = SINUSOIDAL
  MAP_RESOLUTION = 4741.71043093333
  MAP_SCALE = 0.0125
  MAXIMUM_LATITUDE = -11.4471
  MINIMUM_LATITUDE = -17.6177
  POSITIVE_LONGITUDE_DIRECTION = EAST
  REFERENCE_LATITUDE = "N/A"
  REFERENCE_LONGITUDE = "N/A"
  SAMPLE_FIRST_PIXEL = 1
  SAMPLE_LAST_PIXEL = 5747
  SAMPLE_PROJECTION_OFFSET = 2765.0
  SECOND_STANDARD_PARALLEL = "N/A"
  WESTERNMOST_LONGITUDE = 308.386
END_OBJECT = IMAGE_MAP_PROJECTION
END
