PDS_VERSION_ID = PDS3
/* FILE DATA ELEMENTS */
RECORD_TYPE = UNDEFINED
/* POINTERS TO DATA OBJECTS */
^IMAGE = ("HG677_0000_P14.TIF")
/* IDENTIFICATION DATA ELEMENTS */
DATA_SET_ID = "MEX-M-HRSC-4-REFDR-MAPPROJECT-EXT6-V4.0"
DATA_SET_NAME = "MARS EXPRESS HRSC MAP PROJECTED REFDR EXTENSION6 V4.0"
DETECTOR_ID = MEX_HRSC_P1
EVENT_TYPE = "MARS-REGIONAL-MAPPING-Vo-Te-Gl"
INSTRUMENT_HOST_ID = MEX
INSTRUMENT_HOST_NAME = "MARS EXPRESS"
INSTRUMENT_ID = HRSC
INSTRUMENT_NAME = "HIGH RESOLUTION STEREO CAMERA"
MISSION_NAME = "MARS EXPRESS"
MISSION_PHASE_NAME = ME_Phase_36
PROCESSING_LEVEL_ID = 4
PRODUCT_CREATION_TIME = 2023-01-26T14:39:22.000Z
PRODUCT_ID = "HG677_0000_P14.TIF"
RELEASE_ID = 0001
REVISION_ID = 0000
/* QUALITY DATA ELEMENTS */
DATA_QUALITY_ID = 1
DATA_QUALITY_DESC = "Data calculated based on original SPICE kernels"
/* TIME DATA ELEMENTS */
SPACECRAFT_CLOCK_START_COUNT = "1/0436547957.07306"
SPACECRAFT_CLOCK_STOP_COUNT = "1/0436548168.07543"
START_TIME = 2017-03-02T15:20:30.003Z
STOP_TIME = 2017-03-02T15:22:43.580Z
/* ORBITAL DATA ELEMENTS */
ASCENDING_NODE_LONGITUDE = 260.67
MAXIMUM_RESOLUTION = 0.0284
FOOTPRINT_POINT_LATITUDE = (-33.6109,-33.6091,-33.6073,-33.6054, -33.603,-33.6004,-33.5979,-33.5977, -33.5906,-33.4022,-33.2135,-32.9264, -32.6429,-32.4537,-32.2645,-32.0751, -31.8858,-31.6959,-31.507,-31.3189, -31.1292,-30.9396,-30.6537,-30.4629, -30.1782,-29.987,-29.7975,-29.6058, -29.4151,-29.2255,-29.0347,-28.866, -28.4692,-28.2304,-28.0697,-27.7495, -27.3498,-27.0319,-26.7955,-26.4802, -26.3206,-26.1609,-26.0012,-25.8417, -25.6822,-25.4425,-25.2827,-25.1229, -24.9631,-24.8832,-24.8632,-24.8644, -24.8648,-24.8656,-24.8661,-24.8666, -24.8666,-24.8671,-25.027,-25.187, -25.347,-25.507,-25.7469,-25.9068, -26.1465,-26.3863,-26.5461,-26.7859, -26.9456,-27.2607,-27.4221,-27.6633, -27.9065,-28.0659,-28.3051,-28.6232, -28.9425,-29.2185,-29.408,-29.6934, -29.8839,-30.074,-30.264,-30.4541, -30.6438,-30.9283,-31.1178,-31.307, -31.497,-31.7816,-32.0659,-32.3494, -32.5388,-32.7271,-32.916,-33.1097, -33.2993,-33.488,-33.5826,-33.6109)
FOOTPRINT_POINT_LONGITUDE = (261.061,260.662,260.391,260.151, 259.896,259.641,259.433,259.417,259.416 ,259.423,259.43,259.44,259.45,259.457, 259.463,259.47,259.476,259.482,259.488, 259.493,259.499,259.505,259.514,259.52, 259.528,259.534,259.539,259.545,259.55, 259.555,259.56,259.564,259.572,259.578, 259.582,259.59,259.597,259.602,259.605, 259.609,259.612,259.615,259.618,259.621 ,259.623,259.627,259.63,259.632,259.635 ,259.636,259.636,259.854,260.035, 260.253,260.472,260.949,260.962,260.966 ,260.968,260.969,260.971,260.973, 260.975,260.977,260.979,260.982,260.983 ,260.986,260.987,260.988,260.991, 260.994,260.997,260.999,261.001,261.004 ,261.007,261.01,261.012,261.015,261.017 ,261.019,261.022,261.024,261.026, 261.029,261.031,261.033,261.035,261.038 ,261.041,261.044,261.046,261.048,261.05 ,261.053,261.055,261.057,261.058, 261.061)
ORBIT_NUMBER = 16677
ORBITAL_ECCENTRICITY = 0.579
ORBITAL_INCLINATION = 86.93
ORBITAL_SEMIMAJOR_AXIS = 8864.14
PERIAPSIS_ALTITUDE = 335.74
PERIAPSIS_ARGUMENT_ANGLE = 344.45
PERIAPSIS_TIME = 2017-03-02T15:24:48.000Z
SPACECRAFT_ORIENTATION = (0.0,1.0,0.0)
^MEX_ORIENTATION_DESC = "MEX_ORIENTATION_DESC.TXT"
SPACECRAFT_POINTING_MODE = NADIR
^MEX_POINTING_DESC = "MEX_POINTING_DESC.TXT"
RIGHT_ASCENSION = -1e+32
DECLINATION = -1e+32
OFFSET_ANGLE = -1e+32
SPACECRAFT_SOLAR_DISTANCE = 2.20678e+08
TARGET_NAME = MARS
/* CAMERA DATA ELEMENTS */
DETECTOR_TEMPERATURE = 18.3705
FOCAL_PLANE_TEMPERATURE = 8.3794
INST_CMPRS_NAME = "DISCRETE COSINE TRANSFORMATION (DCT)"
INST_CMPRS_RATIO = 9.26398
INST_CMPRS_QUALITY = 0
INST_CMPRS_QUANTZ_TBL_ID = 0
INSTRUMENT_TEMPERATURE = 11.6418
LENS_TEMPERATURE = 8.5833
MACROPIXEL_SIZE = 2
PIXEL_SUBSAMPLING_FLAG = N
SIGNAL_CHAIN_ID = 3
/* RADIOMETRIC DATA ELEMENTS */
BANDWIDTH = 174.0
CENTER_FILTER_WAVELENGTH = 675.0
RADIANCE_OFFSET = 3.4192
RADIANCE_SCALING_FACTOR = 0.0229288
REFLECTANCE_SCALING_FACTOR = 0.000600597
MEX:REFLECTANCE_OFFSET = 0.0895627
/* IMAGE OBJECT DEFINITIONS */
OBJECT = IMAGE
  INTERCHANGE_FORMAT = BINARY
  LINES = 20737
  LINE_SAMPLES = 3335
  SAMPLE_TYPE = UNSIGNED_INTEGER
  SAMPLE_BITS = 8
  BANDS = 1
  BAND_STORAGE_TYPE = BAND_SEQUENTIAL
  MAXIMUM = 254
  MEAN = 71.0331
  MINIMUM = 1
  STANDARD_DEVIATION = 12.683
END_OBJECT = IMAGE
/* MAP OBJECT DEFINITIONS */
OBJECT = IMAGE_MAP_PROJECTION
  ^DATA_SET_MAP_PROJECTION_CATALOG= "DSMAP.CAT"
  A_AXIS_RADIUS = 3396.0
  B_AXIS_RADIUS = 3396.0
  C_AXIS_RADIUS = 3396.0
  CENTER_LATITUDE = 0.0
  CENTER_LONGITUDE = 260.0
  COORDINATE_SYSTEM_NAME = PLANETOGRAPHIC
  COORDINATE_SYSTEM_TYPE = "BODY-FIXED ROTATING"
  EASTERNMOST_LONGITUDE = 261.061
  FIRST_STANDARD_PARALLEL = "N/A"
  LINE_FIRST_PIXEL = 1
  LINE_LAST_PIXEL = 20737
  LINE_PROJECTION_OFFSET = -59035.25
  MAP_PROJECTION_ROTATION = 0.0
  MAP_PROJECTION_TYPE = SINUSOIDAL
  MAP_RESOLUTION = 2370.85521546667
  MAP_SCALE = 0.025
  MAXIMUM_LATITUDE = -24.8632
  MINIMUM_LATITUDE = -33.6109
  POSITIVE_LONGITUDE_DIRECTION = EAST
  REFERENCE_LATITUDE = "N/A"
  REFERENCE_LONGITUDE = "N/A"
  SAMPLE_FIRST_PIXEL = 1
  SAMPLE_LAST_PIXEL = 3335
  SAMPLE_PROJECTION_OFFSET = 1204.75
  SECOND_STANDARD_PARALLEL = "N/A"
  WESTERNMOST_LONGITUDE = 259.416
END_OBJECT = IMAGE_MAP_PROJECTION
END
