PDS_VERSION_ID = PDS3
/* FILE DATA ELEMENTS */
RECORD_TYPE = UNDEFINED
/* POINTERS TO DATA OBJECTS */
^IMAGE = ("HG677_0000_S24.TIF")
/* IDENTIFICATION DATA ELEMENTS */
DATA_SET_ID = "MEX-M-HRSC-4-REFDR-MAPPROJECT-EXT6-V4.0"
DATA_SET_NAME = "MARS EXPRESS HRSC MAP PROJECTED REFDR EXTENSION6 V4.0"
DETECTOR_ID = MEX_HRSC_S2
EVENT_TYPE = "MARS-REGIONAL-MAPPING-Vo-Te-Gl"
INSTRUMENT_HOST_ID = MEX
INSTRUMENT_HOST_NAME = "MARS EXPRESS"
INSTRUMENT_ID = HRSC
INSTRUMENT_NAME = "HIGH RESOLUTION STEREO CAMERA"
MISSION_NAME = "MARS EXPRESS"
MISSION_PHASE_NAME = ME_Phase_36
PROCESSING_LEVEL_ID = 4
PRODUCT_CREATION_TIME = 2023-01-26T14:39:22.000Z
PRODUCT_ID = "HG677_0000_S24.TIF"
RELEASE_ID = 0001
REVISION_ID = 0000
/* QUALITY DATA ELEMENTS */
DATA_QUALITY_ID = 1
DATA_QUALITY_DESC = "Data calculated based on original SPICE kernels"
/* TIME DATA ELEMENTS */
SPACECRAFT_CLOCK_START_COUNT = "1/0436547957.07306"
SPACECRAFT_CLOCK_STOP_COUNT = "1/0436548168.07543"
START_TIME = 2017-03-02T15:19:24.977Z
STOP_TIME = 2017-03-02T15:21:49.348Z
/* ORBITAL DATA ELEMENTS */
ASCENDING_NODE_LONGITUDE = 260.67
MAXIMUM_RESOLUTION = 0.0307
FOOTPRINT_POINT_LATITUDE = (-33.699,-33.698,-33.6962,-33.6941, -33.6903,-33.6856,-33.6787,-33.6783, -33.6887,-33.414,-33.2364,-33.0578, -32.8796,-32.7,-32.5215,-32.3432, -32.1686,-31.9935,-31.7307,-31.5549, -31.3771,-31.0286,-30.7713,-30.3452, -30.0873,-29.9137,-29.6551,-29.309, -29.1332,-28.8716,-28.695,-28.5203, -28.3442,-28.1672,-27.8243,-27.5551, -27.3755,-27.1112,-26.9313,-26.7496, -26.5689,-26.3908,-26.2132,-26.0355, -25.8573,-25.59,-25.2727,-25.0484, -24.9735,-24.9413,-24.944,-24.9456, -24.9458,-24.9445,-24.9443,-24.9447, -25.1698,-25.469,-25.6451,-25.8234, -26.0016,-26.1796,-26.3574,-26.5348, -26.7122,-26.8895,-27.0666,-27.2466, -27.5096,-27.6856,-27.8619,-28.0381, -28.214,-28.3906,-28.5673,-28.7425, -29.0044,-29.1794,-29.355,-29.5299, -29.8771,-30.0509,-30.2243,-30.4838, -30.9164,-31.2627,-31.5271,-31.7035, -31.8794,-32.0552,-32.2317,-32.4076, -32.5878,-32.768,-33.0375,-33.2152, -33.394,-33.5757,-33.6672,-33.699)
FOOTPRINT_POINT_LONGITUDE = (261.136,260.735,260.456,260.247, 259.968,259.69,259.358,259.341,259.339, 259.35,259.358,259.365,259.373,259.38, 259.388,259.395,259.402,259.409,259.419 ,259.425,259.431,259.443,259.452, 259.469,259.478,259.483,259.492,259.503 ,259.508,259.515,259.52,259.525,259.529 ,259.533,259.545,259.55,259.554,259.56, 259.563,259.566,259.569,259.573,259.577 ,259.58,259.584,259.589,259.596,259.6, 259.601,259.602,259.899,260.277,260.52, 260.98,260.994,260.998,261.001,261.006, 261.008,261.011,261.013,261.016,261.018 ,261.021,261.023,261.026,261.028,261.03 ,261.034,261.037,261.04,261.042,261.045 ,261.047,261.049,261.052,261.056, 261.059,261.061,261.064,261.07,261.072, 261.075,261.079,261.086,261.091,261.096 ,261.099,261.102,261.105,261.108, 261.111,261.114,261.117,261.121,261.125 ,261.128,261.131,261.133,261.136)
ORBIT_NUMBER = 16677
ORBITAL_ECCENTRICITY = 0.579
ORBITAL_INCLINATION = 86.93
ORBITAL_SEMIMAJOR_AXIS = 8864.14
PERIAPSIS_ALTITUDE = 335.74
PERIAPSIS_ARGUMENT_ANGLE = 344.45
PERIAPSIS_TIME = 2017-03-02T15:24:48.000Z
SPACECRAFT_ORIENTATION = (0.0,1.0,0.0)
^MEX_ORIENTATION_DESC = "MEX_ORIENTATION_DESC.TXT"
SPACECRAFT_POINTING_MODE = NADIR
^MEX_POINTING_DESC = "MEX_POINTING_DESC.TXT"
RIGHT_ASCENSION = -1e+32
DECLINATION = -1e+32
OFFSET_ANGLE = -1e+32
SPACECRAFT_SOLAR_DISTANCE = 2.20678e+08
TARGET_NAME = MARS
/* CAMERA DATA ELEMENTS */
DETECTOR_TEMPERATURE = 18.7783
FOCAL_PLANE_TEMPERATURE = 8.3794
INST_CMPRS_NAME = "DISCRETE COSINE TRANSFORMATION (DCT)"
INST_CMPRS_RATIO = 10.4436
INST_CMPRS_QUALITY = 0
INST_CMPRS_QUANTZ_TBL_ID = 0
INSTRUMENT_TEMPERATURE = 11.6418
LENS_TEMPERATURE = 8.5833
MACROPIXEL_SIZE = 2
MISSING_FRAMES = 0
PIXEL_SUBSAMPLING_FLAG = N
SIGNAL_CHAIN_ID = 1
/* RADIOMETRIC DATA ELEMENTS */
BANDWIDTH = 178.0
CENTER_FILTER_WAVELENGTH = 679.0
RADIANCE_OFFSET = 3.45793
RADIANCE_SCALING_FACTOR = 0.0224945
REFLECTANCE_SCALING_FACTOR = 0.000580124
MEX:REFLECTANCE_OFFSET = 0.0891786
/* IMAGE OBJECT DEFINITIONS */
OBJECT = IMAGE
  INTERCHANGE_FORMAT = BINARY
  LINES = 20737
  LINE_SAMPLES = 3335
  SAMPLE_TYPE = UNSIGNED_INTEGER
  SAMPLE_BITS = 8
  BANDS = 1
  BAND_STORAGE_TYPE = BAND_SEQUENTIAL
  MAXIMUM = 254
  MEAN = 86.1054
  MINIMUM = 1
  STANDARD_DEVIATION = 14.201
END_OBJECT = IMAGE
/* MAP OBJECT DEFINITIONS */
OBJECT = IMAGE_MAP_PROJECTION
  ^DATA_SET_MAP_PROJECTION_CATALOG= "DSMAP.CAT"
  A_AXIS_RADIUS = 3396.0
  B_AXIS_RADIUS = 3396.0
  C_AXIS_RADIUS = 3396.0
  CENTER_LATITUDE = 0.0
  CENTER_LONGITUDE = 260.0
  COORDINATE_SYSTEM_NAME = PLANETOGRAPHIC
  COORDINATE_SYSTEM_TYPE = "BODY-FIXED ROTATING"
  EASTERNMOST_LONGITUDE = 261.136
  FIRST_STANDARD_PARALLEL = "N/A"
  LINE_FIRST_PIXEL = 1
  LINE_LAST_PIXEL = 20737
  LINE_PROJECTION_OFFSET = -59035.25
  MAP_PROJECTION_ROTATION = 0.0
  MAP_PROJECTION_TYPE = SINUSOIDAL
  MAP_RESOLUTION = 2370.85521546667
  MAP_SCALE = 0.025
  MAXIMUM_LATITUDE = -24.9413
  MINIMUM_LATITUDE = -33.699
  POSITIVE_LONGITUDE_DIRECTION = EAST
  REFERENCE_LATITUDE = "N/A"
  REFERENCE_LONGITUDE = "N/A"
  SAMPLE_FIRST_PIXEL = 1
  SAMPLE_LAST_PIXEL = 3335
  SAMPLE_PROJECTION_OFFSET = 1204.75
  SECOND_STANDARD_PARALLEL = "N/A"
  WESTERNMOST_LONGITUDE = 259.339
END_OBJECT = IMAGE_MAP_PROJECTION
END
