PDS_VERSION_ID = PDS3
/* FILE DATA ELEMENTS */
RECORD_TYPE = UNDEFINED
/* POINTERS TO DATA OBJECTS */
^IMAGE = ("HG679_0000_IR4.TIF")
/* IDENTIFICATION DATA ELEMENTS */
DATA_SET_ID = "MEX-M-HRSC-4-REFDR-MAPPROJECT-EXT6-V4.0"
DATA_SET_NAME = "MARS EXPRESS HRSC MAP PROJECTED REFDR EXTENSION6 V4.0"
DETECTOR_ID = MEX_HRSC_IR
EVENT_TYPE = "MARS-REGIONAL-MAPPING-Im-Fl-Gl"
INSTRUMENT_HOST_ID = MEX
INSTRUMENT_HOST_NAME = "MARS EXPRESS"
INSTRUMENT_ID = HRSC
INSTRUMENT_NAME = "HIGH RESOLUTION STEREO CAMERA"
MISSION_NAME = "MARS EXPRESS"
MISSION_PHASE_NAME = ME_Phase_36
PROCESSING_LEVEL_ID = 4
PRODUCT_CREATION_TIME = 2023-01-26T14:39:22.000Z
PRODUCT_ID = "HG679_0000_IR4.TIF"
RELEASE_ID = 0001
REVISION_ID = 0000
/* QUALITY DATA ELEMENTS */
DATA_QUALITY_ID = 1
DATA_QUALITY_DESC = "Data calculated based on original SPICE kernels"
/* TIME DATA ELEMENTS */
SPACECRAFT_CLOCK_START_COUNT = "1/0436598306.09051"
SPACECRAFT_CLOCK_STOP_COUNT = "1/0436598559.25910"
START_TIME = 2017-03-03T05:19:46.628Z
STOP_TIME = 2017-03-03T05:22:40.144Z
/* ORBITAL DATA ELEMENTS */
ASCENDING_NODE_LONGITUDE = 260.64
MAXIMUM_RESOLUTION = 0.0574
FOOTPRINT_POINT_LATITUDE = (-34.7215,-34.7169,-34.7087,-34.6995, -34.6929,-34.6925,-34.7579,-34.5081, -34.257,-34.0081,-33.7578,-33.5073, -33.1314,-32.8779,-32.497,-32.1133, -31.8625,-31.6109,-31.2343,-30.9832, -30.7278,-30.4746,-30.0962,-29.8431, -29.4902,-29.2776,-28.8648,-28.6537, -28.3372,-28.1257,-27.9147,-27.7016, -27.3862,-27.1755,-26.9649,-26.754, -26.5425,-26.3314,-26.1203,-25.9093, -25.6984,-25.4869,-25.2729,-24.9514, -24.535,-24.3217,-24.0028,-23.7903, -23.4772,-23.372,-23.3076,-23.3109, -23.316,-23.3198,-23.3225,-23.3227, -23.3236,-23.7447,-23.9598,-24.173, -24.3855,-24.7019,-24.9129,-25.2302, -25.5465,-25.7575,-26.0741,-26.2859, -26.6025,-26.8142,-27.0251,-27.3407, -27.5513,-27.7625,-28.0832,-28.3018, -28.5125,-28.7257,-28.9365,-29.2518, -29.6684,-29.9212,-30.2981,-30.5505, -30.8036,-31.185,-31.4389,-31.6949, -32.0763,-32.3269,-32.5813,-32.9574, -33.2093,-33.4599,-33.7114,-33.9623, -34.2131,-34.5892,-34.7141,-34.7215)
FOOTPRINT_POINT_LONGITUDE = (56.8619,56.5292,56.0253,55.5251, 55.1981,55.1826,55.1608,55.1696,55.1785 ,55.1866,55.1949,55.2031,55.2149, 55.2233,55.2356,55.2481,55.255,55.2619, 55.2717,55.278,55.2851,55.2915,55.3005, 55.3065,55.3164,55.3213,55.3277,55.3318 ,55.3378,55.3417,55.3455,55.3495, 55.3546,55.3579,55.3611,55.3642,55.3674 ,55.3704,55.3734,55.3762,55.3789, 55.3816,55.3848,55.3895,55.3929,55.3955 ,55.3991,55.4013,55.4034,55.4043, 55.4048,55.6338,56.023,56.4394,56.6982, 56.7106,56.7147,56.7193,56.7245,56.7284 ,56.7319,56.7358,56.7384,56.7429, 56.7467,56.7494,56.7535,56.7567,56.7608 ,56.7641,56.7668,56.7704,56.773,56.776, 56.7829,56.7907,56.7934,56.7978,56.8006 ,56.8045,56.8073,56.816,56.8213,56.8255 ,56.8304,56.8388,56.8442,56.8512, 56.8599,56.8635,56.8696,56.8754,56.8801 ,56.884,56.8886,56.8929,56.8972,56.9038 ,56.9057,56.8619)
ORBIT_NUMBER = 16679
ORBITAL_ECCENTRICITY = 0.579
ORBITAL_INCLINATION = 86.95
ORBITAL_SEMIMAJOR_AXIS = 8856.13
PERIAPSIS_ALTITUDE = 335.65
PERIAPSIS_ARGUMENT_ANGLE = 344.13
PERIAPSIS_TIME = 2017-03-03T05:24:10.000Z
SPACECRAFT_ORIENTATION = (0.0,1.0,0.0)
^MEX_ORIENTATION_DESC = "MEX_ORIENTATION_DESC.TXT"
SPACECRAFT_POINTING_MODE = ACROSSTRACK
^MEX_POINTING_DESC = "MEX_POINTING_DESC.TXT"
RIGHT_ASCENSION = -1e+32
DECLINATION = -1e+32
OFFSET_ANGLE = -0.3
SPACECRAFT_SOLAR_DISTANCE = 2.20789e+08
TARGET_NAME = MARS
/* CAMERA DATA ELEMENTS */
DETECTOR_TEMPERATURE = 17.7588
FOCAL_PLANE_TEMPERATURE = 8.7872
INST_CMPRS_NAME = "DISCRETE COSINE TRANSFORMATION (DCT)"
INST_CMPRS_RATIO = 7.89975
INST_CMPRS_QUALITY = 0
INST_CMPRS_QUANTZ_TBL_ID = 0
INSTRUMENT_TEMPERATURE = 11.8457
LENS_TEMPERATURE = 9.195
MACROPIXEL_SIZE = 4
MISSING_FRAMES = 0
PIXEL_SUBSAMPLING_FLAG = N
SIGNAL_CHAIN_ID = 2
/* RADIOMETRIC DATA ELEMENTS */
BANDWIDTH = 81.0
CENTER_FILTER_WAVELENGTH = 955.5
RADIANCE_OFFSET = 0.625966
RADIANCE_SCALING_FACTOR = 0.00363883
REFLECTANCE_SCALING_FACTOR = 0.000382684
MEX:REFLECTANCE_OFFSET = 0.0658308
/* IMAGE OBJECT DEFINITIONS */
OBJECT = IMAGE
  INTERCHANGE_FORMAT = BINARY
  LINES = 13560
  LINE_SAMPLES = 1764
  SAMPLE_TYPE = UNSIGNED_INTEGER
  SAMPLE_BITS = 8
  BANDS = 1
  BAND_STORAGE_TYPE = BAND_SEQUENTIAL
  MAXIMUM = 255
  MEAN = 105.295
  MINIMUM = 1
  STANDARD_DEVIATION = 44.2794
END_OBJECT = IMAGE
/* MAP OBJECT DEFINITIONS */
OBJECT = IMAGE_MAP_PROJECTION
  ^DATA_SET_MAP_PROJECTION_CATALOG= "DSMAP.CAT"
  A_AXIS_RADIUS = 3396.0
  B_AXIS_RADIUS = 3396.0
  C_AXIS_RADIUS = 3396.0
  CENTER_LATITUDE = 0.0
  CENTER_LONGITUDE = 56.0
  COORDINATE_SYSTEM_NAME = PLANETOGRAPHIC
  COORDINATE_SYSTEM_TYPE = "BODY-FIXED ROTATING"
  EASTERNMOST_LONGITUDE = 56.9057
  FIRST_STANDARD_PARALLEL = "N/A"
  LINE_FIRST_PIXEL = 1
  LINE_LAST_PIXEL = 13560
  LINE_PROJECTION_OFFSET = -27643.875
  MAP_PROJECTION_ROTATION = 0.0
  MAP_PROJECTION_TYPE = SINUSOIDAL
  MAP_RESOLUTION = 1185.42760773333
  MAP_SCALE = 0.05
  MAXIMUM_LATITUDE = -23.3076
  MINIMUM_LATITUDE = -34.7579
  POSITIVE_LONGITUDE_DIRECTION = EAST
  REFERENCE_LATITUDE = "N/A"
  REFERENCE_LONGITUDE = "N/A"
  SAMPLE_FIRST_PIXEL = 1
  SAMPLE_LAST_PIXEL = 1764
  SAMPLE_PROJECTION_OFFSET = 855.625
  SECOND_STANDARD_PARALLEL = "N/A"
  WESTERNMOST_LONGITUDE = 55.1608
END_OBJECT = IMAGE_MAP_PROJECTION
END
