PDS_VERSION_ID = PDS3
/* FILE DATA ELEMENTS */
RECORD_TYPE = UNDEFINED
/* POINTERS TO DATA OBJECTS */
^IMAGE = ("HG679_0000_RE4.TIF")
/* IDENTIFICATION DATA ELEMENTS */
DATA_SET_ID = "MEX-M-HRSC-4-REFDR-MAPPROJECT-EXT6-V4.0"
DATA_SET_NAME = "MARS EXPRESS HRSC MAP PROJECTED REFDR EXTENSION6 V4.0"
DETECTOR_ID = MEX_HRSC_RED
EVENT_TYPE = "MARS-REGIONAL-MAPPING-Im-Fl-Gl"
INSTRUMENT_HOST_ID = MEX
INSTRUMENT_HOST_NAME = "MARS EXPRESS"
INSTRUMENT_ID = HRSC
INSTRUMENT_NAME = "HIGH RESOLUTION STEREO CAMERA"
MISSION_NAME = "MARS EXPRESS"
MISSION_PHASE_NAME = ME_Phase_36
PROCESSING_LEVEL_ID = 4
PRODUCT_CREATION_TIME = 2023-01-26T14:39:22.000Z
PRODUCT_ID = "HG679_0000_RE4.TIF"
RELEASE_ID = 0001
REVISION_ID = 0000
/* QUALITY DATA ELEMENTS */
DATA_QUALITY_ID = 1
DATA_QUALITY_DESC = "Data calculated based on original SPICE kernels"
/* TIME DATA ELEMENTS */
SPACECRAFT_CLOCK_START_COUNT = "1/0436598306.09051"
SPACECRAFT_CLOCK_STOP_COUNT = "1/0436598559.25910"
START_TIME = 2017-03-03T05:18:41.687Z
STOP_TIME = 2017-03-03T05:21:47.870Z
/* ORBITAL DATA ELEMENTS */
ASCENDING_NODE_LONGITUDE = 260.64
MAXIMUM_RESOLUTION = 0.0594
FOOTPRINT_POINT_LATITUDE = (-34.7827,-34.7859,-34.7884,-34.7907, -34.79,-34.7881,-34.788,-34.7162, -34.3471,-34.1002,-33.8587,-33.6171, -33.3756,-33.0145,-32.7821,-32.4324, -32.1977,-31.9599,-31.7274,-31.4934, -31.2605,-31.0277,-30.6801,-30.3339, -30.0979,-29.7454,-29.5173,-29.2874, -29.0431,-28.8044,-28.5677,-28.3305, -28.0933,-27.8559,-27.6211,-27.3796, -27.1399,-26.9001,-26.6603,-26.4207, -25.868,-25.4644,-25.0689,-24.8634, -24.6571,-24.4534,-24.0509,-23.8492, -23.5408,-23.4384,-23.3377,-23.3337, -23.3264,-23.319,-23.3186,-23.3193, -23.5237,-23.729,-24.1301,-24.4341, -24.6376,-24.8407,-25.0436,-25.2459, -25.4489,-25.6513,-26.0554,-26.408, -26.7667,-27.0069,-27.2483,-27.4873, -27.7261,-27.9622,-28.1951,-28.547, -28.9027,-29.1398,-29.3826,-29.7373, -29.9649,-30.1996,-30.437,-30.6696, -30.902,-31.2497,-31.4803,-31.8233, -32.0568,-32.2961,-32.5295,-32.7693, -33.0064,-33.2479,-33.6111,-33.8533, -34.0948,-34.4642,-34.5879,-34.7827)
FOOTPRINT_POINT_LONGITUDE = (56.9336,56.6748,56.4001,55.9042, 55.4453,55.1229,55.106,55.0854,55.1008, 55.1106,55.1201,55.1294,55.1387,55.1524 ,55.1619,55.1758,55.1845,55.1926, 55.2003,55.2074,55.2147,55.2219,55.233, 55.2441,55.2504,55.2599,55.2677,55.2749 ,55.2791,55.2844,55.2901,55.2955, 55.3009,55.3062,55.312,55.3163,55.3209, 55.3255,55.3299,55.3344,55.3439,55.3506 ,55.3586,55.361,55.3632,55.3659,55.3721 ,55.375,55.3782,55.3793,55.3804,55.7808 ,56.3111,56.7183,56.7312,56.7355, 56.7386,56.7411,56.7512,56.7568,56.76, 56.7632,56.7666,56.7701,56.7732,56.7765 ,56.7833,56.7889,56.7961,56.8001, 56.8032,56.8076,56.8119,56.8176,56.8251 ,56.8345,56.8414,56.8457,56.8466, 56.8532,56.8626,56.8677,56.871,56.8769, 56.8828,56.8919,56.8984,56.9096,56.9166 ,56.9212,56.9291,56.933,56.9383,56.944, 56.9526,56.958,56.9636,56.9726,56.9753, 56.9336)
ORBIT_NUMBER = 16679
ORBITAL_ECCENTRICITY = 0.579
ORBITAL_INCLINATION = 86.95
ORBITAL_SEMIMAJOR_AXIS = 8856.13
PERIAPSIS_ALTITUDE = 335.65
PERIAPSIS_ARGUMENT_ANGLE = 344.13
PERIAPSIS_TIME = 2017-03-03T05:24:10.000Z
SPACECRAFT_ORIENTATION = (0.0,1.0,0.0)
^MEX_ORIENTATION_DESC = "MEX_ORIENTATION_DESC.TXT"
SPACECRAFT_POINTING_MODE = ACROSSTRACK
^MEX_POINTING_DESC = "MEX_POINTING_DESC.TXT"
RIGHT_ASCENSION = -1e+32
DECLINATION = -1e+32
OFFSET_ANGLE = -0.3
SPACECRAFT_SOLAR_DISTANCE = 2.20789e+08
TARGET_NAME = MARS
/* CAMERA DATA ELEMENTS */
DETECTOR_TEMPERATURE = 18.5744
FOCAL_PLANE_TEMPERATURE = 8.7872
INST_CMPRS_NAME = "DISCRETE COSINE TRANSFORMATION (DCT)"
INST_CMPRS_RATIO = 16.0775
INST_CMPRS_QUALITY = 0
INST_CMPRS_QUANTZ_TBL_ID = 0
INSTRUMENT_TEMPERATURE = 11.8457
LENS_TEMPERATURE = 9.195
MACROPIXEL_SIZE = 4
MISSING_FRAMES = 0
PIXEL_SUBSAMPLING_FLAG = N
SIGNAL_CHAIN_ID = 2
/* RADIOMETRIC DATA ELEMENTS */
BANDWIDTH = 48.0
CENTER_FILTER_WAVELENGTH = 748.0
RADIANCE_OFFSET = 0.782542
RADIANCE_SCALING_FACTOR = 0.00363245
REFLECTANCE_SCALING_FACTOR = 0.000404089
MEX:REFLECTANCE_OFFSET = 0.0870533
/* IMAGE OBJECT DEFINITIONS */
OBJECT = IMAGE
  INTERCHANGE_FORMAT = BINARY
  LINES = 13560
  LINE_SAMPLES = 1764
  SAMPLE_TYPE = UNSIGNED_INTEGER
  SAMPLE_BITS = 8
  BANDS = 1
  BAND_STORAGE_TYPE = BAND_SEQUENTIAL
  MAXIMUM = 255
  MEAN = 116.989
  MINIMUM = 1
  STANDARD_DEVIATION = 42.4287
END_OBJECT = IMAGE
/* MAP OBJECT DEFINITIONS */
OBJECT = IMAGE_MAP_PROJECTION
  ^DATA_SET_MAP_PROJECTION_CATALOG= "DSMAP.CAT"
  A_AXIS_RADIUS = 3396.0
  B_AXIS_RADIUS = 3396.0
  C_AXIS_RADIUS = 3396.0
  CENTER_LATITUDE = 0.0
  CENTER_LONGITUDE = 56.0
  COORDINATE_SYSTEM_NAME = PLANETOGRAPHIC
  COORDINATE_SYSTEM_TYPE = "BODY-FIXED ROTATING"
  EASTERNMOST_LONGITUDE = 56.9753
  FIRST_STANDARD_PARALLEL = "N/A"
  LINE_FIRST_PIXEL = 1
  LINE_LAST_PIXEL = 13560
  LINE_PROJECTION_OFFSET = -27643.875
  MAP_PROJECTION_ROTATION = 0.0
  MAP_PROJECTION_TYPE = SINUSOIDAL
  MAP_RESOLUTION = 1185.42760773333
  MAP_SCALE = 0.05
  MAXIMUM_LATITUDE = -23.3186
  MINIMUM_LATITUDE = -34.7907
  POSITIVE_LONGITUDE_DIRECTION = EAST
  REFERENCE_LATITUDE = "N/A"
  REFERENCE_LONGITUDE = "N/A"
  SAMPLE_FIRST_PIXEL = 1
  SAMPLE_LAST_PIXEL = 1764
  SAMPLE_PROJECTION_OFFSET = 855.625
  SECOND_STANDARD_PARALLEL = "N/A"
  WESTERNMOST_LONGITUDE = 55.0854
END_OBJECT = IMAGE_MAP_PROJECTION
END
