PDS_VERSION_ID = PDS3
/* FILE DATA ELEMENTS */
RECORD_TYPE = UNDEFINED
/* POINTERS TO DATA OBJECTS */
^IMAGE = ("HG680_0000_S14.TIF")
/* IDENTIFICATION DATA ELEMENTS */
DATA_SET_ID = "MEX-M-HRSC-4-REFDR-MAPPROJECT-EXT6-V4.0"
DATA_SET_NAME = "MARS EXPRESS HRSC MAP PROJECTED REFDR EXTENSION6 V4.0"
DETECTOR_ID = MEX_HRSC_S1
EVENT_TYPE = "MARS-REGIONAL-STEREO-Fl-Lc-La"
INSTRUMENT_HOST_ID = MEX
INSTRUMENT_HOST_NAME = "MARS EXPRESS"
INSTRUMENT_ID = HRSC
INSTRUMENT_NAME = "HIGH RESOLUTION STEREO CAMERA"
MISSION_NAME = "MARS EXPRESS"
MISSION_PHASE_NAME = ME_Phase_36
PROCESSING_LEVEL_ID = 4
PRODUCT_CREATION_TIME = 2023-01-26T14:39:22.000Z
PRODUCT_ID = "HG680_0000_S14.TIF"
RELEASE_ID = 0001
REVISION_ID = 0000
/* QUALITY DATA ELEMENTS */
DATA_QUALITY_ID = 1
DATA_QUALITY_DESC = "Data calculated based on original SPICE kernels"
/* TIME DATA ELEMENTS */
SPACECRAFT_CLOCK_START_COUNT = "1/0436623722.09041"
SPACECRAFT_CLOCK_STOP_COUNT = "1/0436623942.32446"
START_TIME = 2017-03-03T12:23:11.496Z
STOP_TIME = 2017-03-03T12:25:48.388Z
/* ORBITAL DATA ELEMENTS */
ASCENDING_NODE_LONGITUDE = 260.62
MAXIMUM_RESOLUTION = 0.0286
FOOTPRINT_POINT_LATITUDE = (-20.5101,-20.5154,-20.5206,-20.5266, -20.5268,-20.5358,-20.3315,-20.1289, -19.9242,-19.7228,-19.5205,-19.3188, -19.116,-18.9138,-18.7125,-18.5081, -18.3046,-17.9072,-17.6094,-17.3206, -17.1211,-16.9181,-16.7187,-16.5171, -16.2138,-15.9147,-15.7124,-15.5086, -15.3077,-15.0071,-14.8036,-14.5944, -14.3928,-14.1932,-13.99,-13.7825, -13.5772,-13.3752,-13.1675,-12.864, -12.465,-12.2596,-12.0517,-11.8263, -11.6081,-11.4035,-11.199,-10.9944, -10.7902,-10.4839,-10.3819,-10.3659, -10.3593,-10.3676,-10.371,-10.3666, -10.3664,-10.3668,-10.6721,-11.0579, -11.3713,-11.5913,-11.7966,-12.0084, -12.2168,-12.4224,-12.629,-13.0263, -13.23,-13.4434,-13.6523,-13.8569, -14.0573,-14.2622,-14.4644,-14.7649, -15.0681,-15.274,-15.5733,-15.9716, -16.2753,-16.4755,-16.7801,-16.9844, -17.1867,-17.389,-17.588,-17.7892, -18.1737,-18.6765,-18.8797,-19.0821, -19.2848,-19.4872,-19.6908,-19.8976, -20.2007,-20.4047,-20.5033,-20.5101)
FOOTPRINT_POINT_LONGITUDE = (313.836,313.448,313.058,312.592,312.58 ,312.572,312.574,312.575,312.577, 312.577,312.578,312.578,312.579,312.579 ,312.58,312.581,312.582,312.58,312.578, 312.572,312.571,312.572,312.571,312.571 ,312.571,312.57,312.57,312.57,312.57, 312.569,312.57,312.573,312.573,312.571, 312.572,312.573,312.571,312.569,312.568 ,312.564,312.556,312.555,312.554, 312.561,312.565,312.563,312.561,312.559 ,312.557,312.555,312.554,312.553, 312.914,313.308,313.549,313.777,313.789 ,313.794,313.794,313.791,313.793, 313.797,313.798,313.8,313.801,313.802, 313.803,313.801,313.802,313.804,313.805 ,313.806,313.807,313.809,313.81,313.811 ,313.813,313.815,313.816,313.817, 313.819,313.82,313.822,313.823,313.825, 313.826,313.826,313.827,313.825,313.827 ,313.828,313.829,313.83,313.832,313.833 ,313.835,313.836,313.838,313.838, 313.836)
ORBIT_NUMBER = 16680
ORBITAL_ECCENTRICITY = 0.578
ORBITAL_INCLINATION = 86.94
ORBITAL_SEMIMAJOR_AXIS = 8848.5
PERIAPSIS_ALTITUDE = 336.1
PERIAPSIS_ARGUMENT_ANGLE = 343.96
PERIAPSIS_TIME = 2017-03-03T12:23:51.000Z
SPACECRAFT_ORIENTATION = (0.0,1.0,0.0)
^MEX_ORIENTATION_DESC = "MEX_ORIENTATION_DESC.TXT"
SPACECRAFT_POINTING_MODE = ACROSSTRACK
^MEX_POINTING_DESC = "MEX_POINTING_DESC.TXT"
RIGHT_ASCENSION = -1e+32
DECLINATION = -1e+32
OFFSET_ANGLE = 0.2
SPACECRAFT_SOLAR_DISTANCE = 2.20844e+08
TARGET_NAME = MARS
/* CAMERA DATA ELEMENTS */
DETECTOR_TEMPERATURE = 16.9432
FOCAL_PLANE_TEMPERATURE = 8.5833
INST_CMPRS_NAME = "DISCRETE COSINE TRANSFORMATION (DCT)"
INST_CMPRS_RATIO = 16.6119
INST_CMPRS_QUALITY = 0
INST_CMPRS_QUANTZ_TBL_ID = 0
INSTRUMENT_TEMPERATURE = 11.6418
LENS_TEMPERATURE = 8.5833
MACROPIXEL_SIZE = 2
MISSING_FRAMES = 0
PIXEL_SUBSAMPLING_FLAG = N
SIGNAL_CHAIN_ID = 1
/* RADIOMETRIC DATA ELEMENTS */
BANDWIDTH = 180.0
CENTER_FILTER_WAVELENGTH = 677.0
RADIANCE_OFFSET = 3.86414
RADIANCE_SCALING_FACTOR = 0.00960954
REFLECTANCE_SCALING_FACTOR = 0.00024452
MEX:REFLECTANCE_OFFSET = 0.0983254
/* IMAGE OBJECT DEFINITIONS */
OBJECT = IMAGE
  INTERCHANGE_FORMAT = BINARY
  LINES = 24126
  LINE_SAMPLES = 2883
  SAMPLE_TYPE = UNSIGNED_INTEGER
  SAMPLE_BITS = 8
  BANDS = 1
  BAND_STORAGE_TYPE = BAND_SEQUENTIAL
  MAXIMUM = 255
  MEAN = 123.867
  MINIMUM = 1
  STANDARD_DEVIATION = 36.8399
END_OBJECT = IMAGE
/* MAP OBJECT DEFINITIONS */
OBJECT = IMAGE_MAP_PROJECTION
  ^DATA_SET_MAP_PROJECTION_CATALOG= "DSMAP.CAT"
  A_AXIS_RADIUS = 3396.0
  B_AXIS_RADIUS = 3396.0
  C_AXIS_RADIUS = 3396.0
  CENTER_LATITUDE = 0.0
  CENTER_LONGITUDE = 313.0
  COORDINATE_SYSTEM_NAME = PLANETOGRAPHIC
  COORDINATE_SYSTEM_TYPE = "BODY-FIXED ROTATING"
  EASTERNMOST_LONGITUDE = 313.838
  FIRST_STANDARD_PARALLEL = "N/A"
  LINE_FIRST_PIXEL = 1
  LINE_LAST_PIXEL = 24126
  LINE_PROJECTION_OFFSET = -24557.25
  MAP_PROJECTION_ROTATION = 0.0
  MAP_PROJECTION_TYPE = SINUSOIDAL
  MAP_RESOLUTION = 2370.85521546667
  MAP_SCALE = 0.025
  MAXIMUM_LATITUDE = -10.3593
  MINIMUM_LATITUDE = -20.5358
  POSITIVE_LONGITUDE_DIRECTION = EAST
  REFERENCE_LATITUDE = "N/A"
  REFERENCE_LONGITUDE = "N/A"
  SAMPLE_FIRST_PIXEL = 1
  SAMPLE_LAST_PIXEL = 2883
  SAMPLE_PROJECTION_OFFSET = 1014.75
  SECOND_STANDARD_PARALLEL = "N/A"
  WESTERNMOST_LONGITUDE = 312.553
END_OBJECT = IMAGE_MAP_PROJECTION
END
