PDS_VERSION_ID = PDS3
/* FILE DATA ELEMENTS */
RECORD_TYPE = UNDEFINED
/* POINTERS TO DATA OBJECTS */
^IMAGE = ("HG680_0000_S24.TIF")
/* IDENTIFICATION DATA ELEMENTS */
DATA_SET_ID = "MEX-M-HRSC-4-REFDR-MAPPROJECT-EXT6-V4.0"
DATA_SET_NAME = "MARS EXPRESS HRSC MAP PROJECTED REFDR EXTENSION6 V4.0"
DETECTOR_ID = MEX_HRSC_S2
EVENT_TYPE = "MARS-REGIONAL-STEREO-Fl-Lc-La"
INSTRUMENT_HOST_ID = MEX
INSTRUMENT_HOST_NAME = "MARS EXPRESS"
INSTRUMENT_ID = HRSC
INSTRUMENT_NAME = "HIGH RESOLUTION STEREO CAMERA"
MISSION_NAME = "MARS EXPRESS"
MISSION_PHASE_NAME = ME_Phase_36
PROCESSING_LEVEL_ID = 4
PRODUCT_CREATION_TIME = 2023-01-26T14:39:22.000Z
PRODUCT_ID = "HG680_0000_S24.TIF"
RELEASE_ID = 0001
REVISION_ID = 0000
/* QUALITY DATA ELEMENTS */
DATA_QUALITY_ID = 1
DATA_QUALITY_DESC = "Data calculated based on original SPICE kernels"
/* TIME DATA ELEMENTS */
SPACECRAFT_CLOCK_START_COUNT = "1/0436623722.09041"
SPACECRAFT_CLOCK_STOP_COUNT = "1/0436623942.32446"
START_TIME = 2017-03-03T12:22:10.012Z
STOP_TIME = 2017-03-03T12:24:47.035Z
/* ORBITAL DATA ELEMENTS */
ASCENDING_NODE_LONGITUDE = 260.62
MAXIMUM_RESOLUTION = 0.0286
FOOTPRINT_POINT_LATITUDE = (-20.5625,-20.5589,-20.5533,-20.5441, -20.5438,-20.5335,-20.2281,-19.9224, -19.716,-19.5107,-19.304,-19.0989, -18.7896,-18.5831,-18.3807,-18.1723, -17.9603,-17.7564,-17.5346,-17.3196, -17.1129,-16.9115,-16.709,-16.5106, -16.3091,-16.1111,-15.9051,-15.7052, -15.3091,-15.1055,-14.9051,-14.5134, -14.3112,-14.1116,-13.8127,-13.6125, -13.4023,-13.104,-12.8932,-12.5803, -12.2748,-12.0744,-11.7911,-11.3985, -11.1952,-10.8904,-10.687,-10.4837, -10.3819,-10.3559,-10.3605,-10.3374, -10.3331,-10.3332,-10.3336,-10.6569, -10.874,-11.0783,-11.2822,-11.6654, -11.8651,-12.1632,-12.3661,-12.5687, -12.7864,-12.9887,-13.3889,-13.691, -13.8939,-14.0947,-14.2924,-14.4917, -14.6943,-14.8941,-15.0949,-15.2922, -15.4992,-15.8994,-16.1046,-16.4034, -16.6063,-16.8035,-17.0018,-17.206, -17.4121,-17.7259,-17.9348,-18.1642, -18.3706,-18.5767,-18.7817,-18.9877, -19.2965,-19.6045,-19.8057,-20.0149, -20.216,-20.4224,-20.5268,-20.5625)
FOOTPRINT_POINT_LONGITUDE = (313.852,313.453,313.053,312.574, 312.561,312.553,312.556,312.56,312.561, 312.562,312.563,312.565,312.566,312.567 ,312.57,312.57,312.569,312.571,312.565, 312.563,312.563,312.564,312.564,312.565 ,312.565,312.567,312.565,312.566, 312.569,312.568,312.568,312.573,312.572 ,312.573,312.574,312.575,312.571, 312.572,312.568,312.563,312.561,312.562 ,312.569,312.572,312.571,312.569, 312.568,312.566,312.566,312.566,312.988 ,313.48,313.763,313.775,313.779,313.778 ,313.776,313.777,313.778,313.785, 313.787,313.791,313.792,313.793,313.792 ,313.793,313.797,313.8,313.801,313.803, 313.805,313.807,313.808,313.81,313.812, 313.814,313.815,313.818,313.819,313.822 ,313.823,313.826,313.828,313.83,313.832 ,313.833,313.835,313.832,313.834, 313.836,313.838,313.839,313.842,313.845 ,313.848,313.849,313.851,313.853, 313.854,313.852)
ORBIT_NUMBER = 16680
ORBITAL_ECCENTRICITY = 0.578
ORBITAL_INCLINATION = 86.94
ORBITAL_SEMIMAJOR_AXIS = 8848.5
PERIAPSIS_ALTITUDE = 336.1
PERIAPSIS_ARGUMENT_ANGLE = 343.96
PERIAPSIS_TIME = 2017-03-03T12:23:51.000Z
SPACECRAFT_ORIENTATION = (0.0,1.0,0.0)
^MEX_ORIENTATION_DESC = "MEX_ORIENTATION_DESC.TXT"
SPACECRAFT_POINTING_MODE = ACROSSTRACK
^MEX_POINTING_DESC = "MEX_POINTING_DESC.TXT"
RIGHT_ASCENSION = -1e+32
DECLINATION = -1e+32
OFFSET_ANGLE = 0.2
SPACECRAFT_SOLAR_DISTANCE = 2.20844e+08
TARGET_NAME = MARS
/* CAMERA DATA ELEMENTS */
DETECTOR_TEMPERATURE = 18.3705
FOCAL_PLANE_TEMPERATURE = 8.5833
INST_CMPRS_NAME = "DISCRETE COSINE TRANSFORMATION (DCT)"
INST_CMPRS_RATIO = 15.1527
INST_CMPRS_QUALITY = 0
INST_CMPRS_QUANTZ_TBL_ID = 0
INSTRUMENT_TEMPERATURE = 11.6418
LENS_TEMPERATURE = 8.5833
MACROPIXEL_SIZE = 2
MISSING_FRAMES = 0
PIXEL_SUBSAMPLING_FLAG = N
SIGNAL_CHAIN_ID = 1
/* RADIOMETRIC DATA ELEMENTS */
BANDWIDTH = 178.0
CENTER_FILTER_WAVELENGTH = 679.0
RADIANCE_OFFSET = 3.69013
RADIANCE_SCALING_FACTOR = 0.0102821
REFLECTANCE_SCALING_FACTOR = 0.000265572
MEX:REFLECTANCE_OFFSET = 0.0953108
/* IMAGE OBJECT DEFINITIONS */
OBJECT = IMAGE
  INTERCHANGE_FORMAT = BINARY
  LINES = 24126
  LINE_SAMPLES = 2883
  SAMPLE_TYPE = UNSIGNED_INTEGER
  SAMPLE_BITS = 8
  BANDS = 1
  BAND_STORAGE_TYPE = BAND_SEQUENTIAL
  MAXIMUM = 255
  MEAN = 117.154
  MINIMUM = 1
  STANDARD_DEVIATION = 33.3021
END_OBJECT = IMAGE
/* MAP OBJECT DEFINITIONS */
OBJECT = IMAGE_MAP_PROJECTION
  ^DATA_SET_MAP_PROJECTION_CATALOG= "DSMAP.CAT"
  A_AXIS_RADIUS = 3396.0
  B_AXIS_RADIUS = 3396.0
  C_AXIS_RADIUS = 3396.0
  CENTER_LATITUDE = 0.0
  CENTER_LONGITUDE = 313.0
  COORDINATE_SYSTEM_NAME = PLANETOGRAPHIC
  COORDINATE_SYSTEM_TYPE = "BODY-FIXED ROTATING"
  EASTERNMOST_LONGITUDE = 313.854
  FIRST_STANDARD_PARALLEL = "N/A"
  LINE_FIRST_PIXEL = 1
  LINE_LAST_PIXEL = 24126
  LINE_PROJECTION_OFFSET = -24557.25
  MAP_PROJECTION_ROTATION = 0.0
  MAP_PROJECTION_TYPE = SINUSOIDAL
  MAP_RESOLUTION = 2370.85521546667
  MAP_SCALE = 0.025
  MAXIMUM_LATITUDE = -10.3331
  MINIMUM_LATITUDE = -20.5625
  POSITIVE_LONGITUDE_DIRECTION = EAST
  REFERENCE_LATITUDE = "N/A"
  REFERENCE_LONGITUDE = "N/A"
  SAMPLE_FIRST_PIXEL = 1
  SAMPLE_LAST_PIXEL = 2883
  SAMPLE_PROJECTION_OFFSET = 1014.75
  SECOND_STANDARD_PARALLEL = "N/A"
  WESTERNMOST_LONGITUDE = 312.553
END_OBJECT = IMAGE_MAP_PROJECTION
END
