PDS_VERSION_ID = PDS3
/* FILE DATA ELEMENTS */
RECORD_TYPE = UNDEFINED
/* POINTERS TO DATA OBJECTS */
^IMAGE = ("HG686_0000_ND4.TIF")
/* IDENTIFICATION DATA ELEMENTS */
DATA_SET_ID = "MEX-M-HRSC-4-REFDR-MAPPROJECT-EXT6-V4.0"
DATA_SET_NAME = "MARS EXPRESS HRSC MAP PROJECTED REFDR EXTENSION6 V4.0"
DETECTOR_ID = MEX_HRSC_NADIR
EVENT_TYPE = "MARS-REGIONAL-MAPPING-Im-Gl-La"
INSTRUMENT_HOST_ID = MEX
INSTRUMENT_HOST_NAME = "MARS EXPRESS"
INSTRUMENT_ID = HRSC
INSTRUMENT_NAME = "HIGH RESOLUTION STEREO CAMERA"
MISSION_NAME = "MARS EXPRESS"
MISSION_PHASE_NAME = ME_Phase_36
PROCESSING_LEVEL_ID = 4
PRODUCT_CREATION_TIME = 2023-01-26T14:39:22.000Z
PRODUCT_ID = "HG686_0000_ND4.TIF"
RELEASE_ID = 0001
REVISION_ID = 0000
/* QUALITY DATA ELEMENTS */
DATA_QUALITY_ID = 1
DATA_QUALITY_DESC = "Data calculated based on original SPICE kernels"
/* TIME DATA ELEMENTS */
SPACECRAFT_CLOCK_START_COUNT = "1/0436774653.09265"
SPACECRAFT_CLOCK_STOP_COUNT = "1/0436774869.55139"
START_TIME = 2017-03-05T06:18:18.653Z
STOP_TIME = 2017-03-05T06:20:25.133Z
/* ORBITAL DATA ELEMENTS */
ASCENDING_NODE_LONGITUDE = 260.51
MAXIMUM_RESOLUTION = 0.0139
FOOTPRINT_POINT_LATITUDE = (-31.3441,-31.3478,-31.3501,-31.3518, -31.3531,-31.3538,-31.354,-31.354, -31.3523,-31.1746,-30.9968,-30.8189, -30.6409,-30.4628,-30.2846,-30.1063, -29.9279,-29.7494,-29.5708,-29.3921, -29.2133,-29.0344,-28.8556,-28.6765, -28.4973,-28.3181,-28.1388,-27.8696, -27.6902,-27.5251,-27.2239,-26.9226, -26.621,-26.3193,-25.9418,-25.564, -25.2615,-24.9589,-24.7318,-24.5804, -24.4289,-24.2774,-24.1258,-23.9742, -23.8227,-23.671,-23.4433,-23.2915, -23.2156,-23.198,-23.1956,-23.1933, -23.1911,-23.1874,-23.1847,-23.1845, -23.1846,-23.3364,-23.4882,-23.7159, -23.8675,-24.0193,-24.1708,-24.3224, -24.474,-24.6254,-24.7768,-24.9282, -25.0796,-25.231,-25.3822,-25.6847, -25.836,-26.0627,-26.365,-26.591, -26.9681,-27.2695,-27.5708,-27.8368, -28.0163,-28.1958,-28.3751,-28.5544, -28.7336,-28.9127,-29.0917,-29.2706, -29.4493,-29.7171,-29.9849,-30.1633, -30.3417,-30.5199,-30.698,-30.8761, -31.0541,-31.232,-31.3209,-31.3441)
FOOTPRINT_POINT_LONGITUDE = (61.9568,61.6246,61.3637,61.107,60.8545 ,60.6057,60.3603,60.3451,60.3633, 60.3652,60.3669,60.3686,60.37,60.3709, 60.3725,60.3734,60.3751,60.3764,60.3774 ,60.3787,60.38,60.3811,60.3793,60.3803, 60.382,60.3837,60.3845,60.3858,60.3849, 60.3886,60.3907,60.3912,60.3928,60.3937 ,60.3945,60.3958,60.3971,60.3979, 60.3981,60.3973,60.3973,60.3974,60.3982 ,60.3984,60.3964,60.3957,60.3981, 60.3988,60.3991,60.3991,60.7551,61.0249 ,61.2559,61.5632,61.7642,61.7787, 61.7858,61.7896,61.7927,61.7965,61.8012 ,61.803,61.8093,61.813,61.8161,61.8204, 61.8268,61.8312,61.8348,61.8382,61.8433 ,61.8521,61.8511,61.8536,61.8547, 61.8731,61.8812,61.8903,61.8971,61.9039 ,61.9107,61.9148,61.9202,61.9267,61.933 ,61.9387,61.9423,61.9505,61.9604, 61.9797,61.9903,61.9968,62.0039,62.0114 ,62.0181,62.0239,62.0292,62.0363, 62.0389,61.9568)
ORBIT_NUMBER = 16686
ORBITAL_ECCENTRICITY = 0.579
ORBITAL_INCLINATION = 86.95
ORBITAL_SEMIMAJOR_AXIS = 8854.7
PERIAPSIS_ALTITUDE = 335.11
PERIAPSIS_ARGUMENT_ANGLE = 342.91
PERIAPSIS_TIME = 2017-03-05T06:22:00.000Z
SPACECRAFT_ORIENTATION = (0.0,1.0,0.0)
^MEX_ORIENTATION_DESC = "MEX_ORIENTATION_DESC.TXT"
SPACECRAFT_POINTING_MODE = ACROSSTRACK
^MEX_POINTING_DESC = "MEX_POINTING_DESC.TXT"
RIGHT_ASCENSION = -1e+32
DECLINATION = -1e+32
OFFSET_ANGLE = -1.3
SPACECRAFT_SOLAR_DISTANCE = 2.21177e+08
TARGET_NAME = MARS
/* CAMERA DATA ELEMENTS */
DETECTOR_TEMPERATURE = 0.0
FOCAL_PLANE_TEMPERATURE = 0.0
INST_CMPRS_NAME = "DISCRETE COSINE TRANSFORMATION (DCT)"
INST_CMPRS_RATIO = 6.47559
INST_CMPRS_QUALITY = 0
INST_CMPRS_QUANTZ_TBL_ID = 0
INSTRUMENT_TEMPERATURE = 0.0
LENS_TEMPERATURE = 0.0
MACROPIXEL_SIZE = 1
MISSING_FRAMES = 0
PIXEL_SUBSAMPLING_FLAG = N
SIGNAL_CHAIN_ID = 0
/* RADIOMETRIC DATA ELEMENTS */
BANDWIDTH = 177.0
CENTER_FILTER_WAVELENGTH = 677.5
RADIANCE_OFFSET = 2.75505
RADIANCE_SCALING_FACTOR = 0.0108041
REFLECTANCE_SCALING_FACTOR = 0.000280771
MEX:REFLECTANCE_OFFSET = 0.0715965
/* IMAGE OBJECT DEFINITIONS */
OBJECT = IMAGE
  INTERCHANGE_FORMAT = BINARY
  LINES = 38731
  LINE_SAMPLES = 6841
  SAMPLE_TYPE = UNSIGNED_INTEGER
  SAMPLE_BITS = 8
  BANDS = 1
  BAND_STORAGE_TYPE = BAND_SEQUENTIAL
  MAXIMUM = 255
  MEAN = 111.466
  MINIMUM = 1
  STANDARD_DEVIATION = 33.0112
END_OBJECT = IMAGE
/* MAP OBJECT DEFINITIONS */
OBJECT = IMAGE_MAP_PROJECTION
  ^DATA_SET_MAP_PROJECTION_CATALOG= "DSMAP.CAT"
  A_AXIS_RADIUS = 3396.0
  B_AXIS_RADIUS = 3396.0
  C_AXIS_RADIUS = 3396.0
  CENTER_LATITUDE = 0.0
  CENTER_LONGITUDE = 61.0
  COORDINATE_SYSTEM_NAME = PLANETOGRAPHIC
  COORDINATE_SYSTEM_TYPE = "BODY-FIXED ROTATING"
  EASTERNMOST_LONGITUDE = 62.0389
  FIRST_STANDARD_PARALLEL = "N/A"
  LINE_FIRST_PIXEL = 1
  LINE_LAST_PIXEL = 38731
  LINE_PROJECTION_OFFSET = -109935.0
  MAP_PROJECTION_ROTATION = 0.0
  MAP_PROJECTION_TYPE = SINUSOIDAL
  MAP_RESOLUTION = 4741.71043093333
  MAP_SCALE = 0.0125
  MAXIMUM_LATITUDE = -23.1845
  MINIMUM_LATITUDE = -31.354
  POSITIVE_LONGITUDE_DIRECTION = EAST
  REFERENCE_LATITUDE = "N/A"
  REFERENCE_LONGITUDE = "N/A"
  SAMPLE_FIRST_PIXEL = 1
  SAMPLE_LAST_PIXEL = 6841
  SAMPLE_PROJECTION_OFFSET = 2629.0
  SECOND_STANDARD_PARALLEL = "N/A"
  WESTERNMOST_LONGITUDE = 60.3451
END_OBJECT = IMAGE_MAP_PROJECTION
END
