PDS_VERSION_ID = PDS3
/* FILE DATA ELEMENTS */
RECORD_TYPE = UNDEFINED
/* POINTERS TO DATA OBJECTS */
^IMAGE = ("HG686_0000_S24.TIF")
/* IDENTIFICATION DATA ELEMENTS */
DATA_SET_ID = "MEX-M-HRSC-4-REFDR-MAPPROJECT-EXT6-V4.0"
DATA_SET_NAME = "MARS EXPRESS HRSC MAP PROJECTED REFDR EXTENSION6 V4.0"
DETECTOR_ID = MEX_HRSC_S2
EVENT_TYPE = "MARS-REGIONAL-MAPPING-Im-Gl-La"
INSTRUMENT_HOST_ID = MEX
INSTRUMENT_HOST_NAME = "MARS EXPRESS"
INSTRUMENT_ID = HRSC
INSTRUMENT_NAME = "HIGH RESOLUTION STEREO CAMERA"
MISSION_NAME = "MARS EXPRESS"
MISSION_PHASE_NAME = ME_Phase_36
PROCESSING_LEVEL_ID = 4
PRODUCT_CREATION_TIME = 2023-01-26T14:39:22.000Z
PRODUCT_ID = "HG686_0000_S24.TIF"
RELEASE_ID = 0001
REVISION_ID = 0000
/* QUALITY DATA ELEMENTS */
DATA_QUALITY_ID = 1
DATA_QUALITY_DESC = "Data calculated based on original SPICE kernels"
/* TIME DATA ELEMENTS */
SPACECRAFT_CLOCK_START_COUNT = "1/0436774653.09265"
SPACECRAFT_CLOCK_STOP_COUNT = "1/0436774869.55139"
START_TIME = 2017-03-05T06:17:41.000Z
STOP_TIME = 2017-03-05T06:20:14.718Z
/* ORBITAL DATA ELEMENTS */
ASCENDING_NODE_LONGITUDE = 260.51
MAXIMUM_RESOLUTION = 0.0298
FOOTPRINT_POINT_LATITUDE = (-31.3358,-31.3649,-31.3847,-31.4032, -31.4204,-31.4366,-31.4518,-31.4527, -31.3748,-31.1767,-30.9808,-30.7837, -30.4893,-30.1911,-29.894,-29.695, -29.4967,-29.2963,-29.0963,-28.8027, -28.604,-28.399,-28.1975,-27.9959, -27.694,-27.486,-27.2834,-27.0789, -26.7732,-26.5688,-26.2627,-26.0599, -25.8529,-25.6486,-25.4489,-25.1024, -24.8428,-24.4999,-24.1515,-23.9776, -23.6364,-23.4557,-23.2785,-23.1041, -22.9298,-22.588,-22.4111,-22.1458, -21.9705,-21.8837,-21.8491,-21.8148, -21.7939,-21.7608,-21.7253,-21.7239, -21.7238,-21.9844,-22.1617,-22.3377, -22.5124,-22.6874,-22.8633,-23.2143, -23.4752,-23.6493,-23.8239,-24.0036, -24.3428,-24.772,-25.0308,-25.3777, -25.5813,-25.8956,-26.1045,-26.3108, -26.5112,-26.7096,-26.9167,-27.1189, -27.3226,-27.528,-27.7306,-28.0332, -28.2374,-28.5383,-28.7399,-28.9402, -29.1423,-29.3386,-29.5266,-29.7254, -30.0224,-30.2221,-30.4175,-30.6155, -30.8143,-31.1119,-31.211,-31.3358)
FOOTPRINT_POINT_LONGITUDE = (62.01,61.6348,61.3668,61.1029,60.843, 60.5868,60.3337,60.3181,60.3371,60.3401 ,60.3423,60.3447,60.3475,60.3512, 60.3541,60.3561,60.3577,60.3599,60.3617 ,60.3621,60.363,60.3659,60.3675,60.369, 60.3707,60.3739,60.3751,60.3768,60.3788 ,60.3801,60.3816,60.382,60.3836,60.3843 ,60.3855,60.3874,60.3885,60.3884, 60.3898,60.3903,60.3886,60.3912,60.3925 ,60.3926,60.3927,60.3901,60.3908, 60.3916,60.3915,60.3911,60.3905,60.7928 ,61.0323,61.4001,61.7658,61.78,61.7851, 61.7934,61.7954,61.7986,61.8029,61.8068 ,61.8098,61.8161,61.8228,61.827,61.8306 ,61.8293,61.8455,61.8603,61.8675, 61.8777,61.8853,61.8877,61.8897,61.894, 61.9038,61.9154,61.9185,61.926,61.9319, 61.9361,61.9427,61.9535,61.9581,61.9698 ,61.9764,61.9841,61.9898,62.0009, 62.0198,62.0281,62.0413,62.0483,62.059, 62.0672,62.0743,62.0852,62.0889,62.01)
ORBIT_NUMBER = 16686
ORBITAL_ECCENTRICITY = 0.579
ORBITAL_INCLINATION = 86.95
ORBITAL_SEMIMAJOR_AXIS = 8854.7
PERIAPSIS_ALTITUDE = 335.11
PERIAPSIS_ARGUMENT_ANGLE = 342.91
PERIAPSIS_TIME = 2017-03-05T06:22:00.000Z
SPACECRAFT_ORIENTATION = (0.0,1.0,0.0)
^MEX_ORIENTATION_DESC = "MEX_ORIENTATION_DESC.TXT"
SPACECRAFT_POINTING_MODE = ACROSSTRACK
^MEX_POINTING_DESC = "MEX_POINTING_DESC.TXT"
RIGHT_ASCENSION = -1e+32
DECLINATION = -1e+32
OFFSET_ANGLE = -1.3
SPACECRAFT_SOLAR_DISTANCE = 2.21177e+08
TARGET_NAME = MARS
/* CAMERA DATA ELEMENTS */
DETECTOR_TEMPERATURE = 0.0
FOCAL_PLANE_TEMPERATURE = 0.0
INST_CMPRS_NAME = "DISCRETE COSINE TRANSFORMATION (DCT)"
INST_CMPRS_RATIO = 12.6095
INST_CMPRS_QUALITY = 0
INST_CMPRS_QUANTZ_TBL_ID = 0
INSTRUMENT_TEMPERATURE = 0.0
LENS_TEMPERATURE = 0.0
MACROPIXEL_SIZE = 2
MISSING_FRAMES = 0
PIXEL_SUBSAMPLING_FLAG = N
SIGNAL_CHAIN_ID = 1
/* RADIOMETRIC DATA ELEMENTS */
BANDWIDTH = 178.0
CENTER_FILTER_WAVELENGTH = 679.0
RADIANCE_OFFSET = 3.33623
RADIANCE_SCALING_FACTOR = 0.00957311
REFLECTANCE_SCALING_FACTOR = 0.000248005
MEX:REFLECTANCE_OFFSET = 0.0864296
/* IMAGE OBJECT DEFINITIONS */
OBJECT = IMAGE
  INTERCHANGE_FORMAT = BINARY
  LINES = 19366
  LINE_SAMPLES = 3421
  SAMPLE_TYPE = UNSIGNED_INTEGER
  SAMPLE_BITS = 8
  BANDS = 1
  BAND_STORAGE_TYPE = BAND_SEQUENTIAL
  MAXIMUM = 255
  MEAN = 129.572
  MINIMUM = 1
  STANDARD_DEVIATION = 40.4642
END_OBJECT = IMAGE
/* MAP OBJECT DEFINITIONS */
OBJECT = IMAGE_MAP_PROJECTION
  ^DATA_SET_MAP_PROJECTION_CATALOG= "DSMAP.CAT"
  A_AXIS_RADIUS = 3396.0
  B_AXIS_RADIUS = 3396.0
  C_AXIS_RADIUS = 3396.0
  CENTER_LATITUDE = 0.0
  CENTER_LONGITUDE = 61.0
  COORDINATE_SYSTEM_NAME = PLANETOGRAPHIC
  COORDINATE_SYSTEM_TYPE = "BODY-FIXED ROTATING"
  EASTERNMOST_LONGITUDE = 62.0889
  FIRST_STANDARD_PARALLEL = "N/A"
  LINE_FIRST_PIXEL = 1
  LINE_LAST_PIXEL = 19366
  LINE_PROJECTION_OFFSET = -54967.75
  MAP_PROJECTION_ROTATION = 0.0
  MAP_PROJECTION_TYPE = SINUSOIDAL
  MAP_RESOLUTION = 2370.85521546667
  MAP_SCALE = 0.025
  MAXIMUM_LATITUDE = -21.7238
  MINIMUM_LATITUDE = -31.4527
  POSITIVE_LONGITUDE_DIRECTION = EAST
  REFERENCE_LATITUDE = "N/A"
  REFERENCE_LONGITUDE = "N/A"
  SAMPLE_FIRST_PIXEL = 1
  SAMPLE_LAST_PIXEL = 3421
  SAMPLE_PROJECTION_OFFSET = 1314.25
  SECOND_STANDARD_PARALLEL = "N/A"
  WESTERNMOST_LONGITUDE = 60.3181
END_OBJECT = IMAGE_MAP_PROJECTION
END
