PDS_VERSION_ID = PDS3
/* FILE DATA ELEMENTS */
RECORD_TYPE = UNDEFINED
/* POINTERS TO DATA OBJECTS */
^IMAGE = ("HG688_0000_IR4.TIF")
/* IDENTIFICATION DATA ELEMENTS */
DATA_SET_ID = "MEX-M-HRSC-4-REFDR-MAPPROJECT-EXT6-V4.0"
DATA_SET_NAME = "MARS EXPRESS HRSC MAP PROJECTED REFDR EXTENSION6 V4.0"
DETECTOR_ID = MEX_HRSC_IR
EVENT_TYPE = "MARS-REGIONAL-STEREO-Vo-Te"
INSTRUMENT_HOST_ID = MEX
INSTRUMENT_HOST_NAME = "MARS EXPRESS"
INSTRUMENT_ID = HRSC
INSTRUMENT_NAME = "HIGH RESOLUTION STEREO CAMERA"
MISSION_NAME = "MARS EXPRESS"
MISSION_PHASE_NAME = ME_Phase_36
PROCESSING_LEVEL_ID = 4
PRODUCT_CREATION_TIME = 2023-01-26T14:39:22.000Z
PRODUCT_ID = "HG688_0000_IR4.TIF"
RELEASE_ID = 0001
REVISION_ID = 0000
/* QUALITY DATA ELEMENTS */
DATA_QUALITY_ID = 1
DATA_QUALITY_DESC = "Data calculated based on original SPICE kernels"
/* TIME DATA ELEMENTS */
SPACECRAFT_CLOCK_START_COUNT = "1/0436825046.09032"
SPACECRAFT_CLOCK_STOP_COUNT = "1/0436825230.00008"
START_TIME = 2017-03-05T20:18:36.119Z
STOP_TIME = 2017-03-05T20:20:31.164Z
/* ORBITAL DATA ELEMENTS */
ASCENDING_NODE_LONGITUDE = 260.47
MAXIMUM_RESOLUTION = 0.1124
FOOTPRINT_POINT_LATITUDE = (-29.4512,-29.4505,-29.4496,-29.4486, -29.4467,-29.4451,-29.445,-29.4608, -29.3098,-29.1598,-29.0104,-28.8598, -28.71,-28.5606,-28.4108,-28.1859, -28.0361,-27.8118,-27.6622,-27.5119, -27.3613,-27.2115,-26.9866,-26.8367, -26.6869,-26.4627,-26.313,-26.1629, -26.0127,-25.8629,-25.7126,-25.5618, -25.4114,-25.2612,-25.1099,-24.9595, -24.8106,-24.5141,-24.2896,-24.1393, -23.9151,-23.7656,-23.541,-23.3917, -23.2427,-23.0932,-22.9436,-22.7954, -22.5061,-22.2164,-21.9992,-21.9267, -21.8878,-21.8873,-21.8877,-21.8834, -21.8846,-21.8845,-21.8862,-22.1724, -22.4587,-22.7516,-22.8999,-23.1226, -23.4194,-23.5699,-23.722,-23.874, -24.0257,-24.176,-24.4722,-24.6977, -24.8478,-24.9984,-25.2241,-25.4476, -25.5961,-25.7452,-25.8957,-26.1209, -26.271,-26.4213,-26.6469,-26.7992, -26.9503,-27.2445,-27.3956,-27.5467, -27.697,-27.845,-28.0702,-28.2212, -28.4471,-28.6697,-28.8191,-28.9695, -29.1194,-29.3441,-29.4199,-29.4512)
FOOTPRINT_POINT_LONGITUDE = (215.769,215.436,215.183,214.971, 214.611,214.372,214.358,214.344,214.348 ,214.352,214.355,214.358,214.361, 214.364,214.367,214.372,214.375,214.379 ,214.382,214.385,214.388,214.39,214.394 ,214.397,214.399,214.402,214.405, 214.407,214.41,214.412,214.414,214.417, 214.419,214.421,214.424,214.426,214.427 ,214.43,214.432,214.434,214.436,214.438 ,214.44,214.442,214.443,214.444,214.445 ,214.447,214.449,214.451,214.453, 214.454,214.454,214.807,215.149,215.479 ,215.692,215.704,215.711,215.712, 215.713,215.717,215.718,215.719,215.721 ,215.722,215.724,215.726,215.728,215.73 ,215.731,215.733,215.734,215.736, 215.738,215.739,215.74,215.741,215.742, 215.744,215.745,215.747,215.749,215.751 ,215.753,215.753,215.755,215.757, 215.758,215.759,215.761,215.762,215.765 ,215.766,215.767,215.768,215.769, 215.771,215.772,215.769)
ORBIT_NUMBER = 16688
ORBITAL_ECCENTRICITY = 0.579
ORBITAL_INCLINATION = 86.95
ORBITAL_SEMIMAJOR_AXIS = 8850.58
PERIAPSIS_ALTITUDE = 335.15
PERIAPSIS_ARGUMENT_ANGLE = 342.54
PERIAPSIS_TIME = 2017-03-05T20:21:15.000Z
SPACECRAFT_ORIENTATION = (0.0,1.0,0.0)
^MEX_ORIENTATION_DESC = "MEX_ORIENTATION_DESC.TXT"
SPACECRAFT_POINTING_MODE = NADIR
^MEX_POINTING_DESC = "MEX_POINTING_DESC.TXT"
RIGHT_ASCENSION = -1e+32
DECLINATION = -1e+32
OFFSET_ANGLE = -1e+32
SPACECRAFT_SOLAR_DISTANCE = 2.21288e+08
TARGET_NAME = MARS
/* CAMERA DATA ELEMENTS */
DETECTOR_TEMPERATURE = 18.3705
FOCAL_PLANE_TEMPERATURE = 9.8067
INST_CMPRS_NAME = "DISCRETE COSINE TRANSFORMATION (DCT)"
INST_CMPRS_RATIO = 9.67939
INST_CMPRS_QUALITY = 0
INST_CMPRS_QUANTZ_TBL_ID = 0
INSTRUMENT_TEMPERATURE = 12.8652
LENS_TEMPERATURE = 10.2145
MACROPIXEL_SIZE = 8
MISSING_FRAMES = 0
PIXEL_SUBSAMPLING_FLAG = N
SIGNAL_CHAIN_ID = 2
/* RADIOMETRIC DATA ELEMENTS */
BANDWIDTH = 81.0
CENTER_FILTER_WAVELENGTH = 955.5
RADIANCE_OFFSET = 0.820651
RADIANCE_SCALING_FACTOR = 0.00500065
REFLECTANCE_SCALING_FACTOR = 0.000528286
MEX:REFLECTANCE_OFFSET = 0.0866963
/* IMAGE OBJECT DEFINITIONS */
OBJECT = IMAGE
  INTERCHANGE_FORMAT = BINARY
  LINES = 4491
  LINE_SAMPLES = 761
  SAMPLE_TYPE = UNSIGNED_INTEGER
  SAMPLE_BITS = 8
  BANDS = 1
  BAND_STORAGE_TYPE = BAND_SEQUENTIAL
  MAXIMUM = 255
  MEAN = 130.103
  MINIMUM = 1
  STANDARD_DEVIATION = 26.6765
END_OBJECT = IMAGE
/* MAP OBJECT DEFINITIONS */
OBJECT = IMAGE_MAP_PROJECTION
  ^DATA_SET_MAP_PROJECTION_CATALOG= "DSMAP.CAT"
  A_AXIS_RADIUS = 3396.0
  B_AXIS_RADIUS = 3396.0
  C_AXIS_RADIUS = 3396.0
  CENTER_LATITUDE = 0.0
  CENTER_LONGITUDE = 215.0
  COORDINATE_SYSTEM_NAME = PLANETOGRAPHIC
  COORDINATE_SYSTEM_TYPE = "BODY-FIXED ROTATING"
  EASTERNMOST_LONGITUDE = 215.772
  FIRST_STANDARD_PARALLEL = "N/A"
  LINE_FIRST_PIXEL = 1
  LINE_LAST_PIXEL = 4491
  LINE_PROJECTION_OFFSET = -12986.6875
  MAP_PROJECTION_ROTATION = 0.0
  MAP_PROJECTION_TYPE = SINUSOIDAL
  MAP_RESOLUTION = 592.713803866667
  MAP_SCALE = 0.1
  MAXIMUM_LATITUDE = -21.8834
  MINIMUM_LATITUDE = -29.4608
  POSITIVE_LONGITUDE_DIRECTION = EAST
  REFERENCE_LATITUDE = "N/A"
  REFERENCE_LONGITUDE = "N/A"
  SAMPLE_FIRST_PIXEL = 1
  SAMPLE_LAST_PIXEL = 761
  SAMPLE_PROJECTION_OFFSET = 353.9375
  SECOND_STANDARD_PARALLEL = "N/A"
  WESTERNMOST_LONGITUDE = 214.344
END_OBJECT = IMAGE_MAP_PROJECTION
END
