PDS_VERSION_ID = PDS3
/* FILE DATA ELEMENTS */
RECORD_TYPE = UNDEFINED
/* POINTERS TO DATA OBJECTS */
^IMAGE = ("HG688_0000_P24.TIF")
/* IDENTIFICATION DATA ELEMENTS */
DATA_SET_ID = "MEX-M-HRSC-4-REFDR-MAPPROJECT-EXT6-V4.0"
DATA_SET_NAME = "MARS EXPRESS HRSC MAP PROJECTED REFDR EXTENSION6 V4.0"
DETECTOR_ID = MEX_HRSC_P2
EVENT_TYPE = "MARS-REGIONAL-STEREO-Vo-Te"
INSTRUMENT_HOST_ID = MEX
INSTRUMENT_HOST_NAME = "MARS EXPRESS"
INSTRUMENT_ID = HRSC
INSTRUMENT_NAME = "HIGH RESOLUTION STEREO CAMERA"
MISSION_NAME = "MARS EXPRESS"
MISSION_PHASE_NAME = ME_Phase_36
PROCESSING_LEVEL_ID = 4
PRODUCT_CREATION_TIME = 2023-01-26T14:39:22.000Z
PRODUCT_ID = "HG688_0000_P24.TIF"
RELEASE_ID = 0001
REVISION_ID = 0000
/* QUALITY DATA ELEMENTS */
DATA_QUALITY_ID = 1
DATA_QUALITY_DESC = "Data calculated based on original SPICE kernels"
/* TIME DATA ELEMENTS */
SPACECRAFT_CLOCK_START_COUNT = "1/0436825046.09032"
SPACECRAFT_CLOCK_STOP_COUNT = "1/0436825230.00008"
START_TIME = 2017-03-05T20:17:46.392Z
STOP_TIME = 2017-03-05T20:19:45.540Z
/* ORBITAL DATA ELEMENTS */
ASCENDING_NODE_LONGITUDE = 260.47
MAXIMUM_RESOLUTION = 0.0282
FOOTPRINT_POINT_LATITUDE = (-29.5003,-29.5001,-29.4993,-29.4977, -29.4961,-29.4909,-29.4907,-29.4753, -29.3035,-29.0448,-28.7857,-28.6127, -28.4394,-28.267,-27.9756,-27.6844, -27.4664,-27.3206,-27.1746,-26.956, -26.8096,-26.6632,-26.5166,-26.3701, -26.1504,-26.0044,-25.8573,-25.6378, -25.4914,-25.1993,-25.0525,-24.9044, -24.7562,-24.607,-24.4588,-24.2379, -24.0161,-23.868,-23.7202,-23.5721, -23.4238,-23.2753,-23.0526,-22.9045, -22.7559,-22.5331,-22.3847,-22.236, -22.0129,-21.9386,-21.9207,-21.9235, -21.9235,-21.9264,-21.9243,-21.9238, -21.9242,-22.0739,-22.2242,-22.3748, -22.5253,-22.6734,-22.9667,-23.1169, -23.2678,-23.4169,-23.5636,-23.783, -23.9302,-24.0766,-24.2989,-24.4481, -24.5972,-24.8173,-25.0379,-25.185, -25.4062,-25.5553,-25.7029,-25.9231, -26.0701,-26.2167,-26.4368,-26.5838, -26.8729,-27.0195,-27.168,-27.388, -27.6788,-27.8265,-27.9732,-28.2617, -28.4312,-28.6059,-28.7811,-29.0406, -29.2136,-29.3861,-29.4722,-29.5003)
FOOTPRINT_POINT_LONGITUDE = (215.801,215.366,215.163,214.931, 214.742,214.321,214.307,214.295,214.3, 214.306,214.313,214.317,214.322,214.326 ,214.332,214.339,214.344,214.347,214.35 ,214.355,214.358,214.36,214.363,214.366 ,214.37,214.373,214.376,214.38,214.383, 214.389,214.391,214.393,214.395,214.396 ,214.398,214.402,214.405,214.407, 214.409,214.41,214.412,214.414,214.416, 214.418,214.42,214.422,214.424,214.425, 214.428,214.428,214.429,214.704,215.104 ,215.442,215.704,215.717,215.722, 215.723,215.724,215.724,215.725,215.727 ,215.732,215.732,215.733,215.734, 215.736,215.74,215.742,215.744,215.747, 215.748,215.748,215.752,215.754,215.756 ,215.758,215.759,215.761,215.763, 215.765,215.767,215.769,215.771,215.776 ,215.777,215.778,215.78,215.784,215.785 ,215.786,215.791,215.793,215.795, 215.796,215.799,215.801,215.803,215.805 ,215.801)
ORBIT_NUMBER = 16688
ORBITAL_ECCENTRICITY = 0.579
ORBITAL_INCLINATION = 86.95
ORBITAL_SEMIMAJOR_AXIS = 8850.58
PERIAPSIS_ALTITUDE = 335.15
PERIAPSIS_ARGUMENT_ANGLE = 342.54
PERIAPSIS_TIME = 2017-03-05T20:21:15.000Z
SPACECRAFT_ORIENTATION = (0.0,1.0,0.0)
^MEX_ORIENTATION_DESC = "MEX_ORIENTATION_DESC.TXT"
SPACECRAFT_POINTING_MODE = NADIR
^MEX_POINTING_DESC = "MEX_POINTING_DESC.TXT"
RIGHT_ASCENSION = -1e+32
DECLINATION = -1e+32
OFFSET_ANGLE = -1e+32
SPACECRAFT_SOLAR_DISTANCE = 2.21288e+08
TARGET_NAME = MARS
/* CAMERA DATA ELEMENTS */
DETECTOR_TEMPERATURE = 19.1861
FOCAL_PLANE_TEMPERATURE = 9.8067
INST_CMPRS_NAME = "DISCRETE COSINE TRANSFORMATION (DCT)"
INST_CMPRS_RATIO = 8.42773
INST_CMPRS_QUALITY = 0
INST_CMPRS_QUANTZ_TBL_ID = 0
INSTRUMENT_TEMPERATURE = 12.8652
LENS_TEMPERATURE = 10.2145
MACROPIXEL_SIZE = 2
MISSING_FRAMES = 0
PIXEL_SUBSAMPLING_FLAG = N
SIGNAL_CHAIN_ID = 3
/* RADIOMETRIC DATA ELEMENTS */
BANDWIDTH = 177.0
CENTER_FILTER_WAVELENGTH = 676.5
RADIANCE_OFFSET = 3.33077
RADIANCE_SCALING_FACTOR = 0.0167938
REFLECTANCE_SCALING_FACTOR = 0.000436031
MEX:REFLECTANCE_OFFSET = 0.0864794
/* IMAGE OBJECT DEFINITIONS */
OBJECT = IMAGE
  INTERCHANGE_FORMAT = BINARY
  LINES = 17963
  LINE_SAMPLES = 3042
  SAMPLE_TYPE = UNSIGNED_INTEGER
  SAMPLE_BITS = 8
  BANDS = 1
  BAND_STORAGE_TYPE = BAND_SEQUENTIAL
  MAXIMUM = 255
  MEAN = 129.488
  MINIMUM = 1
  STANDARD_DEVIATION = 24.3665
END_OBJECT = IMAGE
/* MAP OBJECT DEFINITIONS */
OBJECT = IMAGE_MAP_PROJECTION
  ^DATA_SET_MAP_PROJECTION_CATALOG= "DSMAP.CAT"
  A_AXIS_RADIUS = 3396.0
  B_AXIS_RADIUS = 3396.0
  C_AXIS_RADIUS = 3396.0
  CENTER_LATITUDE = 0.0
  CENTER_LONGITUDE = 215.0
  COORDINATE_SYSTEM_NAME = PLANETOGRAPHIC
  COORDINATE_SYSTEM_TYPE = "BODY-FIXED ROTATING"
  EASTERNMOST_LONGITUDE = 215.805
  FIRST_STANDARD_PARALLEL = "N/A"
  LINE_FIRST_PIXEL = 1
  LINE_LAST_PIXEL = 17963
  LINE_PROJECTION_OFFSET = -51945.25
  MAP_PROJECTION_ROTATION = 0.0
  MAP_PROJECTION_TYPE = SINUSOIDAL
  MAP_RESOLUTION = 2370.85521546667
  MAP_SCALE = 0.025
  MAXIMUM_LATITUDE = -21.9207
  MINIMUM_LATITUDE = -29.5003
  POSITIVE_LONGITUDE_DIRECTION = EAST
  REFERENCE_LATITUDE = "N/A"
  REFERENCE_LONGITUDE = "N/A"
  SAMPLE_FIRST_PIXEL = 1
  SAMPLE_LAST_PIXEL = 3042
  SAMPLE_PROJECTION_OFFSET = 1417.25
  SECOND_STANDARD_PARALLEL = "N/A"
  WESTERNMOST_LONGITUDE = 214.295
END_OBJECT = IMAGE_MAP_PROJECTION
END
