PDS_VERSION_ID = PDS3
/* FILE DATA ELEMENTS */
RECORD_TYPE = UNDEFINED
/* POINTERS TO DATA OBJECTS */
^IMAGE = ("HG693_0000_S24.TIF")
/* IDENTIFICATION DATA ELEMENTS */
DATA_SET_ID = "MEX-M-HRSC-4-REFDR-MAPPROJECT-EXT6-V4.0"
DATA_SET_NAME = "MARS EXPRESS HRSC MAP PROJECTED REFDR EXTENSION6 V4.0"
DETECTOR_ID = MEX_HRSC_S2
EVENT_TYPE = "MARS-REGIONAL-MAPPING-Im-Gl-La"
INSTRUMENT_HOST_ID = MEX
INSTRUMENT_HOST_NAME = "MARS EXPRESS"
INSTRUMENT_ID = HRSC
INSTRUMENT_NAME = "HIGH RESOLUTION STEREO CAMERA"
MISSION_NAME = "MARS EXPRESS"
MISSION_PHASE_NAME = ME_Phase_36
PROCESSING_LEVEL_ID = 4
PRODUCT_CREATION_TIME = 2023-01-26T14:39:22.000Z
PRODUCT_ID = "HG693_0000_S24.TIF"
RELEASE_ID = 0001
REVISION_ID = 0000
/* QUALITY DATA ELEMENTS */
DATA_QUALITY_ID = 1
DATA_QUALITY_DESC = "Data calculated based on original SPICE kernels"
/* TIME DATA ELEMENTS */
SPACECRAFT_CLOCK_START_COUNT = "1/0436950938.09064"
SPACECRAFT_CLOCK_STOP_COUNT = "1/0436951197.58408"
START_TIME = 2017-03-07T07:15:46.063Z
STOP_TIME = 2017-03-07T07:19:03.792Z
/* ORBITAL DATA ELEMENTS */
ASCENDING_NODE_LONGITUDE = 260.38
MAXIMUM_RESOLUTION = 0.0286
FOOTPRINT_POINT_LATITUDE = (-31.458,-31.4524,-31.447,-31.429, -31.4286,-31.3488,-30.9327,-30.6579, -30.381,-29.9699,-29.5602,-29.2842, -28.8642,-28.5842,-28.2018,-27.8451, -27.6083,-27.3763,-27.1362,-26.9114, -26.6681,-26.302,-25.9479,-25.7096, -25.348,-24.989,-24.7502,-24.3924, -24.152,-23.9095,-23.5469,-23.3092, -23.0679,-22.8159,-22.573,-22.3289, -21.964,-21.5977,-21.3534,-20.9888, -20.6256,-20.3808,-20.1398,-19.9021, -19.6677,-19.429,-19.0649,-18.9445, -18.942,-18.9549,-18.9583,-18.9614, -18.9616,-18.9621,-19.1918,-19.437, -19.7937,-20.0283,-20.2656,-20.5096, -20.7567,-21.1212,-21.3663,-21.733, -21.9769,-22.2208,-22.4641,-22.7075, -23.0725,-23.3152,-23.679,-23.921, -24.163,-24.4055,-24.6464,-24.8878, -25.1305,-25.3694,-25.6089,-25.9664, -26.206,-26.5669,-26.8021,-27.04, -27.2801,-27.5144,-27.8657,-28.1016, -28.3364,-28.746,-29.0262,-29.3059, -29.5807,-29.8522,-30.1284,-30.5467, -30.8254,-31.2372,-31.3757,-31.458)
FOOTPRINT_POINT_LONGITUDE = (64.1476,63.6597,63.3386,62.5865, 62.5711,62.5346,62.5488,62.5592,62.5688 ,62.5849,62.6014,62.6112,62.6236, 62.6317,62.6438,62.6521,62.658,62.6658, 62.6704,62.6809,62.6842,62.6886,62.6977 ,62.7029,62.7089,62.716,62.7208,62.7282 ,62.7324,62.7358,62.7412,62.7464, 62.7501,62.7496,62.7526,62.7552,62.7594 ,62.7631,62.7654,62.7697,62.7744, 62.7764,62.7778,62.7794,62.7823,62.7834 ,62.7828,62.7829,62.7829,63.3191, 63.6093,64.0187,64.0306,64.035,64.0388, 64.0392,64.0422,64.0449,64.047,64.049, 64.0506,64.0544,64.0564,64.0596,64.0618 ,64.0639,64.0662,64.0684,64.0716, 64.0738,64.0772,64.0794,64.0817,64.0838 ,64.0862,64.0884,64.0903,64.093,64.0956 ,64.0997,64.1021,64.1052,64.1086, 64.1112,64.1132,64.1166,64.1216,64.1245 ,64.1275,64.1321,64.1355,64.139,64.1437 ,64.1492,64.1533,64.1582,64.1614, 64.1677,64.1694,64.1476)
ORBIT_NUMBER = 16693
ORBITAL_ECCENTRICITY = 0.579
ORBITAL_INCLINATION = 86.95
ORBITAL_SEMIMAJOR_AXIS = 8853.28
PERIAPSIS_ALTITUDE = 334.46
PERIAPSIS_ARGUMENT_ANGLE = 341.69
PERIAPSIS_TIME = 2017-03-07T07:19:45.000Z
SPACECRAFT_ORIENTATION = (0.0,1.0,0.0)
^MEX_ORIENTATION_DESC = "MEX_ORIENTATION_DESC.TXT"
SPACECRAFT_POINTING_MODE = ACROSSTRACK
^MEX_POINTING_DESC = "MEX_POINTING_DESC.TXT"
RIGHT_ASCENSION = -1e+32
DECLINATION = -1e+32
OFFSET_ANGLE = 0.15
SPACECRAFT_SOLAR_DISTANCE = 2.21566e+08
TARGET_NAME = MARS
/* CAMERA DATA ELEMENTS */
DETECTOR_TEMPERATURE = 19.1861
FOCAL_PLANE_TEMPERATURE = 8.5833
INST_CMPRS_NAME = "DISCRETE COSINE TRANSFORMATION (DCT)"
INST_CMPRS_RATIO = 12.6429
INST_CMPRS_QUALITY = 0
INST_CMPRS_QUANTZ_TBL_ID = 0
INSTRUMENT_TEMPERATURE = 11.6418
LENS_TEMPERATURE = 8.9911
MACROPIXEL_SIZE = 2
MISSING_FRAMES = 0
PIXEL_SUBSAMPLING_FLAG = N
SIGNAL_CHAIN_ID = 1
/* RADIOMETRIC DATA ELEMENTS */
BANDWIDTH = 178.0
CENTER_FILTER_WAVELENGTH = 679.0
RADIANCE_OFFSET = 3.21089
RADIANCE_SCALING_FACTOR = 0.0120559
REFLECTANCE_SCALING_FACTOR = 0.000313426
MEX:REFLECTANCE_OFFSET = 0.0834757
/* IMAGE OBJECT DEFINITIONS */
OBJECT = IMAGE
  INTERCHANGE_FORMAT = BINARY
  LINES = 29528
  LINE_SAMPLES = 3186
  SAMPLE_TYPE = UNSIGNED_INTEGER
  SAMPLE_BITS = 8
  BANDS = 1
  BAND_STORAGE_TYPE = BAND_SEQUENTIAL
  MAXIMUM = 255
  MEAN = 125.959
  MINIMUM = 1
  STANDARD_DEVIATION = 41.1192
END_OBJECT = IMAGE
/* MAP OBJECT DEFINITIONS */
OBJECT = IMAGE_MAP_PROJECTION
  ^DATA_SET_MAP_PROJECTION_CATALOG= "DSMAP.CAT"
  A_AXIS_RADIUS = 3396.0
  B_AXIS_RADIUS = 3396.0
  C_AXIS_RADIUS = 3396.0
  CENTER_LATITUDE = 0.0
  CENTER_LONGITUDE = 63.0
  COORDINATE_SYSTEM_NAME = PLANETOGRAPHIC
  COORDINATE_SYSTEM_TYPE = "BODY-FIXED ROTATING"
  EASTERNMOST_LONGITUDE = 64.1694
  FIRST_STANDARD_PARALLEL = "N/A"
  LINE_FIRST_PIXEL = 1
  LINE_LAST_PIXEL = 29528
  LINE_PROJECTION_OFFSET = -44924.75
  MAP_PROJECTION_ROTATION = 0.0
  MAP_PROJECTION_TYPE = SINUSOIDAL
  MAP_RESOLUTION = 2370.85521546667
  MAP_SCALE = 0.025
  MAXIMUM_LATITUDE = -18.942
  MINIMUM_LATITUDE = -31.458
  POSITIVE_LONGITUDE_DIRECTION = EAST
  REFERENCE_LATITUDE = "N/A"
  REFERENCE_LONGITUDE = "N/A"
  SAMPLE_FIRST_PIXEL = 1
  SAMPLE_LAST_PIXEL = 3186
  SAMPLE_PROJECTION_OFFSET = 874.25
  SECOND_STANDARD_PARALLEL = "N/A"
  WESTERNMOST_LONGITUDE = 62.5346
END_OBJECT = IMAGE_MAP_PROJECTION
END
