PDS_VERSION_ID = PDS3
/* FILE DATA ELEMENTS */
RECORD_TYPE = UNDEFINED
/* POINTERS TO DATA OBJECTS */
^IMAGE = ("HG697_0000_BL4.TIF")
/* IDENTIFICATION DATA ELEMENTS */
DATA_SET_ID = "MEX-M-HRSC-4-REFDR-MAPPROJECT-EXT6-V4.0"
DATA_SET_NAME = "MARS EXPRESS HRSC MAP PROJECTED REFDR EXTENSION6 V4.0"
DETECTOR_ID = MEX_HRSC_BLUE
EVENT_TYPE = "MARS-LOCAL-MAPPING-Im-Eo-La"
INSTRUMENT_HOST_ID = MEX
INSTRUMENT_HOST_NAME = "MARS EXPRESS"
INSTRUMENT_ID = HRSC
INSTRUMENT_NAME = "HIGH RESOLUTION STEREO CAMERA"
MISSION_NAME = "MARS EXPRESS"
MISSION_PHASE_NAME = ME_Phase_36
PROCESSING_LEVEL_ID = 4
PRODUCT_CREATION_TIME = 2023-01-26T14:39:22.000Z
PRODUCT_ID = "HG697_0000_BL4.TIF"
RELEASE_ID = 0001
REVISION_ID = 0000
/* QUALITY DATA ELEMENTS */
DATA_QUALITY_ID = 1
DATA_QUALITY_DESC = "Data calculated based on original SPICE kernels"
/* TIME DATA ELEMENTS */
SPACECRAFT_CLOCK_START_COUNT = "1/0437052043.08200"
SPACECRAFT_CLOCK_STOP_COUNT = "1/0437052260.54074"
START_TIME = 2017-03-08T11:21:17.789Z
STOP_TIME = 2017-03-08T11:22:07.086Z
/* ORBITAL DATA ELEMENTS */
ASCENDING_NODE_LONGITUDE = 260.3
MAXIMUM_RESOLUTION = 0.0577
FOOTPRINT_POINT_LATITUDE = (-7.34377,-7.34644,-7.34854,-7.35059, -7.35262,-7.3546,-7.35655,-7.35844, -7.3603,-7.36212,-7.36391,-7.36567, -7.36741,-7.3691,-7.36931,-7.36773, -7.22226,-7.10597,-6.98954,-6.90207, -6.81449,-6.69853,-6.58204,-6.43695, -6.29164,-6.17549,-6.08839,-6.00141, -5.88558,-5.81911,-5.74988,-5.64608, -5.54223,-5.43803,-5.36848,-5.29928, -5.23014,-5.12653,-5.05738,-4.9882, -4.88457,-4.81547,-4.71184,-4.60816, -4.50452,-4.43545,-4.36639,-4.29738, -4.22836,-4.19387,-4.18779,-4.18602, -4.18408,-4.18257,-4.18076,-4.17877, -4.17579,-4.17344,-4.17213,-4.17029, -4.16844,-4.16653,-4.16383,-4.16158, -4.1613,-4.16242,-4.23155,-4.30052, -4.36955,-4.4385,-4.50753,-4.61106, -4.71463,-4.81833,-4.88747,-4.99129, -5.09547,-5.16477,-5.26865,-5.33791, -5.44177,-5.51099,-5.58018,-5.68396, -5.78791,-5.91348,-6.00109,-6.11843, -6.23459,-6.32147,-6.40855,-6.5247, -6.66998,-6.78619,-6.9026,-7.01895, -7.16454,-7.30997,-7.33909,-7.34377)
FOOTPRINT_POINT_LONGITUDE = (15.8542,15.7303,15.6319,15.5339, 15.4365,15.3395,15.243,15.147,15.0516, 14.9566,14.8621,14.7679,14.6742,14.581, 14.5694,14.5669,14.5643,14.5623,14.5603 ,14.5588,14.5575,14.5552,14.5533, 14.5506,14.548,14.5458,14.5442,14.5426, 14.5403,14.539,14.5377,14.5357,14.5338, 14.532,14.5309,14.5296,14.5282,14.5262, 14.5248,14.5235,14.5215,14.5201,14.5181 ,14.5161,14.5141,14.5127,14.5113,14.51, 14.5086,14.5079,14.5078,14.6038,14.7136 ,14.7993,14.8855,14.9844,15.1336, 15.2464,15.3094,15.3978,15.4866,15.5759 ,15.7158,15.831,15.844,15.8476,15.8473, 15.8476,15.8477,15.8482,15.8484,15.8489 ,15.8494,15.8495,15.8496,15.8495, 15.8482,15.848,15.8479,15.8479,15.8481, 15.8484,15.8488,15.8495,15.8497,15.8494 ,15.8479,15.8442,15.8447,15.8461, 15.8468,15.8477,15.8487,15.8497,15.85, 15.8507,15.8512,15.8524,15.8525, 15.8542)
ORBIT_NUMBER = 16697
ORBITAL_ECCENTRICITY = 0.579
ORBITAL_INCLINATION = 86.93
ORBITAL_SEMIMAJOR_AXIS = 8850.29
PERIAPSIS_ALTITUDE = 334.93
PERIAPSIS_ARGUMENT_ANGLE = 340.99
PERIAPSIS_TIME = 2017-03-08T11:18:25.000Z
SPACECRAFT_ORIENTATION = (0.0,1.0,0.0)
^MEX_ORIENTATION_DESC = "MEX_ORIENTATION_DESC.TXT"
SPACECRAFT_POINTING_MODE = ACROSSTRACK
^MEX_POINTING_DESC = "MEX_POINTING_DESC.TXT"
RIGHT_ASCENSION = -1e+32
DECLINATION = -1e+32
OFFSET_ANGLE = -0.85
SPACECRAFT_SOLAR_DISTANCE = 2.21789e+08
TARGET_NAME = MARS
/* CAMERA DATA ELEMENTS */
DETECTOR_TEMPERATURE = 0.0
FOCAL_PLANE_TEMPERATURE = 0.0
INST_CMPRS_NAME = "DISCRETE COSINE TRANSFORMATION (DCT)"
INST_CMPRS_RATIO = 5.60943
INST_CMPRS_QUALITY = 0
INST_CMPRS_QUANTZ_TBL_ID = 0
INSTRUMENT_TEMPERATURE = 0.0
LENS_TEMPERATURE = 0.0
MACROPIXEL_SIZE = 4
MISSING_FRAMES = 0
PIXEL_SUBSAMPLING_FLAG = N
SIGNAL_CHAIN_ID = 2
/* RADIOMETRIC DATA ELEMENTS */
BANDWIDTH = 76.0
CENTER_FILTER_WAVELENGTH = 444.0
RADIANCE_OFFSET = 0.483794
RADIANCE_SCALING_FACTOR = 0.00152651
REFLECTANCE_SCALING_FACTOR = 7.71504e-05
MEX:REFLECTANCE_OFFSET = 0.0244512
/* IMAGE OBJECT DEFINITIONS */
OBJECT = IMAGE
  INTERCHANGE_FORMAT = BINARY
  LINES = 3378
  LINE_SAMPLES = 1596
  SAMPLE_TYPE = UNSIGNED_INTEGER
  SAMPLE_BITS = 8
  BANDS = 1
  BAND_STORAGE_TYPE = BAND_SEQUENTIAL
  MAXIMUM = 255
  MEAN = 107.413
  MINIMUM = 1
  STANDARD_DEVIATION = 17.544
END_OBJECT = IMAGE
/* MAP OBJECT DEFINITIONS */
OBJECT = IMAGE_MAP_PROJECTION
  ^DATA_SET_MAP_PROJECTION_CATALOG= "DSMAP.CAT"
  A_AXIS_RADIUS = 3396.0
  B_AXIS_RADIUS = 3396.0
  C_AXIS_RADIUS = 3396.0
  CENTER_LATITUDE = 0.0
  CENTER_LONGITUDE = 15.0
  COORDINATE_SYSTEM_NAME = PLANETOGRAPHIC
  COORDINATE_SYSTEM_TYPE = "BODY-FIXED ROTATING"
  EASTERNMOST_LONGITUDE = 15.8542
  FIRST_STANDARD_PARALLEL = "N/A"
  LINE_FIRST_PIXEL = 1
  LINE_LAST_PIXEL = 3378
  LINE_PROJECTION_OFFSET = -5356.375
  MAP_PROJECTION_ROTATION = 0.0
  MAP_PROJECTION_TYPE = SINUSOIDAL
  MAP_RESOLUTION = 1185.42760773333
  MAP_SCALE = 0.05
  MAXIMUM_LATITUDE = -4.1613
  MINIMUM_LATITUDE = -7.36931
  POSITIVE_LONGITUDE_DIRECTION = EAST
  REFERENCE_LATITUDE = "N/A"
  REFERENCE_LONGITUDE = "N/A"
  SAMPLE_FIRST_PIXEL = 1
  SAMPLE_LAST_PIXEL = 1596
  SAMPLE_PROJECTION_OFFSET = 587.375
  SECOND_STANDARD_PARALLEL = "N/A"
  WESTERNMOST_LONGITUDE = 14.5078
END_OBJECT = IMAGE_MAP_PROJECTION
END
