PDS_VERSION_ID = PDS3
/* FILE DATA ELEMENTS */
RECORD_TYPE = UNDEFINED
/* POINTERS TO DATA OBJECTS */
^IMAGE = ("HG697_0000_ND4.TIF")
/* IDENTIFICATION DATA ELEMENTS */
DATA_SET_ID = "MEX-M-HRSC-4-REFDR-MAPPROJECT-EXT6-V4.0"
DATA_SET_NAME = "MARS EXPRESS HRSC MAP PROJECTED REFDR EXTENSION6 V4.0"
DETECTOR_ID = MEX_HRSC_NADIR
EVENT_TYPE = "MARS-LOCAL-MAPPING-Im-Eo-La"
INSTRUMENT_HOST_ID = MEX
INSTRUMENT_HOST_NAME = "MARS EXPRESS"
INSTRUMENT_ID = HRSC
INSTRUMENT_NAME = "HIGH RESOLUTION STEREO CAMERA"
MISSION_NAME = "MARS EXPRESS"
MISSION_PHASE_NAME = ME_Phase_36
PROCESSING_LEVEL_ID = 4
PRODUCT_CREATION_TIME = 2023-01-26T14:39:22.000Z
PRODUCT_ID = "HG697_0000_ND4.TIF"
RELEASE_ID = 0001
REVISION_ID = 0000
/* QUALITY DATA ELEMENTS */
DATA_QUALITY_ID = 1
DATA_QUALITY_DESC = "Data calculated based on original SPICE kernels"
/* TIME DATA ELEMENTS */
SPACECRAFT_CLOCK_START_COUNT = "1/0437052043.08200"
SPACECRAFT_CLOCK_STOP_COUNT = "1/0437052260.54074"
START_TIME = 2017-03-08T11:21:23.294Z
STOP_TIME = 2017-03-08T11:22:07.464Z
/* ORBITAL DATA ELEMENTS */
ASCENDING_NODE_LONGITUDE = 260.3
MAXIMUM_RESOLUTION = 0.0145
FOOTPRINT_POINT_LATITUDE = (-7.35265,-7.35463,-7.35593,-7.35717, -7.35838,-7.35958,-7.36072,-7.36185, -7.36295,-7.36402,-7.36506,-7.36607, -7.36706,-7.36718,-7.36694,-7.2903, -7.18812,-7.11151,-7.00937,-6.88169, -6.77962,-6.67761,-6.60108,-6.5246, -6.42263,-6.34617,-6.24424,-6.15463, -6.09384,-6.03306,-5.94192,-5.88118, -5.82043,-5.75969,-5.69897,-5.63826, -5.57756,-5.51684,-5.42579,-5.36511, -5.30445,-5.2438,-5.18319,-5.12256, -5.06194,-5.00134,-4.94075,-4.81961, -4.69851,-4.57745,-4.54719,-4.53357, -4.53232,-4.53105,-4.53034,-4.52934, -4.52815,-4.52694,-4.52524,-4.52413, -4.5227,-4.52091,-4.51939,-4.51821, -4.51804,-4.51821,-4.609,-4.7301, -4.85126,-4.91186,-5.00281,-5.09379, -5.18478,-5.24544,-5.33646,-5.39715, -5.45785,-5.51855,-5.60963,-5.67035, -5.73109,-5.79185,-5.85263,-5.91341, -5.97423,-6.06552,-6.12645,-6.24375, -6.34566,-6.47314,-6.54966,-6.65169, -6.77927,-6.88139,-6.98353,-7.08569, -7.18789,-7.31565,-7.34121,-7.35265)
FOOTPRINT_POINT_LONGITUDE = (15.8566,15.698,15.5931,15.4887,15.3848 ,15.2815,15.1788,15.0767,14.9752, 14.8741,14.7736,14.6733,14.5737,14.5613 ,14.5559,14.5545,14.5527,14.5513, 14.5495,14.5475,14.5457,14.5436,14.5424 ,14.5409,14.539,14.5375,14.5357,14.534, 14.5329,14.5317,14.5299,14.5287,14.5275 ,14.5263,14.5251,14.524,14.5228,14.5217 ,14.5201,14.519,14.5178,14.5167,14.5154 ,14.5142,14.513,14.5118,14.5106,14.5082 ,14.5058,14.5034,14.5028,14.5025, 14.6186,14.7357,14.8009,14.8924,14.9976 ,15.1032,15.2497,15.3433,15.4643, 15.6129,15.7354,15.8312,15.845,15.8517, 15.8521,15.8526,15.8527,15.8528,15.8523 ,15.8513,15.8508,15.8509,15.8509,15.851 ,15.8511,15.8514,15.8518,15.8523, 15.8525,15.8526,15.8524,15.8525,15.852, 15.8498,15.8469,15.8475,15.8493,15.85, 15.8504,15.8513,15.8522,15.8524,15.8529 ,15.8534,15.8537,15.8548,15.8549, 15.8566)
ORBIT_NUMBER = 16697
ORBITAL_ECCENTRICITY = 0.579
ORBITAL_INCLINATION = 86.93
ORBITAL_SEMIMAJOR_AXIS = 8850.29
PERIAPSIS_ALTITUDE = 334.93
PERIAPSIS_ARGUMENT_ANGLE = 340.99
PERIAPSIS_TIME = 2017-03-08T11:18:25.000Z
SPACECRAFT_ORIENTATION = (0.0,1.0,0.0)
^MEX_ORIENTATION_DESC = "MEX_ORIENTATION_DESC.TXT"
SPACECRAFT_POINTING_MODE = ACROSSTRACK
^MEX_POINTING_DESC = "MEX_POINTING_DESC.TXT"
RIGHT_ASCENSION = -1e+32
DECLINATION = -1e+32
OFFSET_ANGLE = -0.85
SPACECRAFT_SOLAR_DISTANCE = 2.21789e+08
TARGET_NAME = MARS
/* CAMERA DATA ELEMENTS */
DETECTOR_TEMPERATURE = 0.0
FOCAL_PLANE_TEMPERATURE = 0.0
INST_CMPRS_NAME = "DISCRETE COSINE TRANSFORMATION (DCT)"
INST_CMPRS_RATIO = 6.73239
INST_CMPRS_QUALITY = 0
INST_CMPRS_QUANTZ_TBL_ID = 0
INSTRUMENT_TEMPERATURE = 0.0
LENS_TEMPERATURE = 0.0
MACROPIXEL_SIZE = 1
MISSING_FRAMES = 0
PIXEL_SUBSAMPLING_FLAG = N
SIGNAL_CHAIN_ID = 0
/* RADIOMETRIC DATA ELEMENTS */
BANDWIDTH = 177.0
CENTER_FILTER_WAVELENGTH = 677.5
RADIANCE_OFFSET = 2.99815
RADIANCE_SCALING_FACTOR = 0.0147762
REFLECTANCE_SCALING_FACTOR = 0.000386129
MEX:REFLECTANCE_OFFSET = 0.0783468
/* IMAGE OBJECT DEFINITIONS */
OBJECT = IMAGE
  INTERCHANGE_FORMAT = BINARY
  LINES = 13510
  LINE_SAMPLES = 6382
  SAMPLE_TYPE = UNSIGNED_INTEGER
  SAMPLE_BITS = 8
  BANDS = 1
  BAND_STORAGE_TYPE = BAND_SEQUENTIAL
  MAXIMUM = 255
  MEAN = 102.009
  MINIMUM = 1
  STANDARD_DEVIATION = 39.6525
END_OBJECT = IMAGE
/* MAP OBJECT DEFINITIONS */
OBJECT = IMAGE_MAP_PROJECTION
  ^DATA_SET_MAP_PROJECTION_CATALOG= "DSMAP.CAT"
  A_AXIS_RADIUS = 3396.0
  B_AXIS_RADIUS = 3396.0
  C_AXIS_RADIUS = 3396.0
  CENTER_LATITUDE = 0.0
  CENTER_LONGITUDE = 15.0
  COORDINATE_SYSTEM_NAME = PLANETOGRAPHIC
  COORDINATE_SYSTEM_TYPE = "BODY-FIXED ROTATING"
  EASTERNMOST_LONGITUDE = 15.8566
  FIRST_STANDARD_PARALLEL = "N/A"
  LINE_FIRST_PIXEL = 1
  LINE_LAST_PIXEL = 13510
  LINE_PROJECTION_OFFSET = -21424.0
  MAP_PROJECTION_ROTATION = 0.0
  MAP_PROJECTION_TYPE = SINUSOIDAL
  MAP_RESOLUTION = 4741.71043093333
  MAP_SCALE = 0.0125
  MAXIMUM_LATITUDE = -4.51804
  MINIMUM_LATITUDE = -7.36718
  POSITIVE_LONGITUDE_DIRECTION = EAST
  REFERENCE_LATITUDE = "N/A"
  REFERENCE_LONGITUDE = "N/A"
  SAMPLE_FIRST_PIXEL = 1
  SAMPLE_LAST_PIXEL = 6382
  SAMPLE_PROJECTION_OFFSET = 2351.0
  SECOND_STANDARD_PARALLEL = "N/A"
  WESTERNMOST_LONGITUDE = 14.5025
END_OBJECT = IMAGE_MAP_PROJECTION
END
