PDS_VERSION_ID = PDS3
/* FILE DATA ELEMENTS */
RECORD_TYPE = UNDEFINED
/* POINTERS TO DATA OBJECTS */
^IMAGE = ("HG698_0000_IR4.TIF")
/* IDENTIFICATION DATA ELEMENTS */
DATA_SET_ID = "MEX-M-HRSC-4-REFDR-MAPPROJECT-EXT6-V4.0"
DATA_SET_NAME = "MARS EXPRESS HRSC MAP PROJECTED REFDR EXTENSION6 V4.0"
DETECTOR_ID = MEX_HRSC_IR
EVENT_TYPE = "MARS-REGIONAL-MAPPING-Vo-Te"
INSTRUMENT_HOST_ID = MEX
INSTRUMENT_HOST_NAME = "MARS EXPRESS"
INSTRUMENT_ID = HRSC
INSTRUMENT_NAME = "HIGH RESOLUTION STEREO CAMERA"
MISSION_NAME = "MARS EXPRESS"
MISSION_PHASE_NAME = ME_Phase_36
PROCESSING_LEVEL_ID = 4
PRODUCT_CREATION_TIME = 2023-01-26T14:39:22.000Z
PRODUCT_ID = "HG698_0000_IR4.TIF"
RELEASE_ID = 0001
REVISION_ID = 0000
/* QUALITY DATA ELEMENTS */
DATA_QUALITY_ID = 1
DATA_QUALITY_DESC = "Data calculated based on original SPICE kernels"
/* TIME DATA ELEMENTS */
SPACECRAFT_CLOCK_START_COUNT = "1/0437076901.07305"
SPACECRAFT_CLOCK_STOP_COUNT = "1/0437077050.32481"
START_TIME = 2017-03-08T18:16:08.648Z
STOP_TIME = 2017-03-08T18:17:31.367Z
/* ORBITAL DATA ELEMENTS */
ASCENDING_NODE_LONGITUDE = 260.28
MAXIMUM_RESOLUTION = 0.1113
FOOTPRINT_POINT_LATITUDE = (-28.77,-28.7717,-28.7731,-28.7745, -28.7756,-28.7767,-28.778,-28.778, -28.7792,-28.6167,-28.4542,-28.3464, -28.2388,-28.131,-28.023,-27.861, -27.7529,-27.6449,-27.5367,-27.4287, -27.3206,-27.2124,-27.1045,-26.9965, -26.8344,-26.7263,-26.6179,-26.5098, -26.4019,-26.24,-26.078,-25.916,-25.808 ,-25.646,-25.538,-25.376,-25.268,-25.16 ,-25.0521,-24.9442,-24.836,-24.7281, -24.5673,-24.3061,-24.0452,-23.8886, -23.6278,-23.4194,-23.3673,-23.3354, -23.3335,-23.3322,-23.3308,-23.3287, -23.3256,-23.3219,-23.3217,-23.3233, -23.5322,-23.6891,-23.9503,-24.1592, -24.3685,-24.5251,-24.7388,-24.8469, -24.9549,-25.1169,-25.2248,-25.3328, -25.4411,-25.5492,-25.6572,-25.8195, -25.9276,-26.036,-26.1441,-26.3063, -26.4688,-26.577,-26.6851,-26.7934, -26.9016,-27.0639,-27.172,-27.2802, -27.4424,-27.5507,-27.6587,-27.8207, -27.9288,-28.037,-28.1454,-28.2535, -28.3618,-28.4702,-28.5783,-28.6865, -28.7405,-28.77)
FOOTPRINT_POINT_LONGITUDE = (272.435,272.231,272.026,271.821, 271.615,271.408,271.083,271.07,271.062, 271.066,271.07,271.072,271.074,271.077, 271.079,271.083,271.085,271.087,271.089 ,271.092,271.094,271.096,271.098,271.1, 271.103,271.105,271.108,271.11,271.112, 271.115,271.117,271.12,271.122,271.125, 271.126,271.129,271.131,271.132,271.134 ,271.136,271.137,271.139,271.141, 271.145,271.148,271.15,271.154,271.156, 271.157,271.157,271.334,271.477,271.619 ,271.832,272.103,272.396,272.408, 272.416,272.417,272.417,272.418,272.419 ,272.42,272.42,272.421,272.422,272.422, 272.422,272.423,272.423,272.424,272.424 ,272.424,272.425,272.425,272.426, 272.426,272.427,272.428,272.428,272.428 ,272.429,272.429,272.43,272.43,272.43, 272.431,272.431,272.432,272.432,272.433 ,272.433,272.433,272.434,272.434, 272.435,272.435,272.435,272.435, 272.435)
ORBIT_NUMBER = 16698
ORBITAL_ECCENTRICITY = 0.579
ORBITAL_INCLINATION = 86.93
ORBITAL_SEMIMAJOR_AXIS = 8856.76
PERIAPSIS_ALTITUDE = 334.36
PERIAPSIS_ARGUMENT_ANGLE = 340.82
PERIAPSIS_TIME = 2017-03-08T18:18:12.000Z
SPACECRAFT_ORIENTATION = (0.0,1.0,0.0)
^MEX_ORIENTATION_DESC = "MEX_ORIENTATION_DESC.TXT"
SPACECRAFT_POINTING_MODE = ACROSSTRACK
^MEX_POINTING_DESC = "MEX_POINTING_DESC.TXT"
RIGHT_ASCENSION = -1e+32
DECLINATION = -1e+32
OFFSET_ANGLE = 0.269
SPACECRAFT_SOLAR_DISTANCE = 2.21845e+08
TARGET_NAME = MARS
/* CAMERA DATA ELEMENTS */
DETECTOR_TEMPERATURE = 17.7588
FOCAL_PLANE_TEMPERATURE = 8.9911
INST_CMPRS_NAME = "DISCRETE COSINE TRANSFORMATION (DCT)"
INST_CMPRS_RATIO = 24.5312
INST_CMPRS_QUALITY = 0
INST_CMPRS_QUANTZ_TBL_ID = 0
INSTRUMENT_TEMPERATURE = 11.4379
LENS_TEMPERATURE = 9.6028
MACROPIXEL_SIZE = 8
MISSING_FRAMES = 0
PIXEL_SUBSAMPLING_FLAG = N
SIGNAL_CHAIN_ID = 2
/* RADIOMETRIC DATA ELEMENTS */
BANDWIDTH = 81.0
CENTER_FILTER_WAVELENGTH = 955.5
RADIANCE_OFFSET = 0.643895
RADIANCE_SCALING_FACTOR = 0.00257459
REFLECTANCE_SCALING_FACTOR = 0.000273361
MEX:REFLECTANCE_OFFSET = 0.0683665
/* IMAGE OBJECT DEFINITIONS */
OBJECT = IMAGE
  INTERCHANGE_FORMAT = BINARY
  LINES = 3236
  LINE_SAMPLES = 733
  SAMPLE_TYPE = UNSIGNED_INTEGER
  SAMPLE_BITS = 8
  BANDS = 1
  BAND_STORAGE_TYPE = BAND_SEQUENTIAL
  MAXIMUM = 255
  MEAN = 98.563
  MINIMUM = 1
  STANDARD_DEVIATION = 19.4968
END_OBJECT = IMAGE
/* MAP OBJECT DEFINITIONS */
OBJECT = IMAGE_MAP_PROJECTION
  ^DATA_SET_MAP_PROJECTION_CATALOG= "DSMAP.CAT"
  A_AXIS_RADIUS = 3396.0
  B_AXIS_RADIUS = 3396.0
  C_AXIS_RADIUS = 3396.0
  CENTER_LATITUDE = 0.0
  CENTER_LONGITUDE = 272.0
  COORDINATE_SYSTEM_NAME = PLANETOGRAPHIC
  COORDINATE_SYSTEM_TYPE = "BODY-FIXED ROTATING"
  EASTERNMOST_LONGITUDE = 272.435
  FIRST_STANDARD_PARALLEL = "N/A"
  LINE_FIRST_PIXEL = 1
  LINE_LAST_PIXEL = 3236
  LINE_PROJECTION_OFFSET = -13839.6875
  MAP_PROJECTION_ROTATION = 0.0
  MAP_PROJECTION_TYPE = SINUSOIDAL
  MAP_RESOLUTION = 592.713803866667
  MAP_SCALE = 0.1
  MAXIMUM_LATITUDE = -23.3217
  MINIMUM_LATITUDE = -28.7792
  POSITIVE_LONGITUDE_DIRECTION = EAST
  REFERENCE_LATITUDE = "N/A"
  REFERENCE_LONGITUDE = "N/A"
  SAMPLE_FIRST_PIXEL = 1
  SAMPLE_LAST_PIXEL = 733
  SAMPLE_PROJECTION_OFFSET = 500.0625
  SECOND_STANDARD_PARALLEL = "N/A"
  WESTERNMOST_LONGITUDE = 271.062
END_OBJECT = IMAGE_MAP_PROJECTION
END
