PDS_VERSION_ID = PDS3
/* FILE DATA ELEMENTS */
RECORD_TYPE = UNDEFINED
/* POINTERS TO DATA OBJECTS */
^IMAGE = ("HG698_0000_P24.TIF")
/* IDENTIFICATION DATA ELEMENTS */
DATA_SET_ID = "MEX-M-HRSC-4-REFDR-MAPPROJECT-EXT6-V4.0"
DATA_SET_NAME = "MARS EXPRESS HRSC MAP PROJECTED REFDR EXTENSION6 V4.0"
DETECTOR_ID = MEX_HRSC_P2
EVENT_TYPE = "MARS-REGIONAL-MAPPING-Vo-Te"
INSTRUMENT_HOST_ID = MEX
INSTRUMENT_HOST_NAME = "MARS EXPRESS"
INSTRUMENT_ID = HRSC
INSTRUMENT_NAME = "HIGH RESOLUTION STEREO CAMERA"
MISSION_NAME = "MARS EXPRESS"
MISSION_PHASE_NAME = ME_Phase_36
PROCESSING_LEVEL_ID = 4
PRODUCT_CREATION_TIME = 2023-01-26T14:39:22.000Z
PRODUCT_ID = "HG698_0000_P24.TIF"
RELEASE_ID = 0001
REVISION_ID = 0000
/* QUALITY DATA ELEMENTS */
DATA_QUALITY_ID = 1
DATA_QUALITY_DESC = "Data calculated based on original SPICE kernels"
/* TIME DATA ELEMENTS */
SPACECRAFT_CLOCK_START_COUNT = "1/0437076901.07305"
SPACECRAFT_CLOCK_STOP_COUNT = "1/0437077050.32481"
START_TIME = 2017-03-08T18:15:20.719Z
STOP_TIME = 2017-03-08T18:16:46.313Z
/* ORBITAL DATA ELEMENTS */
ASCENDING_NODE_LONGITUDE = 260.28
MAXIMUM_RESOLUTION = 0.0557
FOOTPRINT_POINT_LATITUDE = (-28.8375,-28.8349,-28.8318,-28.8282, -28.8241,-28.8194,-28.8142,-28.8107, -28.8104,-28.8069,-28.647,-28.4868, -28.3797,-28.2724,-28.1115,-28.0043, -27.8971,-27.7362,-27.6289,-27.4679, -27.3067,-27.1455,-27.0379,-26.8765, -26.7151,-26.6075,-26.4998,-26.3919, -26.23,-26.122,-25.9601,-25.8521, -25.744,-25.6358,-25.4737,-25.3654, -25.2031,-25.0948,-24.9323,-24.7154, -24.5527,-24.4443,-24.2815,-24.1728, -24.0099,-23.8468,-23.6835,-23.5746, -23.4111,-23.3566,-23.3515,-23.3553, -23.3581,-23.3607,-23.3624,-23.3646, -23.367,-23.3691,-23.3704,-23.3705, -23.3713,-23.5349,-23.6982,-23.8615, -24.0247,-24.188,-24.351,-24.4597, -24.6229,-24.786,-24.9488,-25.1117, -25.2202,-25.383,-25.5454,-25.7078, -25.8701,-25.9783,-26.1403,-26.3024, -26.4644,-26.6261,-26.7341,-26.8418, -27.0034,-27.165,-27.3265,-27.4342, -27.5955,-27.7032,-27.8107,-27.9184, -28.0794,-28.2402,-28.3474,-28.508, -28.6152,-28.7758,-28.8294,-28.8375)
FOOTPRINT_POINT_LONGITUDE = (272.459,272.247,272.035,271.822, 271.608,271.394,271.179,271.044,271.03, 271.025,271.03,271.034,271.037,271.04, 271.043,271.046,271.049,271.053,271.055 ,271.059,271.063,271.067,271.069, 271.073,271.076,271.079,271.081,271.083 ,271.087,271.089,271.092,271.094, 271.097,271.099,271.102,271.104,271.107 ,271.109,271.112,271.116,271.118,271.12 ,271.123,271.125,271.127,271.13,271.132 ,271.134,271.136,271.137,271.137, 271.318,271.463,271.62,271.728,271.884, 272.076,272.267,272.41,272.422,272.426, 272.427,272.428,272.429,272.43,272.431, 272.432,272.432,272.433,272.434,272.435 ,272.436,272.437,272.438,272.439,272.44 ,272.441,272.442,272.443,272.444, 272.445,272.446,272.447,272.447,272.449 ,272.45,272.451,272.451,272.452,272.453 ,272.454,272.454,272.455,272.456, 272.457,272.458,272.459,272.46,272.46, 272.459)
ORBIT_NUMBER = 16698
ORBITAL_ECCENTRICITY = 0.579
ORBITAL_INCLINATION = 86.93
ORBITAL_SEMIMAJOR_AXIS = 8856.76
PERIAPSIS_ALTITUDE = 334.36
PERIAPSIS_ARGUMENT_ANGLE = 340.82
PERIAPSIS_TIME = 2017-03-08T18:18:12.000Z
SPACECRAFT_ORIENTATION = (0.0,1.0,0.0)
^MEX_ORIENTATION_DESC = "MEX_ORIENTATION_DESC.TXT"
SPACECRAFT_POINTING_MODE = ACROSSTRACK
^MEX_POINTING_DESC = "MEX_POINTING_DESC.TXT"
RIGHT_ASCENSION = -1e+32
DECLINATION = -1e+32
OFFSET_ANGLE = 0.269
SPACECRAFT_SOLAR_DISTANCE = 2.21845e+08
TARGET_NAME = MARS
/* CAMERA DATA ELEMENTS */
DETECTOR_TEMPERATURE = 18.9822
FOCAL_PLANE_TEMPERATURE = 8.9911
INST_CMPRS_NAME = "DISCRETE COSINE TRANSFORMATION (DCT)"
INST_CMPRS_RATIO = 8.23824
INST_CMPRS_QUALITY = 0
INST_CMPRS_QUANTZ_TBL_ID = 0
INSTRUMENT_TEMPERATURE = 11.4379
LENS_TEMPERATURE = 9.6028
MACROPIXEL_SIZE = 4
MISSING_FRAMES = 0
PIXEL_SUBSAMPLING_FLAG = N
SIGNAL_CHAIN_ID = 3
/* RADIOMETRIC DATA ELEMENTS */
BANDWIDTH = 177.0
CENTER_FILTER_WAVELENGTH = 676.5
RADIANCE_OFFSET = 2.98931
RADIANCE_SCALING_FACTOR = 0.00966338
REFLECTANCE_SCALING_FACTOR = 0.000252164
MEX:REFLECTANCE_OFFSET = 0.0780056
/* IMAGE OBJECT DEFINITIONS */
OBJECT = IMAGE
  INTERCHANGE_FORMAT = BINARY
  LINES = 6472
  LINE_SAMPLES = 1465
  SAMPLE_TYPE = UNSIGNED_INTEGER
  SAMPLE_BITS = 8
  BANDS = 1
  BAND_STORAGE_TYPE = BAND_SEQUENTIAL
  MAXIMUM = 255
  MEAN = 109.162
  MINIMUM = 1
  STANDARD_DEVIATION = 16.0278
END_OBJECT = IMAGE
/* MAP OBJECT DEFINITIONS */
OBJECT = IMAGE_MAP_PROJECTION
  ^DATA_SET_MAP_PROJECTION_CATALOG= "DSMAP.CAT"
  A_AXIS_RADIUS = 3396.0
  B_AXIS_RADIUS = 3396.0
  C_AXIS_RADIUS = 3396.0
  CENTER_LATITUDE = 0.0
  CENTER_LONGITUDE = 272.0
  COORDINATE_SYSTEM_NAME = PLANETOGRAPHIC
  COORDINATE_SYSTEM_TYPE = "BODY-FIXED ROTATING"
  EASTERNMOST_LONGITUDE = 272.46
  FIRST_STANDARD_PARALLEL = "N/A"
  LINE_FIRST_PIXEL = 1
  LINE_LAST_PIXEL = 6472
  LINE_PROJECTION_OFFSET = -27678.875
  MAP_PROJECTION_ROTATION = 0.0
  MAP_PROJECTION_TYPE = SINUSOIDAL
  MAP_RESOLUTION = 1185.42760773333
  MAP_SCALE = 0.05
  MAXIMUM_LATITUDE = -23.3515
  MINIMUM_LATITUDE = -28.8375
  POSITIVE_LONGITUDE_DIRECTION = EAST
  REFERENCE_LATITUDE = "N/A"
  REFERENCE_LONGITUDE = "N/A"
  SAMPLE_FIRST_PIXEL = 1
  SAMPLE_LAST_PIXEL = 1465
  SAMPLE_PROJECTION_OFFSET = 1000.625
  SECOND_STANDARD_PARALLEL = "N/A"
  WESTERNMOST_LONGITUDE = 271.025
END_OBJECT = IMAGE_MAP_PROJECTION
END
