PDS_VERSION_ID = PDS3
/* FILE DATA ELEMENTS */
RECORD_TYPE = UNDEFINED
/* POINTERS TO DATA OBJECTS */
^IMAGE = ("HG700_0000_S14.TIF")
/* IDENTIFICATION DATA ELEMENTS */
DATA_SET_ID = "MEX-M-HRSC-4-REFDR-MAPPROJECT-EXT6-V4.0"
DATA_SET_NAME = "MARS EXPRESS HRSC MAP PROJECTED REFDR EXTENSION6 V4.0"
DETECTOR_ID = MEX_HRSC_S1
EVENT_TYPE = "MARS-REGIONAL-MAPPING-Fl-Gl-La"
INSTRUMENT_HOST_ID = MEX
INSTRUMENT_HOST_NAME = "MARS EXPRESS"
INSTRUMENT_ID = HRSC
INSTRUMENT_NAME = "HIGH RESOLUTION STEREO CAMERA"
MISSION_NAME = "MARS EXPRESS"
MISSION_PHASE_NAME = ME_Phase_36
PROCESSING_LEVEL_ID = 4
PRODUCT_CREATION_TIME = 2023-01-26T14:39:22.000Z
PRODUCT_ID = "HG700_0000_S14.TIF"
RELEASE_ID = 0001
REVISION_ID = 0000
/* QUALITY DATA ELEMENTS */
DATA_QUALITY_ID = 1
DATA_QUALITY_DESC = "Data calculated based on original SPICE kernels"
/* TIME DATA ELEMENTS */
SPACECRAFT_CLOCK_START_COUNT = "1/0437127217.07911"
SPACECRAFT_CLOCK_STOP_COUNT = "1/0437127487.40678"
START_TIME = 2017-03-09T08:14:52.950Z
STOP_TIME = 2017-03-09T08:16:06.214Z
/* ORBITAL DATA ELEMENTS */
ASCENDING_NODE_LONGITUDE = 260.24
MAXIMUM_RESOLUTION = 0.0292
FOOTPRINT_POINT_LATITUDE = (-31.6087,-31.6159,-31.6228,-31.6263, -31.6297,-31.6331,-31.6365,-31.6398, -31.6432,-31.6464,-31.6521,-31.6525, -31.7236,-31.5806,-31.436,-31.3389, -31.148,-31.0515,-30.9069,-30.8105, -30.6188,-30.5226,-30.4263,-30.282, -30.0896,-29.9454,-29.8491,-29.7528, -29.6562,-29.5102,-29.3617,-29.2631, -29.1197,-29.0235,-28.9272,-28.8305, -28.728,-28.5784,-28.3864,-28.2899, -28.1926,-28.0946,-27.9945,-27.7108, -27.5206,-27.3764,-27.1836,-27.0848, -26.9322,-26.8829,-26.8496,-26.8439, -26.8399,-26.8324,-26.8293,-26.8252, -26.8222,-26.8135,-26.8101,-26.8037, -26.8031,-26.8034,-26.9474,-27.139, -27.2845,-27.3812,-27.5255,-27.6218, -27.8139,-27.9584,-28.0548,-28.2014, -28.2987,-28.3954,-28.4938,-28.5933, -28.6941,-28.8483,-28.9955,-29.1842, -29.3312,-29.4287,-29.525,-29.6215, -29.7666,-29.863,-30.0077,-30.2003, -30.2967,-30.4414,-30.5377,-30.6821, -30.8745,-31.0194,-31.1159,-31.2124, -31.3576,-31.598,-31.6461,-31.6087)
FOOTPRINT_POINT_LONGITUDE = (67.2594,67.0356,66.8095,66.6955,66.581 ,66.4659,66.3503,66.2341,66.1172, 65.9996,65.7922,65.7774,65.7109,65.7154 ,65.7212,65.7256,65.7315,65.7354,65.741 ,65.7446,65.7509,65.7544,65.7578, 65.7629,65.7694,65.7742,65.7775,65.7808 ,65.7843,65.7905,65.7987,65.8038, 65.8076,65.8107,65.8137,65.817,65.8253, 65.8341,65.8395,65.8426,65.8464,65.8507 ,65.8568,65.8608,65.8643,65.8682, 65.8738,65.8785,65.8893,65.8916,65.8918 ,66.0696,66.1922,66.369,66.5023,66.6355 ,66.7676,66.9658,67.0962,67.2522, 67.2651,67.2698,67.2695,67.2691,67.2686 ,67.2683,67.2679,67.2677,67.2672, 67.2668,67.2665,67.2658,67.2654,67.2651 ,67.2645,67.2639,67.263,67.2614,67.2606 ,67.2605,67.2597,67.2593,67.259,67.2586 ,67.2581,67.2578,67.2572,67.2566, 67.2562,67.2557,67.2554,67.2549,67.2542 ,67.2536,67.2532,67.2528,67.2522, 67.2513,67.2511,67.2594)
ORBIT_NUMBER = 16700
ORBITAL_ECCENTRICITY = 0.579
ORBITAL_INCLINATION = 86.96
ORBITAL_SEMIMAJOR_AXIS = 8851.96
PERIAPSIS_ALTITUDE = 333.89
PERIAPSIS_ARGUMENT_ANGLE = 340.47
PERIAPSIS_TIME = 2017-03-09T08:17:28.000Z
SPACECRAFT_ORIENTATION = (0.0,1.0,0.0)
^MEX_ORIENTATION_DESC = "MEX_ORIENTATION_DESC.TXT"
SPACECRAFT_POINTING_MODE = ACROSSTRACK
^MEX_POINTING_DESC = "MEX_POINTING_DESC.TXT"
RIGHT_ASCENSION = -1e+32
DECLINATION = -1e+32
OFFSET_ANGLE = 0.8
SPACECRAFT_SOLAR_DISTANCE = 2.21957e+08
TARGET_NAME = MARS
/* CAMERA DATA ELEMENTS */
DETECTOR_TEMPERATURE = 0.0
FOCAL_PLANE_TEMPERATURE = 0.0
INST_CMPRS_NAME = "DISCRETE COSINE TRANSFORMATION (DCT)"
INST_CMPRS_RATIO = 11.7122
INST_CMPRS_QUALITY = 0
INST_CMPRS_QUANTZ_TBL_ID = 0
INSTRUMENT_TEMPERATURE = 0.0
LENS_TEMPERATURE = 0.0
MACROPIXEL_SIZE = 2
MISSING_FRAMES = 0
PIXEL_SUBSAMPLING_FLAG = N
SIGNAL_CHAIN_ID = 1
/* RADIOMETRIC DATA ELEMENTS */
BANDWIDTH = 180.0
CENTER_FILTER_WAVELENGTH = 677.0
RADIANCE_OFFSET = 4.47731
RADIANCE_SCALING_FACTOR = 0.0092411
REFLECTANCE_SCALING_FACTOR = 0.000237522
MEX:REFLECTANCE_OFFSET = 0.115079
/* IMAGE OBJECT DEFINITIONS */
OBJECT = IMAGE
  INTERCHANGE_FORMAT = BINARY
  LINES = 16332
  LINE_SAMPLES = 3230
  SAMPLE_TYPE = UNSIGNED_INTEGER
  SAMPLE_BITS = 8
  BANDS = 1
  BAND_STORAGE_TYPE = BAND_SEQUENTIAL
  MAXIMUM = 255
  MEAN = 125.751
  MINIMUM = 1
  STANDARD_DEVIATION = 38.9608
END_OBJECT = IMAGE
/* MAP OBJECT DEFINITIONS */
OBJECT = IMAGE_MAP_PROJECTION
  ^DATA_SET_MAP_PROJECTION_CATALOG= "DSMAP.CAT"
  A_AXIS_RADIUS = 3396.0
  B_AXIS_RADIUS = 3396.0
  C_AXIS_RADIUS = 3396.0
  CENTER_LATITUDE = 0.0
  CENTER_LONGITUDE = 67.0
  COORDINATE_SYSTEM_NAME = PLANETOGRAPHIC
  COORDINATE_SYSTEM_TYPE = "BODY-FIXED ROTATING"
  EASTERNMOST_LONGITUDE = 67.2698
  FIRST_STANDARD_PARALLEL = "N/A"
  LINE_FIRST_PIXEL = 1
  LINE_LAST_PIXEL = 16332
  LINE_PROJECTION_OFFSET = -58753.25
  MAP_PROJECTION_ROTATION = 0.0
  MAP_PROJECTION_TYPE = SINUSOIDAL
  MAP_RESOLUTION = 2370.85521546667
  MAP_SCALE = 0.025
  MAXIMUM_LATITUDE = -26.8031
  MINIMUM_LATITUDE = -31.7236
  POSITIVE_LONGITUDE_DIRECTION = EAST
  REFERENCE_LATITUDE = "N/A"
  REFERENCE_LONGITUDE = "N/A"
  SAMPLE_FIRST_PIXEL = 1
  SAMPLE_LAST_PIXEL = 3230
  SAMPLE_PROJECTION_OFFSET = 2623.25
  SECOND_STANDARD_PARALLEL = "N/A"
  WESTERNMOST_LONGITUDE = 65.7109
END_OBJECT = IMAGE_MAP_PROJECTION
END
