PDS_VERSION_ID = PDS3
/* FILE DATA ELEMENTS */
RECORD_TYPE = UNDEFINED
/* POINTERS TO DATA OBJECTS */
^IMAGE = ("HG702_0009_ND4.TIF")
/* IDENTIFICATION DATA ELEMENTS */
DATA_SET_ID = "MEX-M-HRSC-4-REFDR-MAPPROJECT-EXT6-V4.0"
DATA_SET_NAME = "MARS EXPRESS HRSC MAP PROJECTED REFDR EXTENSION6 V4.0"
DETECTOR_ID = MEX_HRSC_NADIR
EVENT_TYPE = "MARS-LOCAL-STEREO-Vo"
INSTRUMENT_HOST_ID = MEX
INSTRUMENT_HOST_NAME = "MARS EXPRESS"
INSTRUMENT_ID = HRSC
INSTRUMENT_NAME = "HIGH RESOLUTION STEREO CAMERA"
MISSION_NAME = "MARS EXPRESS"
MISSION_PHASE_NAME = ME_Phase_36
PROCESSING_LEVEL_ID = 4
PRODUCT_CREATION_TIME = 2023-01-26T14:39:22.000Z
PRODUCT_ID = "HG702_0009_ND4.TIF"
RELEASE_ID = 0001
REVISION_ID = 0000
/* QUALITY DATA ELEMENTS */
DATA_QUALITY_ID = 1
DATA_QUALITY_DESC = "Data calculated based on original SPICE kernels"
/* TIME DATA ELEMENTS */
SPACECRAFT_CLOCK_START_COUNT = "1/0437177752.08236"
SPACECRAFT_CLOCK_STOP_COUNT = "1/0437177930.32948"
START_TIME = 2017-03-09T22:16:30.150Z
STOP_TIME = 2017-03-09T22:18:25.137Z
/* ORBITAL DATA ELEMENTS */
ASCENDING_NODE_LONGITUDE = 260.21
MAXIMUM_RESOLUTION = 0.0133
FOOTPRINT_POINT_LATITUDE = (-20.6653,-20.6667,-20.6676,-20.6683, -20.6688,-20.669,-20.669,-20.669, -20.6688,-20.4449,-20.2956,-20.1464, -19.9224,-19.7732,-19.6239,-19.4746, -19.3253,-19.1013,-18.8774,-18.7281, -18.5788,-18.4296,-18.2803,-18.131, -17.9818,-17.8325,-17.6833,-17.534, -17.3848,-17.2356,-17.0864,-16.9372, -16.6388,-16.3405,-16.0423,-15.7441, -15.446,-15.148,-14.8501,-14.5523, -14.3221,-14.1682,-14.0145,-13.8607, -13.707,-13.5533,-13.3997,-13.2461, -13.1693,-13.1654,-13.164,-13.1627, -13.1616,-13.1593,-13.1569,-13.1567, -13.1569,-13.3106,-13.4643,-13.6181, -13.7719,-13.9257,-14.0796,-14.2335, -14.3874,-14.5409,-14.8389,-15.1371, -15.4353,-15.7335,-16.0319,-16.1811, -16.3303,-16.4796,-16.6289,-16.7781, -16.9273,-17.0766,-17.3006,-17.4499, -17.5993,-17.7486,-17.9726,-18.122, -18.2714,-18.4207,-18.6448,-18.7942, -18.9436,-19.093,-19.2424,-19.3918, -19.6159,-19.84,-20.0641,-20.2134, -20.3628,-20.5869,-20.6616,-20.6653)
FOOTPRINT_POINT_LONGITUDE = (223.871,223.636,223.439,223.243, 223.047,222.828,222.646,222.634,222.628 ,222.629,222.629,222.629,222.629, 222.629,222.629,222.629,222.629,222.629 ,222.629,222.629,222.628,222.628, 222.628,222.628,222.627,222.627,222.627 ,222.626,222.626,222.625,222.625, 222.624,222.623,222.621,222.62,222.618, 222.616,222.614,222.612,222.61,222.608, 222.607,222.606,222.605,222.603,222.602 ,222.6,222.599,222.598,222.598,222.861, 223.076,223.233,223.534,223.801,223.813 ,223.819,223.82,223.821,223.821,223.822 ,223.823,223.824,223.825,223.825, 223.826,223.828,223.83,223.832,223.834, 223.835,223.836,223.838,223.837,223.838 ,223.841,223.842,223.843,223.844, 223.845,223.846,223.848,223.849,223.85, 223.852,223.853,223.854,223.856,223.857 ,223.858,223.859,223.86,223.862,223.864 ,223.866,223.867,223.868,223.87,223.871 ,223.871)
ORBIT_NUMBER = 16702
ORBITAL_ECCENTRICITY = 0.579
ORBITAL_INCLINATION = 86.95
ORBITAL_SEMIMAJOR_AXIS = 8850.37
PERIAPSIS_ALTITUDE = 333.97
PERIAPSIS_ARGUMENT_ANGLE = 340.1
PERIAPSIS_TIME = 2017-03-09T22:16:43.000Z
SPACECRAFT_ORIENTATION = (0.0,1.0,0.0)
^MEX_ORIENTATION_DESC = "MEX_ORIENTATION_DESC.TXT"
SPACECRAFT_POINTING_MODE = ACROSSTRACK
^MEX_POINTING_DESC = "MEX_POINTING_DESC.TXT"
RIGHT_ASCENSION = -1e+32
DECLINATION = -1e+32
OFFSET_ANGLE = -0.269
SPACECRAFT_SOLAR_DISTANCE = 2.22069e+08
TARGET_NAME = MARS
/* CAMERA DATA ELEMENTS */
DETECTOR_TEMPERATURE = 18.9822
FOCAL_PLANE_TEMPERATURE = 9.195
INST_CMPRS_NAME = "DISCRETE COSINE TRANSFORMATION (DCT)"
INST_CMPRS_RATIO = 5.88853
INST_CMPRS_QUALITY = 0
INST_CMPRS_QUANTZ_TBL_ID = 0
INSTRUMENT_TEMPERATURE = 12.6613
LENS_TEMPERATURE = 9.3989
MACROPIXEL_SIZE = 1
MISSING_FRAMES = 0
PIXEL_SUBSAMPLING_FLAG = N
SIGNAL_CHAIN_ID = 0
/* RADIOMETRIC DATA ELEMENTS */
BANDWIDTH = 177.0
CENTER_FILTER_WAVELENGTH = 677.5
RADIANCE_OFFSET = 3.92117
RADIANCE_SCALING_FACTOR = 0.0181231
REFLECTANCE_SCALING_FACTOR = 0.000474781
MEX:REFLECTANCE_OFFSET = 0.102725
/* IMAGE OBJECT DEFINITIONS */
OBJECT = IMAGE
  INTERCHANGE_FORMAT = BINARY
  LINES = 35621
  LINE_SAMPLES = 5720
  SAMPLE_TYPE = UNSIGNED_INTEGER
  SAMPLE_BITS = 8
  BANDS = 1
  BAND_STORAGE_TYPE = BAND_SEQUENTIAL
  MAXIMUM = 255
  MEAN = 137.198
  MINIMUM = 1
  STANDARD_DEVIATION = 15.0322
END_OBJECT = IMAGE
/* MAP OBJECT DEFINITIONS */
OBJECT = IMAGE_MAP_PROJECTION
  ^DATA_SET_MAP_PROJECTION_CATALOG= "DSMAP.CAT"
  A_AXIS_RADIUS = 3396.0
  B_AXIS_RADIUS = 3396.0
  C_AXIS_RADIUS = 3396.0
  CENTER_LATITUDE = 0.0
  CENTER_LONGITUDE = 223.0
  COORDINATE_SYSTEM_NAME = PLANETOGRAPHIC
  COORDINATE_SYSTEM_TYPE = "BODY-FIXED ROTATING"
  EASTERNMOST_LONGITUDE = 223.871
  FIRST_STANDARD_PARALLEL = "N/A"
  LINE_FIRST_PIXEL = 1
  LINE_LAST_PIXEL = 35621
  LINE_PROJECTION_OFFSET = -62387.0
  MAP_PROJECTION_ROTATION = 0.0
  MAP_PROJECTION_TYPE = SINUSOIDAL
  MAP_RESOLUTION = 4741.71043093333
  MAP_SCALE = 0.0125
  MAXIMUM_LATITUDE = -13.1567
  MINIMUM_LATITUDE = -20.669
  POSITIVE_LONGITUDE_DIRECTION = EAST
  REFERENCE_LATITUDE = "N/A"
  REFERENCE_LONGITUDE = "N/A"
  SAMPLE_FIRST_PIXEL = 1
  SAMPLE_LAST_PIXEL = 5720
  SAMPLE_PROJECTION_OFFSET = 1855.0
  SECOND_STANDARD_PARALLEL = "N/A"
  WESTERNMOST_LONGITUDE = 222.598
END_OBJECT = IMAGE_MAP_PROJECTION
END
