PDS_VERSION_ID = PDS3
/* FILE DATA ELEMENTS */
RECORD_TYPE = UNDEFINED
/* POINTERS TO DATA OBJECTS */
^IMAGE = ("HG702_0009_S14.TIF")
/* IDENTIFICATION DATA ELEMENTS */
DATA_SET_ID = "MEX-M-HRSC-4-REFDR-MAPPROJECT-EXT6-V4.0"
DATA_SET_NAME = "MARS EXPRESS HRSC MAP PROJECTED REFDR EXTENSION6 V4.0"
DETECTOR_ID = MEX_HRSC_S1
EVENT_TYPE = "MARS-LOCAL-STEREO-Vo"
INSTRUMENT_HOST_ID = MEX
INSTRUMENT_HOST_NAME = "MARS EXPRESS"
INSTRUMENT_ID = HRSC
INSTRUMENT_NAME = "HIGH RESOLUTION STEREO CAMERA"
MISSION_NAME = "MARS EXPRESS"
MISSION_PHASE_NAME = ME_Phase_36
PROCESSING_LEVEL_ID = 4
PRODUCT_CREATION_TIME = 2023-01-26T14:39:22.000Z
PRODUCT_ID = "HG702_0009_S14.TIF"
RELEASE_ID = 0001
REVISION_ID = 0000
/* QUALITY DATA ELEMENTS */
DATA_QUALITY_ID = 1
DATA_QUALITY_DESC = "Data calculated based on original SPICE kernels"
/* TIME DATA ELEMENTS */
SPACECRAFT_CLOCK_START_COUNT = "1/0437177752.08236"
SPACECRAFT_CLOCK_STOP_COUNT = "1/0437177930.32948"
START_TIME = 2017-03-09T22:16:59.899Z
STOP_TIME = 2017-03-09T22:18:56.406Z
/* ORBITAL DATA ELEMENTS */
ASCENDING_NODE_LONGITUDE = 260.21
MAXIMUM_RESOLUTION = 0.0141
FOOTPRINT_POINT_LATITUDE = (-20.6643,-20.6611,-20.6585,-20.6558, -20.6531,-20.6505,-20.6477,-20.6476, -20.6468,-20.4224,-20.2729,-20.0487, -19.8249,-19.6756,-19.5265,-19.3777, -19.229,-19.0803,-18.784,-18.6354, -18.4861,-18.3372,-18.0404,-17.818, -17.4475,-17.1517,-16.7082,-16.4866, -16.3343,-16.1821,-16.0296,-15.8775, -15.7259,-15.5737,-15.4218,-15.2699, -15.1179,-14.9663,-14.8147,-14.6633, -14.4363,-14.2852,-14.1343,-13.9834, -13.8325,-13.6063,-13.4557,-13.2302, -13.1549,-13.1386,-13.1409,-13.1428, -13.1443,-13.1468,-13.1486,-13.1486, -13.1489,-13.3745,-13.5251,-13.6758, -13.8265,-13.9774,-14.1284,-14.2796, -14.4309,-14.5824,-14.7338,-14.8855, -15.0371,-15.1888,-15.3407,-15.4924, -15.6444,-15.7966,-15.9488,-16.1774, -16.3298,-16.6274,-16.9261,-17.1484, -17.3705,-17.6669,-17.8154,-18.1123, -18.2609,-18.484,-18.633,-18.7818, -19.0047,-19.2279,-19.3768,-19.5259, -19.6752,-19.8246,-20.0486,-20.1982, -20.4224,-20.5721,-20.6469,-20.6643)
FOOTPRINT_POINT_LONGITUDE = (223.877,223.628,223.43,223.233,223.037 ,222.841,222.646,222.634,222.628, 222.628,222.628,222.628,222.628,222.628 ,222.627,222.627,222.627,222.626, 222.626,222.625,222.625,222.624,222.623 ,222.622,222.621,222.619,222.617, 222.615,222.614,222.613,222.612,222.611 ,222.61,222.609,222.608,222.607,222.605 ,222.604,222.603,222.601,222.599, 222.598,222.596,222.595,222.593,222.591 ,222.589,222.587,222.586,222.586, 222.916,223.162,223.371,223.631,223.818 ,223.83,223.836,223.837,223.837,223.838 ,223.838,223.839,223.839,223.84,223.841 ,223.841,223.842,223.843,223.843, 223.844,223.845,223.845,223.846,223.847 ,223.848,223.849,223.85,223.85,223.853, 223.854,223.855,223.857,223.858,223.86, 223.861,223.862,223.863,223.864,223.865 ,223.867,223.867,223.868,223.869, 223.871,223.872,223.873,223.875,223.876 ,223.876,223.877)
ORBIT_NUMBER = 16702
ORBITAL_ECCENTRICITY = 0.579
ORBITAL_INCLINATION = 86.95
ORBITAL_SEMIMAJOR_AXIS = 8850.37
PERIAPSIS_ALTITUDE = 333.97
PERIAPSIS_ARGUMENT_ANGLE = 340.1
PERIAPSIS_TIME = 2017-03-09T22:16:43.000Z
SPACECRAFT_ORIENTATION = (0.0,1.0,0.0)
^MEX_ORIENTATION_DESC = "MEX_ORIENTATION_DESC.TXT"
SPACECRAFT_POINTING_MODE = ACROSSTRACK
^MEX_POINTING_DESC = "MEX_POINTING_DESC.TXT"
RIGHT_ASCENSION = -1e+32
DECLINATION = -1e+32
OFFSET_ANGLE = -0.269
SPACECRAFT_SOLAR_DISTANCE = 2.22069e+08
TARGET_NAME = MARS
/* CAMERA DATA ELEMENTS */
DETECTOR_TEMPERATURE = 17.7588
FOCAL_PLANE_TEMPERATURE = 9.195
INST_CMPRS_NAME = "DISCRETE COSINE TRANSFORMATION (DCT)"
INST_CMPRS_RATIO = 7.72777
INST_CMPRS_QUALITY = 0
INST_CMPRS_QUANTZ_TBL_ID = 0
INSTRUMENT_TEMPERATURE = 12.6613
LENS_TEMPERATURE = 9.3989
MACROPIXEL_SIZE = 1
MISSING_FRAMES = 0
PIXEL_SUBSAMPLING_FLAG = N
SIGNAL_CHAIN_ID = 2
/* RADIOMETRIC DATA ELEMENTS */
BANDWIDTH = 180.0
CENTER_FILTER_WAVELENGTH = 677.0
RADIANCE_OFFSET = 4.42828
RADIANCE_SCALING_FACTOR = 0.0176139
REFLECTANCE_SCALING_FACTOR = 0.000453183
MEX:REFLECTANCE_OFFSET = 0.113934
/* IMAGE OBJECT DEFINITIONS */
OBJECT = IMAGE
  INTERCHANGE_FORMAT = BINARY
  LINES = 35621
  LINE_SAMPLES = 5720
  SAMPLE_TYPE = UNSIGNED_INTEGER
  SAMPLE_BITS = 8
  BANDS = 1
  BAND_STORAGE_TYPE = BAND_SEQUENTIAL
  MAXIMUM = 255
  MEAN = 141.206
  MINIMUM = 1
  STANDARD_DEVIATION = 14.2607
END_OBJECT = IMAGE
/* MAP OBJECT DEFINITIONS */
OBJECT = IMAGE_MAP_PROJECTION
  ^DATA_SET_MAP_PROJECTION_CATALOG= "DSMAP.CAT"
  A_AXIS_RADIUS = 3396.0
  B_AXIS_RADIUS = 3396.0
  C_AXIS_RADIUS = 3396.0
  CENTER_LATITUDE = 0.0
  CENTER_LONGITUDE = 223.0
  COORDINATE_SYSTEM_NAME = PLANETOGRAPHIC
  COORDINATE_SYSTEM_TYPE = "BODY-FIXED ROTATING"
  EASTERNMOST_LONGITUDE = 223.877
  FIRST_STANDARD_PARALLEL = "N/A"
  LINE_FIRST_PIXEL = 1
  LINE_LAST_PIXEL = 35621
  LINE_PROJECTION_OFFSET = -62387.0
  MAP_PROJECTION_ROTATION = 0.0
  MAP_PROJECTION_TYPE = SINUSOIDAL
  MAP_RESOLUTION = 4741.71043093333
  MAP_SCALE = 0.0125
  MAXIMUM_LATITUDE = -13.1386
  MINIMUM_LATITUDE = -20.6643
  POSITIVE_LONGITUDE_DIRECTION = EAST
  REFERENCE_LATITUDE = "N/A"
  REFERENCE_LONGITUDE = "N/A"
  SAMPLE_FIRST_PIXEL = 1
  SAMPLE_LAST_PIXEL = 5720
  SAMPLE_PROJECTION_OFFSET = 1855.0
  SECOND_STANDARD_PARALLEL = "N/A"
  WESTERNMOST_LONGITUDE = 222.586
END_OBJECT = IMAGE_MAP_PROJECTION
END
