PDS_VERSION_ID = PDS3
/* FILE DATA ELEMENTS */
RECORD_TYPE = UNDEFINED
/* POINTERS TO DATA OBJECTS */
^IMAGE = ("HG709_0000_ND4.TIF")
/* IDENTIFICATION DATA ELEMENTS */
DATA_SET_ID = "MEX-M-HRSC-4-REFDR-MAPPROJECT-EXT6-V4.0"
DATA_SET_NAME = "MARS EXPRESS HRSC MAP PROJECTED REFDR EXTENSION6 V4.0"
DETECTOR_ID = MEX_HRSC_NADIR
EVENT_TYPE = "MARS-REGIONAL-MAPPING-Vo"
INSTRUMENT_HOST_ID = MEX
INSTRUMENT_HOST_NAME = "MARS EXPRESS"
INSTRUMENT_ID = HRSC
INSTRUMENT_NAME = "HIGH RESOLUTION STEREO CAMERA"
MISSION_NAME = "MARS EXPRESS"
MISSION_PHASE_NAME = ME_Phase_36
PROCESSING_LEVEL_ID = 4
PRODUCT_CREATION_TIME = 2023-01-26T14:39:22.000Z
PRODUCT_ID = "HG709_0000_ND4.TIF"
RELEASE_ID = 0001
REVISION_ID = 0000
/* QUALITY DATA ELEMENTS */
DATA_QUALITY_ID = 1
DATA_QUALITY_DESC = "Data calculated based on original SPICE kernels"
/* TIME DATA ELEMENTS */
SPACECRAFT_CLOCK_START_COUNT = "1/0437354069.07304"
SPACECRAFT_CLOCK_STOP_COUNT = "1/0437354381.54338"
START_TIME = 2017-03-11T23:15:07.524Z
STOP_TIME = 2017-03-11T23:19:08.522Z
/* ORBITAL DATA ELEMENTS */
ASCENDING_NODE_LONGITUDE = 260.08
MAXIMUM_RESOLUTION = 0.0133
FOOTPRINT_POINT_LATITUDE = (-18.6275,-18.6334,-18.6376,-18.6408, -18.6409,-18.6409,-18.3444,-18.0479, -17.7514,-17.455,-17.1587,-16.8625, -16.5663,-16.2702,-15.9742,-15.6783, -15.3825,-15.0868,-14.7912,-14.4957, -14.2003,-13.9051,-13.61,-13.315, -13.0202,-12.7255,-12.1367,-11.5485, -10.961,-10.3743,-9.78841,-9.20333, -8.61915,-8.10451,-7.75684,-7.40951, -7.06253,-6.71594,-6.36966,-6.0239, -5.67847,-5.33344,-4.98881,-4.6446, -4.30083,-3.95749,-3.61459,-3.27214, -3.10109,-3.08763,-3.08217,-3.07766, -3.06937,-3.06917,-3.06932,-3.41162, -3.75438,-4.0976,-4.44125,-4.78532, -5.12983,-5.47474,-5.82008,-6.1658, -6.51194,-6.85845,-7.20532,-7.55257, -7.90016,-8.24812,-8.59108,-9.17543, -9.76068,-10.3468,-10.9337,-11.5214, -12.1097,-12.4042,-12.6988,-12.9935, -13.2884,-13.5835,-13.8786,-14.174, -14.4694,-14.765,-15.0607,-15.3565, -15.6525,-15.9484,-16.2445,-16.5407, -16.837,-17.1334,-17.4298,-17.7263, -18.0228,-18.4677,-18.6161,-18.6275)
FOOTPRINT_POINT_LONGITUDE = (228.814,228.341,227.934,227.54,227.528 ,227.52,227.517,227.515,227.512,227.509 ,227.506,227.503,227.5,227.496,227.493, 227.49,227.486,227.483,227.479,227.475, 227.471,227.467,227.463,227.459,227.455 ,227.45,227.442,227.432,227.423,227.413 ,227.403,227.393,227.382,227.372, 227.365,227.358,227.352,227.345,227.338 ,227.33,227.323,227.316,227.308,227.301 ,227.293,227.285,227.278,227.27,227.266 ,227.265,227.706,228.057,228.68,228.695 ,228.702,228.702,228.701,228.701, 228.701,228.701,228.701,228.702,228.702 ,228.703,228.703,228.704,228.705, 228.706,228.708,228.709,228.71,228.713, 228.716,228.719,228.723,228.727,228.732 ,228.734,228.737,228.74,228.743,228.746 ,228.749,228.751,228.754,228.757,228.76 ,228.764,228.766,228.77,228.774,228.778 ,228.781,228.785,228.789,228.793, 228.797,228.803,228.805,228.814)
ORBIT_NUMBER = 16709
ORBITAL_ECCENTRICITY = 0.579
ORBITAL_INCLINATION = 86.95
ORBITAL_SEMIMAJOR_AXIS = 8850.29
PERIAPSIS_ALTITUDE = 333.48
PERIAPSIS_ARGUMENT_ANGLE = 338.89
PERIAPSIS_TIME = 2017-03-11T23:14:31.000Z
SPACECRAFT_ORIENTATION = (0.0,1.0,0.0)
^MEX_ORIENTATION_DESC = "MEX_ORIENTATION_DESC.TXT"
SPACECRAFT_POINTING_MODE = ACROSSTRACK
^MEX_POINTING_DESC = "MEX_POINTING_DESC.TXT"
RIGHT_ASCENSION = -1e+32
DECLINATION = -1e+32
OFFSET_ANGLE = -1.2
SPACECRAFT_SOLAR_DISTANCE = 2.22463e+08
TARGET_NAME = MARS
/* CAMERA DATA ELEMENTS */
DETECTOR_TEMPERATURE = 18.9822
FOCAL_PLANE_TEMPERATURE = 10.2145
INST_CMPRS_NAME = "DISCRETE COSINE TRANSFORMATION (DCT)"
INST_CMPRS_RATIO = 5.43337
INST_CMPRS_QUALITY = 0
INST_CMPRS_QUANTZ_TBL_ID = 0
INSTRUMENT_TEMPERATURE = 12.8652
LENS_TEMPERATURE = 10.8262
MACROPIXEL_SIZE = 1
MISSING_FRAMES = 0
PIXEL_SUBSAMPLING_FLAG = N
SIGNAL_CHAIN_ID = 0
/* RADIOMETRIC DATA ELEMENTS */
BANDWIDTH = 177.0
CENTER_FILTER_WAVELENGTH = 677.5
RADIANCE_OFFSET = 3.88908
RADIANCE_SCALING_FACTOR = 0.0182698
REFLECTANCE_SCALING_FACTOR = 0.000480321
MEX:REFLECTANCE_OFFSET = 0.102246
/* IMAGE OBJECT DEFINITIONS */
OBJECT = IMAGE
  INTERCHANGE_FORMAT = BINARY
  LINES = 73838
  LINE_SAMPLES = 7098
  SAMPLE_TYPE = UNSIGNED_INTEGER
  SAMPLE_BITS = 8
  BANDS = 1
  BAND_STORAGE_TYPE = BAND_SEQUENTIAL
  MAXIMUM = 255
  MEAN = 127.734
  MINIMUM = 1
  STANDARD_DEVIATION = 11.8136
END_OBJECT = IMAGE
/* MAP OBJECT DEFINITIONS */
OBJECT = IMAGE_MAP_PROJECTION
  ^DATA_SET_MAP_PROJECTION_CATALOG= "DSMAP.CAT"
  A_AXIS_RADIUS = 3396.0
  B_AXIS_RADIUS = 3396.0
  C_AXIS_RADIUS = 3396.0
  CENTER_LATITUDE = 0.0
  CENTER_LONGITUDE = 228.0
  COORDINATE_SYSTEM_NAME = PLANETOGRAPHIC
  COORDINATE_SYSTEM_TYPE = "BODY-FIXED ROTATING"
  EASTERNMOST_LONGITUDE = 228.814
  FIRST_STANDARD_PARALLEL = "N/A"
  LINE_FIRST_PIXEL = 1
  LINE_LAST_PIXEL = 73838
  LINE_PROJECTION_OFFSET = -14554.0
  MAP_PROJECTION_ROTATION = 0.0
  MAP_PROJECTION_TYPE = SINUSOIDAL
  MAP_RESOLUTION = 4741.71043093333
  MAP_SCALE = 0.0125
  MAXIMUM_LATITUDE = -3.06917
  MINIMUM_LATITUDE = -18.6409
  POSITIVE_LONGITUDE_DIRECTION = EAST
  REFERENCE_LATITUDE = "N/A"
  REFERENCE_LONGITUDE = "N/A"
  SAMPLE_FIRST_PIXEL = 1
  SAMPLE_LAST_PIXEL = 7098
  SAMPLE_PROJECTION_OFFSET = 3478.0
  SECOND_STANDARD_PARALLEL = "N/A"
  WESTERNMOST_LONGITUDE = 227.265
END_OBJECT = IMAGE_MAP_PROJECTION
END
