PDS_VERSION_ID = PDS3
/* FILE DATA ELEMENTS */
RECORD_TYPE = UNDEFINED
/* POINTERS TO DATA OBJECTS */
^IMAGE = ("HG711_0000_IR4.TIF")
/* IDENTIFICATION DATA ELEMENTS */
DATA_SET_ID = "MEX-M-HRSC-4-REFDR-MAPPROJECT-EXT6-V4.0"
DATA_SET_NAME = "MARS EXPRESS HRSC MAP PROJECTED REFDR EXTENSION6 V4.0"
DETECTOR_ID = MEX_HRSC_IR
EVENT_TYPE = "MARS-REGIONAL-MAPPING-Te-Im-Eo"
INSTRUMENT_HOST_ID = MEX
INSTRUMENT_HOST_NAME = "MARS EXPRESS"
INSTRUMENT_ID = HRSC
INSTRUMENT_NAME = "HIGH RESOLUTION STEREO CAMERA"
MISSION_NAME = "MARS EXPRESS"
MISSION_PHASE_NAME = ME_Phase_36
PROCESSING_LEVEL_ID = 4
PRODUCT_CREATION_TIME = 2023-01-26T14:39:22.000Z
PRODUCT_ID = "HG711_0000_IR4.TIF"
RELEASE_ID = 0001
REVISION_ID = 0000
/* QUALITY DATA ELEMENTS */
DATA_QUALITY_ID = 1
DATA_QUALITY_DESC = "Data calculated based on original SPICE kernels"
/* TIME DATA ELEMENTS */
SPACECRAFT_CLOCK_START_COUNT = "1/0437404234.06847"
SPACECRAFT_CLOCK_STOP_COUNT = "1/0437404468.13401"
START_TIME = 2017-03-12T13:11:42.724Z
STOP_TIME = 2017-03-12T13:12:22.706Z
/* ORBITAL DATA ELEMENTS */
ASCENDING_NODE_LONGITUDE = 260.04
MAXIMUM_RESOLUTION = 0.0573
FOOTPRINT_POINT_LATITUDE = (-31.9721,-31.9735,-31.9749,-31.9762, -31.9775,-31.9787,-31.9799,-31.9811, -31.9822,-31.9832,-31.9842,-31.9852, -31.9861,-31.9872,-31.9873,-32.0002, -31.9476,-31.8682,-31.7897,-31.7373, -31.6593,-31.5294,-31.3994,-31.3214, -31.2171,-31.1387,-31.0605,-30.9825, -30.9044,-30.8001,-30.6958,-30.6175, -30.5391,-30.4086,-30.3303,-30.2781, -30.1995,-30.1213,-30.0432,-29.913, -29.8349,-29.7569,-29.6528,-29.5746, -29.4961,-29.4177,-29.3916,-29.3725, -29.3711,-29.3699,-29.3687,-29.3673, -29.3657,-29.3643,-29.362,-29.3633, -29.3612,-29.3582,-29.3568,-29.3551, -29.3535,-29.3532,-29.354,-29.4323, -29.5107,-29.5893,-29.6678,-29.7463, -29.8505,-29.9284,-30.0063,-30.0843, -30.1886,-30.2672,-30.3195,-30.4242, -30.5024,-30.5547,-30.6076,-30.6599, -30.7649,-30.8428,-30.8951,-30.9478, -31.0274,-31.1069,-31.1859,-31.2382, -31.2922,-31.3721,-31.4508,-31.5031, -31.5555,-31.6339,-31.6862,-31.763, -31.8389,-31.9432,-31.9693,-31.9721)
FOOTPRINT_POINT_LONGITUDE = (22.328,22.2221,22.116,22.0096,21.9028, 21.7957,21.6882,21.5804,21.4723,21.3639 ,21.2552,21.146,21.0364,20.8989,20.8851 ,20.8703,20.8724,20.8759,20.8786, 20.8805,20.8828,20.8866,20.8904,20.8926 ,20.8958,20.8983,20.9006,20.9028,20.905 ,20.908,20.9111,20.9134,20.9158,20.9195 ,20.9218,20.9233,20.9258,20.9279, 20.9299,20.9333,20.9353,20.9372,20.9397 ,20.9418,20.944,20.9461,20.9468,20.9473 ,21.0911,21.1832,21.2621,21.3795, 21.5095,21.6003,21.7297,21.8064,21.8967 ,22.0123,22.1144,22.2162,22.3177, 22.3304,22.3346,22.3345,22.3344,22.3342 ,22.3341,22.334,22.3338,22.3336,22.3334 ,22.3332,22.333,22.3329,22.3328,22.3326 ,22.3324,22.3323,22.3322,22.3321, 22.3319,22.3317,22.3316,22.3315,22.3314 ,22.3313,22.3312,22.331,22.331,22.3309, 22.3308,22.3306,22.3305,22.3303,22.3302 ,22.3299,22.3295,22.3292,22.3292, 22.328)
ORBIT_NUMBER = 16711
ORBITAL_ECCENTRICITY = 0.579
ORBITAL_INCLINATION = 86.93
ORBITAL_SEMIMAJOR_AXIS = 8848.63
PERIAPSIS_ALTITUDE = 334.09
PERIAPSIS_ARGUMENT_ANGLE = 338.58
PERIAPSIS_TIME = 2017-03-12T13:14:00.000Z
SPACECRAFT_ORIENTATION = (0.0,1.0,0.0)
^MEX_ORIENTATION_DESC = "MEX_ORIENTATION_DESC.TXT"
SPACECRAFT_POINTING_MODE = ACROSSTRACK
^MEX_POINTING_DESC = "MEX_POINTING_DESC.TXT"
RIGHT_ASCENSION = -1e+32
DECLINATION = -1e+32
OFFSET_ANGLE = 0.5
SPACECRAFT_SOLAR_DISTANCE = 2.22575e+08
TARGET_NAME = MARS
/* CAMERA DATA ELEMENTS */
DETECTOR_TEMPERATURE = 0.0
FOCAL_PLANE_TEMPERATURE = 0.0
INST_CMPRS_NAME = "DISCRETE COSINE TRANSFORMATION (DCT)"
INST_CMPRS_RATIO = 11.1659
INST_CMPRS_QUALITY = 0
INST_CMPRS_QUANTZ_TBL_ID = 0
INSTRUMENT_TEMPERATURE = 0.0
LENS_TEMPERATURE = 0.0
MACROPIXEL_SIZE = 4
MISSING_FRAMES = 0
PIXEL_SUBSAMPLING_FLAG = N
SIGNAL_CHAIN_ID = 2
/* RADIOMETRIC DATA ELEMENTS */
BANDWIDTH = 81.0
CENTER_FILTER_WAVELENGTH = 955.5
RADIANCE_OFFSET = 1.14746
RADIANCE_SCALING_FACTOR = 0.00146734
REFLECTANCE_SCALING_FACTOR = 0.000156824
MEX:REFLECTANCE_OFFSET = 0.122636
/* IMAGE OBJECT DEFINITIONS */
OBJECT = IMAGE
  INTERCHANGE_FORMAT = BINARY
  LINES = 5197
  LINE_SAMPLES = 1515
  SAMPLE_TYPE = UNSIGNED_INTEGER
  SAMPLE_BITS = 8
  BANDS = 1
  BAND_STORAGE_TYPE = BAND_SEQUENTIAL
  MAXIMUM = 255
  MEAN = 132.297
  MINIMUM = 1
  STANDARD_DEVIATION = 39.3648
END_OBJECT = IMAGE
/* MAP OBJECT DEFINITIONS */
OBJECT = IMAGE_MAP_PROJECTION
  ^DATA_SET_MAP_PROJECTION_CATALOG= "DSMAP.CAT"
  A_AXIS_RADIUS = 3396.0
  B_AXIS_RADIUS = 3396.0
  C_AXIS_RADIUS = 3396.0
  CENTER_LATITUDE = 0.0
  CENTER_LONGITUDE = 22.0
  COORDINATE_SYSTEM_NAME = PLANETOGRAPHIC
  COORDINATE_SYSTEM_TYPE = "BODY-FIXED ROTATING"
  EASTERNMOST_LONGITUDE = 22.3346
  FIRST_STANDARD_PARALLEL = "N/A"
  LINE_FIRST_PIXEL = 1
  LINE_LAST_PIXEL = 5197
  LINE_PROJECTION_OFFSET = -32766.125
  MAP_PROJECTION_ROTATION = 0.0
  MAP_PROJECTION_TYPE = SINUSOIDAL
  MAP_RESOLUTION = 1185.42760773333
  MAP_SCALE = 0.05
  MAXIMUM_LATITUDE = -29.3532
  MINIMUM_LATITUDE = -32.0002
  POSITIVE_LONGITUDE_DIRECTION = EAST
  REFERENCE_LATITUDE = "N/A"
  REFERENCE_LONGITUDE = "N/A"
  SAMPLE_FIRST_PIXEL = 1
  SAMPLE_LAST_PIXEL = 1515
  SAMPLE_PROJECTION_OFFSET = 1152.875
  SECOND_STANDARD_PARALLEL = "N/A"
  WESTERNMOST_LONGITUDE = 20.8703
END_OBJECT = IMAGE_MAP_PROJECTION
END
