PDS_VERSION_ID = PDS3
/* FILE DATA ELEMENTS */
RECORD_TYPE = UNDEFINED
/* POINTERS TO DATA OBJECTS */
^IMAGE = ("HG711_0000_P24.TIF")
/* IDENTIFICATION DATA ELEMENTS */
DATA_SET_ID = "MEX-M-HRSC-4-REFDR-MAPPROJECT-EXT6-V4.0"
DATA_SET_NAME = "MARS EXPRESS HRSC MAP PROJECTED REFDR EXTENSION6 V4.0"
DETECTOR_ID = MEX_HRSC_P2
EVENT_TYPE = "MARS-REGIONAL-MAPPING-Te-Im-Eo"
INSTRUMENT_HOST_ID = MEX
INSTRUMENT_HOST_NAME = "MARS EXPRESS"
INSTRUMENT_ID = HRSC
INSTRUMENT_NAME = "HIGH RESOLUTION STEREO CAMERA"
MISSION_NAME = "MARS EXPRESS"
MISSION_PHASE_NAME = ME_Phase_36
PROCESSING_LEVEL_ID = 4
PRODUCT_CREATION_TIME = 2023-01-26T14:39:22.000Z
PRODUCT_ID = "HG711_0000_P24.TIF"
RELEASE_ID = 0001
REVISION_ID = 0000
/* QUALITY DATA ELEMENTS */
DATA_QUALITY_ID = 1
DATA_QUALITY_DESC = "Data calculated based on original SPICE kernels"
/* TIME DATA ELEMENTS */
SPACECRAFT_CLOCK_START_COUNT = "1/0437404234.06847"
SPACECRAFT_CLOCK_STOP_COUNT = "1/0437404468.13401"
START_TIME = 2017-03-12T13:10:53.922Z
STOP_TIME = 2017-03-12T13:12:23.322Z
/* ORBITAL DATA ELEMENTS */
ASCENDING_NODE_LONGITUDE = 260.04
MAXIMUM_RESOLUTION = 0.0282
FOOTPRINT_POINT_LATITUDE = (-32.0652,-32.0594,-32.053,-32.0459, -32.0381,-32.0297,-32.017,-32.0164, -32.0036,-31.8364,-31.6117,-31.4429, -31.2734,-31.048,-30.9351,-30.7657, -30.6528,-30.4834,-30.3704,-30.1445, -30.0313,-29.9178,-29.8043,-29.634, -29.5205,-29.4072,-29.237,-29.0668, -28.9533,-28.8397,-28.7259,-28.6122, -28.4984,-28.3846,-28.214,-28.0431, -27.9291,-27.7581,-27.644,-27.4729, -27.3017,-27.1304,-27.0162,-26.8451, -26.7313,-26.6183,-26.4986,-26.3813, -26.3227,-26.3151,-26.3289,-26.3367, -26.3406,-26.3464,-26.3507,-26.3567, -26.3606,-26.3609,-26.3616,-26.4764, -26.648,-26.7624,-26.8772,-26.9922, -27.1071,-27.2793,-27.5613,-27.6751, -27.8469,-27.9613,-28.0756,-28.1914, -28.3061,-28.4198,-28.5334,-28.6476, -28.8186,-28.9893,-29.1599,-29.2736, -29.3873,-29.5579,-29.6713,-29.785, -29.8988,-30.0696,-30.1834,-30.2966, -30.4096,-30.5229,-30.7477,-30.8611, -31.031,-31.2545,-31.4215,-31.6464, -31.7608,-31.9876,-32.0438,-32.0652)
FOOTPRINT_POINT_LONGITUDE = (22.356,22.1256,21.8942,21.6612,21.427, 21.1914,20.8646,20.8496,20.8341,20.8414 ,20.8495,20.8554,20.8607,20.8684,20.872 ,20.8774,20.8811,20.8867,20.8902, 20.8976,20.9011,20.9043,20.9075,20.9124 ,20.9157,20.9191,20.9241,20.929,20.9324 ,20.9355,20.9386,20.9418,20.9449, 20.9479,20.9526,20.9571,20.9601,20.9645 ,20.9674,20.9717,20.9759,20.9801, 20.9829,20.9874,20.9905,20.9944,20.9924 ,20.9925,20.9926,20.9928,21.2241, 21.3974,21.5546,21.7767,21.9457,22.1783 ,22.3327,22.3455,22.3502,22.3503, 22.3507,22.3509,22.3511,22.3512,22.3514 ,22.3516,22.3524,22.3526,22.3529,22.353 ,22.3532,22.3532,22.3533,22.3535, 22.3537,22.3539,22.3541,22.3543,22.3546 ,22.3547,22.3549,22.3551,22.3552, 22.3554,22.3555,22.3556,22.3557,22.3558 ,22.356,22.3561,22.3565,22.3565,22.3566 ,22.3571,22.3575,22.3578,22.3577, 22.3576,22.3577,22.356)
ORBIT_NUMBER = 16711
ORBITAL_ECCENTRICITY = 0.579
ORBITAL_INCLINATION = 86.93
ORBITAL_SEMIMAJOR_AXIS = 8848.63
PERIAPSIS_ALTITUDE = 334.09
PERIAPSIS_ARGUMENT_ANGLE = 338.58
PERIAPSIS_TIME = 2017-03-12T13:14:00.000Z
SPACECRAFT_ORIENTATION = (0.0,1.0,0.0)
^MEX_ORIENTATION_DESC = "MEX_ORIENTATION_DESC.TXT"
SPACECRAFT_POINTING_MODE = ACROSSTRACK
^MEX_POINTING_DESC = "MEX_POINTING_DESC.TXT"
RIGHT_ASCENSION = -1e+32
DECLINATION = -1e+32
OFFSET_ANGLE = 0.5
SPACECRAFT_SOLAR_DISTANCE = 2.22575e+08
TARGET_NAME = MARS
/* CAMERA DATA ELEMENTS */
DETECTOR_TEMPERATURE = 0.0
FOCAL_PLANE_TEMPERATURE = 0.0
INST_CMPRS_NAME = "DISCRETE COSINE TRANSFORMATION (DCT)"
INST_CMPRS_RATIO = 7.45163
INST_CMPRS_QUALITY = 0
INST_CMPRS_QUANTZ_TBL_ID = 0
INSTRUMENT_TEMPERATURE = 0.0
LENS_TEMPERATURE = 0.0
MACROPIXEL_SIZE = 2
MISSING_FRAMES = 0
PIXEL_SUBSAMPLING_FLAG = N
SIGNAL_CHAIN_ID = 3
/* RADIOMETRIC DATA ELEMENTS */
BANDWIDTH = 177.0
CENTER_FILTER_WAVELENGTH = 676.5
RADIANCE_OFFSET = 5.08518
RADIANCE_SCALING_FACTOR = 0.00628091
REFLECTANCE_SCALING_FACTOR = 0.00016498
MEX:REFLECTANCE_OFFSET = 0.133572
/* IMAGE OBJECT DEFINITIONS */
OBJECT = IMAGE
  INTERCHANGE_FORMAT = BINARY
  LINES = 10393
  LINE_SAMPLES = 3029
  SAMPLE_TYPE = UNSIGNED_INTEGER
  SAMPLE_BITS = 8
  BANDS = 1
  BAND_STORAGE_TYPE = BAND_SEQUENTIAL
  MAXIMUM = 227
  MEAN = 103.56
  MINIMUM = 1
  STANDARD_DEVIATION = 31.5602
END_OBJECT = IMAGE
/* MAP OBJECT DEFINITIONS */
OBJECT = IMAGE_MAP_PROJECTION
  ^DATA_SET_MAP_PROJECTION_CATALOG= "DSMAP.CAT"
  A_AXIS_RADIUS = 3396.0
  B_AXIS_RADIUS = 3396.0
  C_AXIS_RADIUS = 3396.0
  CENTER_LATITUDE = 0.0
  CENTER_LONGITUDE = 22.0
  COORDINATE_SYSTEM_NAME = PLANETOGRAPHIC
  COORDINATE_SYSTEM_TYPE = "BODY-FIXED ROTATING"
  EASTERNMOST_LONGITUDE = 22.3578
  FIRST_STANDARD_PARALLEL = "N/A"
  LINE_FIRST_PIXEL = 1
  LINE_LAST_PIXEL = 10393
  LINE_PROJECTION_OFFSET = -65531.75
  MAP_PROJECTION_ROTATION = 0.0
  MAP_PROJECTION_TYPE = SINUSOIDAL
  MAP_RESOLUTION = 2370.85521546667
  MAP_SCALE = 0.025
  MAXIMUM_LATITUDE = -26.3151
  MINIMUM_LATITUDE = -32.0652
  POSITIVE_LONGITUDE_DIRECTION = EAST
  REFERENCE_LATITUDE = "N/A"
  REFERENCE_LONGITUDE = "N/A"
  SAMPLE_FIRST_PIXEL = 1
  SAMPLE_LAST_PIXEL = 3029
  SAMPLE_PROJECTION_OFFSET = 2306.25
  SECOND_STANDARD_PARALLEL = "N/A"
  WESTERNMOST_LONGITUDE = 20.8341
END_OBJECT = IMAGE_MAP_PROJECTION
END
