PDS_VERSION_ID = PDS3
/* FILE DATA ELEMENTS */
RECORD_TYPE = UNDEFINED
/* POINTERS TO DATA OBJECTS */
^IMAGE = ("HG711_0000_RE4.TIF")
/* IDENTIFICATION DATA ELEMENTS */
DATA_SET_ID = "MEX-M-HRSC-4-REFDR-MAPPROJECT-EXT6-V4.0"
DATA_SET_NAME = "MARS EXPRESS HRSC MAP PROJECTED REFDR EXTENSION6 V4.0"
DETECTOR_ID = MEX_HRSC_RED
EVENT_TYPE = "MARS-REGIONAL-MAPPING-Te-Im-Eo"
INSTRUMENT_HOST_ID = MEX
INSTRUMENT_HOST_NAME = "MARS EXPRESS"
INSTRUMENT_ID = HRSC
INSTRUMENT_NAME = "HIGH RESOLUTION STEREO CAMERA"
MISSION_NAME = "MARS EXPRESS"
MISSION_PHASE_NAME = ME_Phase_36
PROCESSING_LEVEL_ID = 4
PRODUCT_CREATION_TIME = 2023-01-26T14:39:22.000Z
PRODUCT_ID = "HG711_0000_RE4.TIF"
RELEASE_ID = 0001
REVISION_ID = 0000
/* QUALITY DATA ELEMENTS */
DATA_QUALITY_ID = 1
DATA_QUALITY_DESC = "Data calculated based on original SPICE kernels"
/* TIME DATA ELEMENTS */
SPACECRAFT_CLOCK_START_COUNT = "1/0437404234.06847"
SPACECRAFT_CLOCK_STOP_COUNT = "1/0437404468.13401"
START_TIME = 2017-03-12T13:10:48.094Z
STOP_TIME = 2017-03-12T13:12:22.706Z
/* ORBITAL DATA ELEMENTS */
ASCENDING_NODE_LONGITUDE = 260.04
MAXIMUM_RESOLUTION = 0.0573
FOOTPRINT_POINT_LATITUDE = (-32.0694,-32.0627,-32.0555,-32.0476, -32.039,-32.0297,-32.0197,-32.0132, -32.0125,-31.9962,-31.7911,-31.6542, -31.4219,-31.2472,-30.9566,-30.6075, -30.4331,-30.2582,-30.0252,-29.9082, -29.7327,-29.6155,-29.4985,-29.3817, -29.2646,-29.1476,-29.0306,-28.855, -28.7377,-28.6204,-28.5031,-28.3856, -28.2095,-28.0922,-27.9157,-27.7981, -27.6806,-27.5628,-27.3862,-27.2684, -27.1506,-27.0326,-26.9151,-26.739, -26.6216,-26.4942,-26.3744,-26.256, -26.0787,-26.0205,-26.007,-26.0169, -26.0307,-26.0363,-26.0407,-26.0478, -26.0536,-26.0603,-26.0606,-26.0616, -26.18,-26.2987,-26.4174,-26.5357, -26.6536,-26.8313,-27.0094,-27.1281, -27.3621,-27.537,-27.6542,-27.8317, -28.0088,-28.1276,-28.2471,-28.3648, -28.4816,-28.5994,-28.7171,-28.8345, -28.952,-29.1279,-29.2451,-29.3624, -29.5383,-29.6552,-29.8314,-30.0077, -30.1251,-30.3582,-30.5902,-30.765, -30.8825,-31.1135,-31.285,-31.5154, -31.8291,-31.967,-32.0362,-32.0694)
FOOTPRINT_POINT_LONGITUDE = (22.3596,22.1369,21.9133,21.6881, 21.4619,21.2345,21.0054,20.8612,20.8467 ,20.8325,20.8415,20.8466,20.8544,20.86, 20.8697,20.8812,20.887,20.8926,20.9001, 20.9035,20.9086,20.9119,20.9153,20.9189 ,20.9223,20.9257,20.9292,20.9343, 20.9376,20.9408,20.9441,20.9472,20.952, 20.9553,20.9599,20.9629,20.9661,20.969, 20.9735,20.9765,20.9794,20.9823,20.9854 ,20.9903,20.9935,20.9898,20.9913, 20.9939,20.998,20.9999,21.0002,21.1682, 21.3997,21.5757,21.7137,21.9385,22.1246 ,22.3345,22.3468,22.3509,22.3512, 22.3514,22.3516,22.3519,22.3522,22.3525 ,22.3528,22.353,22.3536,22.3542,22.3544 ,22.3547,22.3551,22.3552,22.3553, 22.3555,22.3558,22.356,22.3562,22.3564, 22.3566,22.3569,22.3571,22.3573,22.3576 ,22.3578,22.3581,22.3583,22.3584, 22.3588,22.3593,22.3595,22.3596,22.3601 ,22.3606,22.3611,22.3611,22.3613, 22.3614,22.3596)
ORBIT_NUMBER = 16711
ORBITAL_ECCENTRICITY = 0.579
ORBITAL_INCLINATION = 86.93
ORBITAL_SEMIMAJOR_AXIS = 8848.63
PERIAPSIS_ALTITUDE = 334.09
PERIAPSIS_ARGUMENT_ANGLE = 338.58
PERIAPSIS_TIME = 2017-03-12T13:14:00.000Z
SPACECRAFT_ORIENTATION = (0.0,1.0,0.0)
^MEX_ORIENTATION_DESC = "MEX_ORIENTATION_DESC.TXT"
SPACECRAFT_POINTING_MODE = ACROSSTRACK
^MEX_POINTING_DESC = "MEX_POINTING_DESC.TXT"
RIGHT_ASCENSION = -1e+32
DECLINATION = -1e+32
OFFSET_ANGLE = 0.5
SPACECRAFT_SOLAR_DISTANCE = 2.22575e+08
TARGET_NAME = MARS
/* CAMERA DATA ELEMENTS */
DETECTOR_TEMPERATURE = 0.0
FOCAL_PLANE_TEMPERATURE = 0.0
INST_CMPRS_NAME = "DISCRETE COSINE TRANSFORMATION (DCT)"
INST_CMPRS_RATIO = 30.603
INST_CMPRS_QUALITY = 0
INST_CMPRS_QUANTZ_TBL_ID = 0
INSTRUMENT_TEMPERATURE = 0.0
LENS_TEMPERATURE = 0.0
MACROPIXEL_SIZE = 4
MISSING_FRAMES = 0
PIXEL_SUBSAMPLING_FLAG = N
SIGNAL_CHAIN_ID = 2
/* RADIOMETRIC DATA ELEMENTS */
BANDWIDTH = 48.0
CENTER_FILTER_WAVELENGTH = 748.0
RADIANCE_OFFSET = 1.38752
RADIANCE_SCALING_FACTOR = 0.00191782
REFLECTANCE_SCALING_FACTOR = 0.000216813
MEX:REFLECTANCE_OFFSET = 0.156861
/* IMAGE OBJECT DEFINITIONS */
OBJECT = IMAGE
  INTERCHANGE_FORMAT = BINARY
  LINES = 5197
  LINE_SAMPLES = 1515
  SAMPLE_TYPE = UNSIGNED_INTEGER
  SAMPLE_BITS = 8
  BANDS = 1
  BAND_STORAGE_TYPE = BAND_SEQUENTIAL
  MAXIMUM = 254
  MEAN = 91.7664
  MINIMUM = 1
  STANDARD_DEVIATION = 31.1015
END_OBJECT = IMAGE
/* MAP OBJECT DEFINITIONS */
OBJECT = IMAGE_MAP_PROJECTION
  ^DATA_SET_MAP_PROJECTION_CATALOG= "DSMAP.CAT"
  A_AXIS_RADIUS = 3396.0
  B_AXIS_RADIUS = 3396.0
  C_AXIS_RADIUS = 3396.0
  CENTER_LATITUDE = 0.0
  CENTER_LONGITUDE = 22.0
  COORDINATE_SYSTEM_NAME = PLANETOGRAPHIC
  COORDINATE_SYSTEM_TYPE = "BODY-FIXED ROTATING"
  EASTERNMOST_LONGITUDE = 22.3614
  FIRST_STANDARD_PARALLEL = "N/A"
  LINE_FIRST_PIXEL = 1
  LINE_LAST_PIXEL = 5197
  LINE_PROJECTION_OFFSET = -32766.125
  MAP_PROJECTION_ROTATION = 0.0
  MAP_PROJECTION_TYPE = SINUSOIDAL
  MAP_RESOLUTION = 1185.42760773333
  MAP_SCALE = 0.05
  MAXIMUM_LATITUDE = -26.007
  MINIMUM_LATITUDE = -32.0694
  POSITIVE_LONGITUDE_DIRECTION = EAST
  REFERENCE_LATITUDE = "N/A"
  REFERENCE_LONGITUDE = "N/A"
  SAMPLE_FIRST_PIXEL = 1
  SAMPLE_LAST_PIXEL = 1515
  SAMPLE_PROJECTION_OFFSET = 1152.875
  SECOND_STANDARD_PARALLEL = "N/A"
  WESTERNMOST_LONGITUDE = 20.8325
END_OBJECT = IMAGE_MAP_PROJECTION
END
