PDS_VERSION_ID = PDS3
/* FILE DATA ELEMENTS */
RECORD_TYPE = UNDEFINED
/* POINTERS TO DATA OBJECTS */
^IMAGE = ("HG721_0000_P24.TIF")
/* IDENTIFICATION DATA ELEMENTS */
DATA_SET_ID = "MEX-M-HRSC-4-REFDR-MAPPROJECT-EXT6-V4.0"
DATA_SET_NAME = "MARS EXPRESS HRSC MAP PROJECTED REFDR EXTENSION6 V4.0"
DETECTOR_ID = MEX_HRSC_P2
EVENT_TYPE = "MARS-REGIONAL-MAPPING-Im-Gl-La"
INSTRUMENT_HOST_ID = MEX
INSTRUMENT_HOST_NAME = "MARS EXPRESS"
INSTRUMENT_ID = HRSC
INSTRUMENT_NAME = "HIGH RESOLUTION STEREO CAMERA"
MISSION_NAME = "MARS EXPRESS"
MISSION_PHASE_NAME = ME_Phase_36
PROCESSING_LEVEL_ID = 4
PRODUCT_CREATION_TIME = 2023-01-26T14:39:22.000Z
PRODUCT_ID = "HG721_0000_P24.TIF"
RELEASE_ID = 0001
REVISION_ID = 0000
/* QUALITY DATA ELEMENTS */
DATA_QUALITY_ID = 1
DATA_QUALITY_DESC = "Data calculated based on original SPICE kernels"
/* TIME DATA ELEMENTS */
SPACECRAFT_CLOCK_START_COUNT = "1/0437656058.09047"
SPACECRAFT_CLOCK_STOP_COUNT = "1/0437656292.49612"
START_TIME = 2017-03-15T11:07:58.106Z
STOP_TIME = 2017-03-15T11:10:48.181Z
/* ORBITAL DATA ELEMENTS */
ASCENDING_NODE_LONGITUDE = 259.85
MAXIMUM_RESOLUTION = 0.0276
FOOTPRINT_POINT_LATITUDE = (-33.4885,-33.5179,-33.5388,-33.5566, -33.5571,-33.511,-33.2585,-32.8796, -32.6679,-32.4554,-32.2433,-31.9277, -31.6081,-31.3945,-31.1818,-30.9687, -30.7546,-30.5405,-30.3263,-29.9013, -29.6857,-29.3624,-29.0396,-28.8246, -28.6088,-28.2861,-28.0682,-27.8527, -27.5308,-27.202,-26.8785,-26.6617, -26.4443,-26.2281,-25.9042,-25.5771, -25.3595,-25.0329,-24.8149,-24.5984, -24.3777,-24.0485,-23.8304,-23.6135, -23.3939,-23.1748,-22.9554,-22.7365, -22.6268,-22.5966,-22.5823,-22.5661, -22.5419,-22.5213,-22.5205,-22.5206, -22.851,-23.0707,-23.2905,-23.5088, -23.728,-23.9479,-24.1602,-24.3761, -24.5945,-24.8124,-25.0311,-25.2542, -25.5864,-25.9131,-26.1383,-26.56, -26.7768,-26.9941,-27.2106,-27.4278, -27.753,-27.9691,-28.399,-28.729, -29.0497,-29.2638,-29.5793,-29.7923, -30.0076,-30.2275,-30.6529,-30.9708, -31.1838,-31.3967,-31.6138,-31.931, -32.1435,-32.3564,-32.5685,-32.7808, -33.0282,-33.2814,-33.4085,-33.4885)
FOOTPRINT_POINT_LONGITUDE = (81.4502,80.8506,80.3621,79.8873, 79.8726,79.8902,79.894,79.8995,79.9022, 79.905,79.9075,79.9096,79.9132,79.9156, 79.9174,79.9192,79.9213,79.9232,79.925, 79.9264,79.9284,79.931,79.9329,79.9339, 79.9351,79.9361,79.938,79.9385,79.9382, 79.9412,79.9411,79.9414,79.9418,79.9416 ,79.9407,79.941,79.9409,79.9405,79.9403 ,79.9391,79.9399,79.9401,79.9392, 79.9377,79.9375,79.9368,79.9361,79.9352 ,79.9348,79.9346,80.2065,80.4972, 80.9127,81.2468,81.2603,81.2652,81.2686 ,81.2715,81.2742,81.2789,81.2823, 81.2845,81.2975,81.3051,81.3092,81.3139 ,81.3171,81.314,81.3126,81.3188,81.312, 81.3395,81.3444,81.3484,81.3535,81.3573 ,81.3635,81.3686,81.3814,81.3795, 81.3907,81.3976,81.4156,81.4235,81.4279 ,81.4252,81.4406,81.4531,81.4596,81.466 ,81.466,81.4781,81.4842,81.4897,81.496, 81.5016,81.5078,81.5142,81.5167, 81.4502)
ORBIT_NUMBER = 16721
ORBITAL_ECCENTRICITY = 0.579
ORBITAL_INCLINATION = 86.95
ORBITAL_SEMIMAJOR_AXIS = 8848.05
PERIAPSIS_ALTITUDE = 332.48
PERIAPSIS_ARGUMENT_ANGLE = 336.84
PERIAPSIS_TIME = 2017-03-15T11:11:00.000Z
SPACECRAFT_ORIENTATION = (0.0,1.0,0.0)
^MEX_ORIENTATION_DESC = "MEX_ORIENTATION_DESC.TXT"
SPACECRAFT_POINTING_MODE = ACROSSTRACK
^MEX_POINTING_DESC = "MEX_POINTING_DESC.TXT"
RIGHT_ASCENSION = -1e+32
DECLINATION = -1e+32
OFFSET_ANGLE = -1.2
SPACECRAFT_SOLAR_DISTANCE = 2.23139e+08
TARGET_NAME = MARS
/* CAMERA DATA ELEMENTS */
DETECTOR_TEMPERATURE = 18.9822
FOCAL_PLANE_TEMPERATURE = 8.5833
INST_CMPRS_NAME = "DISCRETE COSINE TRANSFORMATION (DCT)"
INST_CMPRS_RATIO = 9.25249
INST_CMPRS_QUALITY = 0
INST_CMPRS_QUANTZ_TBL_ID = 0
INSTRUMENT_TEMPERATURE = 12.0496
LENS_TEMPERATURE = 7.7677
MACROPIXEL_SIZE = 2
MISSING_FRAMES = 0
PIXEL_SUBSAMPLING_FLAG = N
SIGNAL_CHAIN_ID = 3
/* RADIOMETRIC DATA ELEMENTS */
BANDWIDTH = 177.0
CENTER_FILTER_WAVELENGTH = 676.5
RADIANCE_OFFSET = 3.33077
RADIANCE_SCALING_FACTOR = 0.0111959
REFLECTANCE_SCALING_FACTOR = 0.000295574
MEX:REFLECTANCE_OFFSET = 0.0879333
/* IMAGE OBJECT DEFINITIONS */
OBJECT = IMAGE
  INTERCHANGE_FORMAT = BINARY
  LINES = 25983
  LINE_SAMPLES = 3322
  SAMPLE_TYPE = UNSIGNED_INTEGER
  SAMPLE_BITS = 8
  BANDS = 1
  BAND_STORAGE_TYPE = BAND_SEQUENTIAL
  MAXIMUM = 255
  MEAN = 133.516
  MINIMUM = 1
  STANDARD_DEVIATION = 35.5729
END_OBJECT = IMAGE
/* MAP OBJECT DEFINITIONS */
OBJECT = IMAGE_MAP_PROJECTION
  ^DATA_SET_MAP_PROJECTION_CATALOG= "DSMAP.CAT"
  A_AXIS_RADIUS = 3396.0
  B_AXIS_RADIUS = 3396.0
  C_AXIS_RADIUS = 3396.0
  CENTER_LATITUDE = 0.0
  CENTER_LONGITUDE = 81.0
  COORDINATE_SYSTEM_NAME = PLANETOGRAPHIC
  COORDINATE_SYSTEM_TYPE = "BODY-FIXED ROTATING"
  EASTERNMOST_LONGITUDE = 81.5167
  FIRST_STANDARD_PARALLEL = "N/A"
  LINE_FIRST_PIXEL = 1
  LINE_LAST_PIXEL = 25983
  LINE_PROJECTION_OFFSET = -53443.75
  MAP_PROJECTION_ROTATION = 0.0
  MAP_PROJECTION_TYPE = SINUSOIDAL
  MAP_RESOLUTION = 2370.85521546667
  MAP_SCALE = 0.025
  MAXIMUM_LATITUDE = -22.5205
  MINIMUM_LATITUDE = -33.5571
  POSITIVE_LONGITUDE_DIRECTION = EAST
  REFERENCE_LATITUDE = "N/A"
  REFERENCE_LONGITUDE = "N/A"
  SAMPLE_FIRST_PIXEL = 1
  SAMPLE_LAST_PIXEL = 3322
  SAMPLE_PROJECTION_OFFSET = 2334.75
  SECOND_STANDARD_PARALLEL = "N/A"
  WESTERNMOST_LONGITUDE = 79.87260000000001
END_OBJECT = IMAGE_MAP_PROJECTION
END
