PDS_VERSION_ID = PDS3
/* FILE DATA ELEMENTS */
RECORD_TYPE = UNDEFINED
/* POINTERS TO DATA OBJECTS */
^IMAGE = ("HG721_0001_P24.TIF")
/* IDENTIFICATION DATA ELEMENTS */
DATA_SET_ID = "MEX-M-HRSC-4-REFDR-MAPPROJECT-EXT6-V4.0"
DATA_SET_NAME = "MARS EXPRESS HRSC MAP PROJECTED REFDR EXTENSION6 V4.0"
DETECTOR_ID = MEX_HRSC_P2
EVENT_TYPE = "MARS-REGIONAL-MAPPING-Vo-Im-Fl"
INSTRUMENT_HOST_ID = MEX
INSTRUMENT_HOST_NAME = "MARS EXPRESS"
INSTRUMENT_ID = HRSC
INSTRUMENT_NAME = "HIGH RESOLUTION STEREO CAMERA"
MISSION_NAME = "MARS EXPRESS"
MISSION_PHASE_NAME = ME_Phase_36
PROCESSING_LEVEL_ID = 4
PRODUCT_CREATION_TIME = 2023-01-26T14:39:22.000Z
PRODUCT_ID = "HG721_0001_P24.TIF"
RELEASE_ID = 0001
REVISION_ID = 0000
/* QUALITY DATA ELEMENTS */
DATA_QUALITY_ID = 1
DATA_QUALITY_DESC = "Data calculated based on original SPICE kernels"
/* TIME DATA ELEMENTS */
SPACECRAFT_CLOCK_START_COUNT = "1/0437656463.05879"
SPACECRAFT_CLOCK_STOP_COUNT = "1/0437656630.38646"
START_TIME = 2017-03-15T11:14:42.391Z
STOP_TIME = 2017-03-15T11:15:12.944Z
/* ORBITAL DATA ELEMENTS */
ASCENDING_NODE_LONGITUDE = 259.85
MAXIMUM_RESOLUTION = 0.0308
FOOTPRINT_POINT_LATITUDE = (-7.13823,-7.14368,-7.14727,-7.15082, -7.15434,-7.15782,-7.16128,-7.16471, -7.16809,-7.17144,-7.17477,-7.17807, -7.18132,-7.18455,-7.18774,-7.19089, -7.19402,-7.19711,-7.20018,-7.20322, -7.20623,-7.20922,-7.21513,-7.22092, -7.22164,-7.22664,-7.08926,-7.01081, -6.93234,-6.87346,-6.79502,-6.73624, -6.67733,-6.59895,-6.50095,-6.42265, -6.36395,-6.24637,-6.16797,-6.08964, -5.99189,-5.91384,-5.8356,-5.75708, -5.65916,-5.5809,-5.50274,-5.40511, -5.32684,-5.26813,-5.24857,-5.23215, -5.22956,-5.22484,-5.22183,-5.21663, -5.21303,-5.20757,-5.20191,-5.19871, -5.19308,-5.18976,-5.18644,-5.18312, -5.17718,-5.17375,-5.17036,-5.16689, -5.16339,-5.15988,-5.15452,-5.14919, -5.14827,-5.14846,-5.20696,-5.2656, -5.34382,-5.46107,-5.55888,-5.63712, -5.71546,-5.79392,-5.89197,-6.0094, -6.10724,-6.18544,-6.24421,-6.32264, -6.38153,-6.46004,-6.51895,-6.61697, -6.73469,-6.83293,-6.89187,-6.95079, -7.02941,-7.108,-7.12744,-7.13823)
FOOTPRINT_POINT_LONGITUDE = (81.1106,81.0269,80.9713,80.9161, 80.8611,80.8063,80.7516,80.6972,80.643, 80.589,80.5351,80.4815,80.428,80.3748, 80.3218,80.2689,80.2163,80.1638,80.1116 ,80.0595,80.0076,79.9558,79.8527, 79.7503,79.7376,79.7316,79.7287,79.7271 ,79.7254,79.7242,79.7225,79.7212,79.72, 79.7183,79.7162,79.7144,79.7131,79.7106 ,79.7089,79.7071,79.7049,79.7031, 79.7013,79.6996,79.6975,79.6957,79.6939 ,79.6916,79.6899,79.6886,79.6881, 79.6877,79.7394,79.8182,79.8709,79.9636 ,80.0299,80.1234,80.2175,80.2715, 80.3665,80.4211,80.4759,80.5308,80.6275 ,80.683,80.7386,80.7945,80.8505,80.9068 ,80.9916,81.077,81.0912,81.0964,81.0968 ,81.097,81.0973,81.0978,81.0982,81.0985 ,81.0987,81.0988,81.099,81.0995,81.1, 81.1005,81.1008,81.101,81.1012,81.1013, 81.1015,81.1019,81.1023,81.1025,81.1027 ,81.1029,81.103,81.1033,81.1036, 81.1106)
ORBIT_NUMBER = 16721
ORBITAL_ECCENTRICITY = 0.579
ORBITAL_INCLINATION = 86.95
ORBITAL_SEMIMAJOR_AXIS = 8848.05
PERIAPSIS_ALTITUDE = 332.48
PERIAPSIS_ARGUMENT_ANGLE = 336.84
PERIAPSIS_TIME = 2017-03-15T11:11:00.000Z
SPACECRAFT_ORIENTATION = (0.0,1.0,0.0)
^MEX_ORIENTATION_DESC = "MEX_ORIENTATION_DESC.TXT"
SPACECRAFT_POINTING_MODE = ACROSSTRACK
^MEX_POINTING_DESC = "MEX_POINTING_DESC.TXT"
RIGHT_ASCENSION = -1e+32
DECLINATION = -1e+32
OFFSET_ANGLE = -1.2
SPACECRAFT_SOLAR_DISTANCE = 2.23139e+08
TARGET_NAME = MARS
/* CAMERA DATA ELEMENTS */
DETECTOR_TEMPERATURE = 0.0
FOCAL_PLANE_TEMPERATURE = 0.0
INST_CMPRS_NAME = "DISCRETE COSINE TRANSFORMATION (DCT)"
INST_CMPRS_RATIO = 7.74529
INST_CMPRS_QUALITY = 0
INST_CMPRS_QUANTZ_TBL_ID = 0
INSTRUMENT_TEMPERATURE = 0.0
LENS_TEMPERATURE = 0.0
MACROPIXEL_SIZE = 2
MISSING_FRAMES = 0
PIXEL_SUBSAMPLING_FLAG = N
SIGNAL_CHAIN_ID = 3
/* RADIOMETRIC DATA ELEMENTS */
BANDWIDTH = 177.0
CENTER_FILTER_WAVELENGTH = 676.5
RADIANCE_OFFSET = 3.28767
RADIANCE_SCALING_FACTOR = 0.0061833
REFLECTANCE_SCALING_FACTOR = 0.000163242
MEX:REFLECTANCE_OFFSET = 0.0867962
/* IMAGE OBJECT DEFINITIONS */
OBJECT = IMAGE
  INTERCHANGE_FORMAT = BINARY
  LINES = 1183
  LINE_SAMPLES = 3317
  SAMPLE_TYPE = UNSIGNED_INTEGER
  SAMPLE_BITS = 8
  BANDS = 1
  BAND_STORAGE_TYPE = BAND_SEQUENTIAL
  MAXIMUM = 253
  MEAN = 149.58
  MINIMUM = 1
  STANDARD_DEVIATION = 23.0189
END_OBJECT = IMAGE
/* MAP OBJECT DEFINITIONS */
OBJECT = IMAGE_MAP_PROJECTION
  ^DATA_SET_MAP_PROJECTION_CATALOG= "DSMAP.CAT"
  A_AXIS_RADIUS = 3396.0
  B_AXIS_RADIUS = 3396.0
  C_AXIS_RADIUS = 3396.0
  CENTER_LATITUDE = 0.0
  CENTER_LONGITUDE = 80.0
  COORDINATE_SYSTEM_NAME = PLANETOGRAPHIC
  COORDINATE_SYSTEM_TYPE = "BODY-FIXED ROTATING"
  EASTERNMOST_LONGITUDE = 81.11060000000001
  FIRST_STANDARD_PARALLEL = "N/A"
  LINE_FIRST_PIXEL = 1
  LINE_LAST_PIXEL = 1183
  LINE_PROJECTION_OFFSET = -15859.75
  MAP_PROJECTION_ROTATION = 0.0
  MAP_PROJECTION_TYPE = SINUSOIDAL
  MAP_RESOLUTION = 2370.85521546667
  MAP_SCALE = 0.025
  MAXIMUM_LATITUDE = -5.14827
  MINIMUM_LATITUDE = -7.22664
  POSITIVE_LONGITUDE_DIRECTION = EAST
  REFERENCE_LATITUDE = "N/A"
  REFERENCE_LONGITUDE = "N/A"
  SAMPLE_FIRST_PIXEL = 1
  SAMPLE_LAST_PIXEL = 3317
  SAMPLE_PROJECTION_OFFSET = 696.75
  SECOND_STANDARD_PARALLEL = "N/A"
  WESTERNMOST_LONGITUDE = 79.68770000000001
END_OBJECT = IMAGE_MAP_PROJECTION
END
