PDS_VERSION_ID = PDS3
/* FILE DATA ELEMENTS */
RECORD_TYPE = UNDEFINED
/* POINTERS TO DATA OBJECTS */
^IMAGE = ("HG722_0000_S14.TIF")
/* IDENTIFICATION DATA ELEMENTS */
DATA_SET_ID = "MEX-M-HRSC-4-REFDR-MAPPROJECT-EXT6-V4.0"
DATA_SET_NAME = "MARS EXPRESS HRSC MAP PROJECTED REFDR EXTENSION6 V4.0"
DETECTOR_ID = MEX_HRSC_S1
EVENT_TYPE = "MARS-REGIONAL-MAPPING-Te-Fl-Lc"
INSTRUMENT_HOST_ID = MEX
INSTRUMENT_HOST_NAME = "MARS EXPRESS"
INSTRUMENT_ID = HRSC
INSTRUMENT_NAME = "HIGH RESOLUTION STEREO CAMERA"
MISSION_NAME = "MARS EXPRESS"
MISSION_PHASE_NAME = ME_Phase_36
PROCESSING_LEVEL_ID = 4
PRODUCT_CREATION_TIME = 2023-01-26T14:39:22.000Z
PRODUCT_ID = "HG722_0000_S14.TIF"
RELEASE_ID = 0001
REVISION_ID = 0000
/* QUALITY DATA ELEMENTS */
DATA_QUALITY_ID = 1
DATA_QUALITY_DESC = "Data calculated based on original SPICE kernels"
/* TIME DATA ELEMENTS */
SPACECRAFT_CLOCK_START_COUNT = "1/0437681270.09034"
SPACECRAFT_CLOCK_STOP_COUNT = "1/0437681482.31804"
START_TIME = 2017-03-15T18:09:01.603Z
STOP_TIME = 2017-03-15T18:11:28.447Z
/* ORBITAL DATA ELEMENTS */
ASCENDING_NODE_LONGITUDE = 259.84
MAXIMUM_RESOLUTION = 0.0283
FOOTPRINT_POINT_LATITUDE = (-31.6495,-31.647,-31.6432,-31.6402, -31.64,-31.6701,-31.4718,-31.2733, -31.0756,-30.8773,-30.6787,-30.4803, -30.2812,-30.0831,-29.8852,-29.5906, -29.3991,-29.208,-29.0165,-28.7301, -28.539,-28.348,-28.063,-27.7769, -27.5851,-27.394,-27.2032,-27.0118, -26.8201,-26.5355,-26.3449,-26.1538, -25.9645,-25.7714,-25.5811,-25.3893, -25.1976,-25.0073,-24.8166,-24.6282, -24.3475,-24.0638,-23.7813,-23.593, -23.4043,-23.2154,-22.9315,-22.7418, -22.5536,-22.3659,-22.1762,-22.0823, -22.045,-22.0447,-22.0448,-22.0439, -22.0474,-22.0471,-22.0475,-22.4188, -22.7922,-22.9819,-23.2661,-23.4556, -23.6528,-24.0229,-24.3117,-24.5068, -24.6985,-25.0739,-25.2643,-25.5453, -25.7376,-26.0241,-26.3099,-26.5965, -26.7876,-26.9786,-27.2656,-27.4568, -27.7435,-27.9352,-28.1254,-28.3167, -28.604,-28.7957,-28.9865,-29.178, -29.3695,-29.6568,-29.8566,-30.1577, -30.3556,-30.5503,-30.8471,-31.046, -31.3442,-31.5432,-31.6425,-31.6495)
FOOTPRINT_POINT_LONGITUDE = (337.626,337.126,336.6,336.249,336.235, 336.219,336.224,336.229,336.233,336.238 ,336.242,336.247,336.251,336.255, 336.259,336.265,336.269,336.272,336.276 ,336.28,336.283,336.286,336.29,336.294, 336.297,336.3,336.303,336.305,336.308, 336.311,336.313,336.316,336.317,336.32, 336.322,336.324,336.327,336.328,336.33, 336.331,336.332,336.334,336.335,336.336 ,336.336,336.337,336.339,336.34,336.34, 336.34,336.341,336.341,336.342,336.649, 336.883,337.204,337.599,337.611,337.616 ,337.614,337.614,337.614,337.615, 337.616,337.619,337.617,337.619,337.621 ,337.622,337.621,337.622,337.621, 337.622,337.623,337.624,337.625,337.625 ,337.626,337.627,337.627,337.628, 337.628,337.628,337.629,337.63,337.63, 337.63,337.631,337.631,337.632,337.633, 337.635,337.636,337.635,337.635,337.636 ,337.637,337.637,337.637,337.626)
ORBIT_NUMBER = 16722
ORBITAL_ECCENTRICITY = 0.578
ORBITAL_INCLINATION = 86.95
ORBITAL_SEMIMAJOR_AXIS = 8840.53
PERIAPSIS_ALTITUDE = 333.32
PERIAPSIS_ARGUMENT_ANGLE = 336.67
PERIAPSIS_TIME = 2017-03-15T18:10:40.000Z
SPACECRAFT_ORIENTATION = (0.0,1.0,0.0)
^MEX_ORIENTATION_DESC = "MEX_ORIENTATION_DESC.TXT"
SPACECRAFT_POINTING_MODE = NADIR
^MEX_POINTING_DESC = "MEX_POINTING_DESC.TXT"
RIGHT_ASCENSION = -1e+32
DECLINATION = -1e+32
OFFSET_ANGLE = -1e+32
SPACECRAFT_SOLAR_DISTANCE = 2.23196e+08
TARGET_NAME = MARS
/* CAMERA DATA ELEMENTS */
DETECTOR_TEMPERATURE = 17.7588
FOCAL_PLANE_TEMPERATURE = 7.9716
INST_CMPRS_NAME = "DISCRETE COSINE TRANSFORMATION (DCT)"
INST_CMPRS_RATIO = 12.274
INST_CMPRS_QUALITY = 0
INST_CMPRS_QUANTZ_TBL_ID = 0
INSTRUMENT_TEMPERATURE = 11.0301
LENS_TEMPERATURE = 8.5833
MACROPIXEL_SIZE = 2
MISSING_FRAMES = 0
PIXEL_SUBSAMPLING_FLAG = N
SIGNAL_CHAIN_ID = 1
/* RADIOMETRIC DATA ELEMENTS */
BANDWIDTH = 180.0
CENTER_FILTER_WAVELENGTH = 677.0
RADIANCE_OFFSET = 6.22033
RADIANCE_SCALING_FACTOR = 0.00868555
REFLECTANCE_SCALING_FACTOR = 0.000225742
MEX:REFLECTANCE_OFFSET = 0.16167
/* IMAGE OBJECT DEFINITIONS */
OBJECT = IMAGE
  INTERCHANGE_FORMAT = BINARY
  LINES = 22892
  LINE_SAMPLES = 2942
  SAMPLE_TYPE = UNSIGNED_INTEGER
  SAMPLE_BITS = 8
  BANDS = 1
  BAND_STORAGE_TYPE = BAND_SEQUENTIAL
  MAXIMUM = 255
  MEAN = 135.338
  MINIMUM = 1
  STANDARD_DEVIATION = 41.4442
END_OBJECT = IMAGE
/* MAP OBJECT DEFINITIONS */
OBJECT = IMAGE_MAP_PROJECTION
  ^DATA_SET_MAP_PROJECTION_CATALOG= "DSMAP.CAT"
  A_AXIS_RADIUS = 3396.0
  B_AXIS_RADIUS = 3396.0
  C_AXIS_RADIUS = 3396.0
  CENTER_LATITUDE = 0.0
  CENTER_LONGITUDE = 337.0
  COORDINATE_SYSTEM_NAME = PLANETOGRAPHIC
  COORDINATE_SYSTEM_TYPE = "BODY-FIXED ROTATING"
  EASTERNMOST_LONGITUDE = 337.637
  FIRST_STANDARD_PARALLEL = "N/A"
  LINE_FIRST_PIXEL = 1
  LINE_LAST_PIXEL = 22892
  LINE_PROJECTION_OFFSET = -52251.25
  MAP_PROJECTION_ROTATION = 0.0
  MAP_PROJECTION_TYPE = SINUSOIDAL
  MAP_RESOLUTION = 2370.85521546667
  MAP_SCALE = 0.025
  MAXIMUM_LATITUDE = -22.0439
  MINIMUM_LATITUDE = -31.6701
  POSITIVE_LONGITUDE_DIRECTION = EAST
  REFERENCE_LATITUDE = "N/A"
  REFERENCE_LONGITUDE = "N/A"
  SAMPLE_FIRST_PIXEL = 1
  SAMPLE_LAST_PIXEL = 2942
  SAMPLE_PROJECTION_OFFSET = 1603.25
  SECOND_STANDARD_PARALLEL = "N/A"
  WESTERNMOST_LONGITUDE = 336.219
END_OBJECT = IMAGE_MAP_PROJECTION
END
