PDS_VERSION_ID = PDS3
/* FILE DATA ELEMENTS */
RECORD_TYPE = UNDEFINED
/* POINTERS TO DATA OBJECTS */
^IMAGE = ("HG725_0000_BL4.TIF")
/* IDENTIFICATION DATA ELEMENTS */
DATA_SET_ID = "MEX-M-HRSC-4-REFDR-MAPPROJECT-EXT6-V4.0"
DATA_SET_NAME = "MARS EXPRESS HRSC MAP PROJECTED REFDR EXTENSION6 V4.0"
DETECTOR_ID = MEX_HRSC_BLUE
EVENT_TYPE = "MARS-REGIONAL-MAPPING-Im-Eo"
INSTRUMENT_HOST_ID = MEX
INSTRUMENT_HOST_NAME = "MARS EXPRESS"
INSTRUMENT_ID = HRSC
INSTRUMENT_NAME = "HIGH RESOLUTION STEREO CAMERA"
MISSION_NAME = "MARS EXPRESS"
MISSION_PHASE_NAME = ME_Phase_36
PROCESSING_LEVEL_ID = 4
PRODUCT_CREATION_TIME = 2023-01-26T14:39:22.000Z
PRODUCT_ID = "HG725_0000_BL4.TIF"
RELEASE_ID = 0001
REVISION_ID = 0000
/* QUALITY DATA ELEMENTS */
DATA_QUALITY_ID = 1
DATA_QUALITY_DESC = "Data calculated based on original SPICE kernels"
/* TIME DATA ELEMENTS */
SPACECRAFT_CLOCK_START_COUNT = "1/0437756457.04905"
SPACECRAFT_CLOCK_STOP_COUNT = "1/0437756733.37672"
START_TIME = 2017-03-16T15:01:54.817Z
STOP_TIME = 2017-03-16T15:02:58.895Z
/* ORBITAL DATA ELEMENTS */
ASCENDING_NODE_LONGITUDE = 259.78
MAXIMUM_RESOLUTION = 0.0781
FOOTPRINT_POINT_LATITUDE = (-53.3981,-53.3951,-53.3908,-53.3859, -53.38,-53.3711,-53.3638,-53.3568, -53.3493,-53.3404,-53.332,-53.3254, -53.3163,-53.3078,-53.3066,-53.2924, -53.2146,-53.1367,-53.021,-52.9447, -52.8683,-52.7917,-52.715,-52.6381, -52.5219,-52.4442,-52.3675,-52.2921, -52.2167,-52.1413,-52.0659,-51.9532, -51.8406,-51.7651,-51.6516,-51.4658, -51.317,-51.1681,-51.019,-50.9077, -50.7615,-50.6151,-50.4686,-50.3219, -50.1389,-49.995,-49.851,-49.7429, -49.5986,-49.5624,-49.5414,-49.5486, -49.5556,-49.5606,-49.5661,-49.5723, -49.5759,-49.5806,-49.5887,-49.5939, -49.5976,-49.6001,-49.6039,-49.6065, -49.61,-49.6103,-49.6116,-49.7931, -49.9382,-50.083,-50.2272,-50.3751, -50.5598,-50.7073,-50.8548,-51.0018, -51.114,-51.2638,-51.3761,-51.5259, -51.7505,-51.8265,-51.9026,-51.9789, -52.0928,-52.2063,-52.3579,-52.4718, -52.5491,-52.6266,-52.7044,-52.82, -52.897,-52.9743,-53.0516,-53.1285, -53.2061,-53.3239,-53.3631,-53.3981)
FOOTPRINT_POINT_LONGITUDE = (30.6952,30.5237,30.2953,30.0671, 29.8104,29.4682,29.2117,28.9839,28.7563 ,28.5003,28.2727,28.1017,27.8738, 27.6747,27.6463,27.6113,27.6236,27.6359 ,27.6541,27.6665,27.6786,27.6902, 27.7018,27.7129,27.7279,27.7374,27.7482 ,27.7592,27.7702,27.7813,27.7925, 27.8102,27.8281,27.8392,27.8542,27.8796 ,27.9,27.92,27.9399,27.9547,27.9739, 27.9929,28.0119,28.0306,28.0537,28.0716 ,28.0894,28.1027,28.1201,28.1244, 28.1268,28.3196,28.5148,28.6612,28.8316 ,29.0265,29.1482,29.3185,29.6354, 29.8549,30.0255,30.1475,30.3425,30.4886 ,30.7084,30.7328,30.741,30.7407,30.7402 ,30.7399,30.7411,30.7401,30.7388, 30.7384,30.7374,30.7373,30.7371,30.7371 ,30.7369,30.7363,30.7346,30.7345, 30.7345,30.7338,30.7339,30.735,30.7353, 30.7348,30.7344,30.7337,30.732,30.7324, 30.7325,30.7317,30.7308,30.731,30.7308, 30.7301,30.7298,30.6952)
ORBIT_NUMBER = 16725
ORBITAL_ECCENTRICITY = 0.579
ORBITAL_INCLINATION = 86.93
ORBITAL_SEMIMAJOR_AXIS = 8846.51
PERIAPSIS_ALTITUDE = 333.17
PERIAPSIS_ARGUMENT_ANGLE = 336.17
PERIAPSIS_TIME = 2017-03-16T15:09:53.000Z
SPACECRAFT_ORIENTATION = (0.0,1.0,0.0)
^MEX_ORIENTATION_DESC = "MEX_ORIENTATION_DESC.TXT"
SPACECRAFT_POINTING_MODE = NADIR
^MEX_POINTING_DESC = "MEX_POINTING_DESC.TXT"
RIGHT_ASCENSION = -1e+32
DECLINATION = -1e+32
OFFSET_ANGLE = -1e+32
SPACECRAFT_SOLAR_DISTANCE = 2.23366e+08
TARGET_NAME = MARS
/* CAMERA DATA ELEMENTS */
DETECTOR_TEMPERATURE = 0.0
FOCAL_PLANE_TEMPERATURE = 0.0
INST_CMPRS_NAME = "DISCRETE COSINE TRANSFORMATION (DCT)"
INST_CMPRS_RATIO = 8.52859
INST_CMPRS_QUALITY = 0
INST_CMPRS_QUANTZ_TBL_ID = 0
INSTRUMENT_TEMPERATURE = 0.0
LENS_TEMPERATURE = 0.0
MACROPIXEL_SIZE = 4
MISSING_FRAMES = 0
PIXEL_SUBSAMPLING_FLAG = N
SIGNAL_CHAIN_ID = 2
/* RADIOMETRIC DATA ELEMENTS */
BANDWIDTH = 76.0
CENTER_FILTER_WAVELENGTH = 444.0
RADIANCE_OFFSET = 0.555238
RADIANCE_SCALING_FACTOR = 0.00087545
REFLECTANCE_SCALING_FACTOR = 4.48761e-05
MEX:REFLECTANCE_OFFSET = 0.0284618
/* IMAGE OBJECT DEFINITIONS */
OBJECT = IMAGE
  INTERCHANGE_FORMAT = BINARY
  LINES = 2031
  LINE_SAMPLES = 1149
  SAMPLE_TYPE = UNSIGNED_INTEGER
  SAMPLE_BITS = 8
  BANDS = 1
  BAND_STORAGE_TYPE = BAND_SEQUENTIAL
  MAXIMUM = 253
  MEAN = 144.728
  MINIMUM = 1
  STANDARD_DEVIATION = 27.1738
END_OBJECT = IMAGE
/* MAP OBJECT DEFINITIONS */
OBJECT = IMAGE_MAP_PROJECTION
  ^DATA_SET_MAP_PROJECTION_CATALOG= "DSMAP.CAT"
  A_AXIS_RADIUS = 3396.0
  B_AXIS_RADIUS = 3396.0
  C_AXIS_RADIUS = 3396.0
  CENTER_LATITUDE = 0.0
  CENTER_LONGITUDE = 29.0
  COORDINATE_SYSTEM_NAME = PLANETOGRAPHIC
  COORDINATE_SYSTEM_TYPE = "BODY-FIXED ROTATING"
  EASTERNMOST_LONGITUDE = 30.7411
  FIRST_STANDARD_PARALLEL = "N/A"
  LINE_FIRST_PIXEL = 1
  LINE_LAST_PIXEL = 2031
  LINE_PROJECTION_OFFSET = -29610.625
  MAP_PROJECTION_ROTATION = 0.0
  MAP_PROJECTION_TYPE = SINUSOIDAL
  MAP_RESOLUTION = 592.713803866667
  MAP_SCALE = 0.1
  MAXIMUM_LATITUDE = -49.5414
  MINIMUM_LATITUDE = -53.3981
  POSITIVE_LONGITUDE_DIRECTION = EAST
  REFERENCE_LATITUDE = "N/A"
  REFERENCE_LONGITUDE = "N/A"
  SAMPLE_FIRST_PIXEL = 1
  SAMPLE_LAST_PIXEL = 1149
  SAMPLE_PROJECTION_OFFSET = 491.125
  SECOND_STANDARD_PARALLEL = "N/A"
  WESTERNMOST_LONGITUDE = 27.6113
END_OBJECT = IMAGE_MAP_PROJECTION
END
