PDS_VERSION_ID = PDS3
/* FILE DATA ELEMENTS */
RECORD_TYPE = UNDEFINED
/* POINTERS TO DATA OBJECTS */
^IMAGE = ("HG728_0000_BL4.TIF")
/* IDENTIFICATION DATA ELEMENTS */
DATA_SET_ID = "MEX-M-HRSC-4-REFDR-MAPPROJECT-EXT6-V4.0"
DATA_SET_NAME = "MARS EXPRESS HRSC MAP PROJECTED REFDR EXTENSION6 V4.0"
DETECTOR_ID = MEX_HRSC_BLUE
EVENT_TYPE = "MARS-REGIONAL-MAPPING-Im-Gl-La"
INSTRUMENT_HOST_ID = MEX
INSTRUMENT_HOST_NAME = "MARS EXPRESS"
INSTRUMENT_ID = HRSC
INSTRUMENT_NAME = "HIGH RESOLUTION STEREO CAMERA"
MISSION_NAME = "MARS EXPRESS"
MISSION_PHASE_NAME = ME_Phase_36
PROCESSING_LEVEL_ID = 4
PRODUCT_CREATION_TIME = 2023-01-26T14:39:22.000Z
PRODUCT_ID = "HG728_0000_BL4.TIF"
RELEASE_ID = 0001
REVISION_ID = 0000
/* QUALITY DATA ELEMENTS */
DATA_QUALITY_ID = 1
DATA_QUALITY_DESC = "Data calculated based on original SPICE kernels"
/* TIME DATA ELEMENTS */
SPACECRAFT_CLOCK_START_COUNT = "1/0437832433.07328"
SPACECRAFT_CLOCK_STOP_COUNT = "1/0437832717.63342"
START_TIME = 2017-03-17T12:07:47.258Z
STOP_TIME = 2017-03-17T12:11:25.834Z
/* ORBITAL DATA ELEMENTS */
ASCENDING_NODE_LONGITUDE = 259.72
MAXIMUM_RESOLUTION = 0.0531
FOOTPRINT_POINT_LATITUDE = (-28.8324,-28.841,-28.8458,-28.8492, -28.8493,-28.8416,-28.5538,-28.2667, -27.9778,-27.5454,-27.2573,-26.8271, -26.5393,-26.2539,-25.8349,-25.5556, -25.2765,-24.9968,-24.717,-24.298, -24.0182,-23.7391,-23.4589,-23.1793, -22.8997,-22.6189,-22.1997,-21.9199, -21.6394,-21.36,-21.0803,-20.6604, -20.3805,-20.1012,-19.6691,-19.3801, -19.0912,-18.8027,-18.3698,-18.0807, -17.7921,-17.5037,-17.071,-16.6383, -16.2061,-15.9174,-15.4855,-15.1972, -14.7665,-14.6227,-14.5658,-14.556, -14.5448,-14.5402,-14.54,-14.5407, -14.9728,-15.4034,-15.8364,-16.1256, -16.4138,-16.7021,-16.9905,-17.4232, -17.712,-18.0007,-18.2896,-18.5783, -18.8673,-19.1565,-19.5896,-19.8795, -20.3048,-20.5826,-21.0025,-21.4225, -21.7025,-21.9827,-22.2638,-22.5438, -22.8234,-23.1019,-23.3819,-23.8027, -24.2224,-24.5022,-24.782,-25.0607, -25.3413,-25.7604,-26.0403,-26.3192, -26.7516,-27.0398,-27.472,-27.9042, -28.3372,-28.6279,-28.7708,-28.8324)
FOOTPRINT_POINT_LONGITUDE = (84.9,84.3509,83.9442,83.5468,83.5345, 83.5393,83.5415,83.5426,83.5454,83.5479 ,83.5491,83.5482,83.5484,83.549,83.5499 ,83.5503,83.5501,83.5504,83.5506, 83.5498,83.5496,83.5485,83.5483,83.5474 ,83.5463,83.5465,83.5441,83.5429, 83.5421,83.5401,83.5385,83.536,83.5342, 83.5317,83.5286,83.5263,83.5238,83.5208 ,83.5164,83.5139,83.5108,83.5076, 83.5027,83.4978,83.4925,83.4894,83.4838 ,83.4804,83.4736,83.4717,83.4709, 84.0054,84.5238,84.732,84.7444,84.7485, 84.7503,84.759,84.7594,84.7579,84.7612, 84.7644,84.7676,84.7731,84.7757,84.7791 ,84.7822,84.786,84.7892,84.792,84.7994, 84.7995,84.8017,84.8139,84.8189,84.8239 ,84.8275,84.8302,84.8289,84.8324, 84.8376,84.8476,84.8512,84.8524,84.8589 ,84.8627,84.8662,84.8743,84.8744, 84.8812,84.8836,84.8901,84.8975,84.9032 ,84.9118,84.9188,84.9216,84.9139, 84.9207,84.9)
ORBIT_NUMBER = 16728
ORBITAL_ECCENTRICITY = 0.579
ORBITAL_INCLINATION = 86.95
ORBITAL_SEMIMAJOR_AXIS = 8846.8
PERIAPSIS_ALTITUDE = 332.04
PERIAPSIS_ARGUMENT_ANGLE = 335.63
PERIAPSIS_TIME = 2017-03-17T12:09:02.000Z
SPACECRAFT_ORIENTATION = (0.0,1.0,0.0)
^MEX_ORIENTATION_DESC = "MEX_ORIENTATION_DESC.TXT"
SPACECRAFT_POINTING_MODE = ACROSSTRACK
^MEX_POINTING_DESC = "MEX_POINTING_DESC.TXT"
RIGHT_ASCENSION = -1e+32
DECLINATION = -1e+32
OFFSET_ANGLE = -0.95
SPACECRAFT_SOLAR_DISTANCE = 2.23536e+08
TARGET_NAME = MARS
/* CAMERA DATA ELEMENTS */
DETECTOR_TEMPERATURE = 18.3705
FOCAL_PLANE_TEMPERATURE = 8.5833
INST_CMPRS_NAME = "DISCRETE COSINE TRANSFORMATION (DCT)"
INST_CMPRS_RATIO = 5.4884
INST_CMPRS_QUALITY = 0
INST_CMPRS_QUANTZ_TBL_ID = 0
INSTRUMENT_TEMPERATURE = 11.8457
LENS_TEMPERATURE = 8.7872
MACROPIXEL_SIZE = 4
MISSING_FRAMES = 0
PIXEL_SUBSAMPLING_FLAG = N
SIGNAL_CHAIN_ID = 2
/* RADIOMETRIC DATA ELEMENTS */
BANDWIDTH = 76.0
CENTER_FILTER_WAVELENGTH = 444.0
RADIANCE_OFFSET = 0.464543
RADIANCE_SCALING_FACTOR = 0.00148342
REFLECTANCE_SCALING_FACTOR = 7.61574e-05
MEX:REFLECTANCE_OFFSET = 0.0238493
/* IMAGE OBJECT DEFINITIONS */
OBJECT = IMAGE
  INTERCHANGE_FORMAT = BINARY
  LINES = 16963
  LINE_SAMPLES = 1583
  SAMPLE_TYPE = UNSIGNED_INTEGER
  SAMPLE_BITS = 8
  BANDS = 1
  BAND_STORAGE_TYPE = BAND_SEQUENTIAL
  MAXIMUM = 255
  MEAN = 156.068
  MINIMUM = 1
  STANDARD_DEVIATION = 22.5036
END_OBJECT = IMAGE
/* MAP OBJECT DEFINITIONS */
OBJECT = IMAGE_MAP_PROJECTION
  ^DATA_SET_MAP_PROJECTION_CATALOG= "DSMAP.CAT"
  A_AXIS_RADIUS = 3396.0
  B_AXIS_RADIUS = 3396.0
  C_AXIS_RADIUS = 3396.0
  CENTER_LATITUDE = 0.0
  CENTER_LONGITUDE = 84.0
  COORDINATE_SYSTEM_NAME = PLANETOGRAPHIC
  COORDINATE_SYSTEM_TYPE = "BODY-FIXED ROTATING"
  EASTERNMOST_LONGITUDE = 84.9216
  FIRST_STANDARD_PARALLEL = "N/A"
  LINE_FIRST_PIXEL = 1
  LINE_LAST_PIXEL = 16963
  LINE_PROJECTION_OFFSET = -17233.375
  MAP_PROJECTION_ROTATION = 0.0
  MAP_PROJECTION_TYPE = SINUSOIDAL
  MAP_RESOLUTION = 1185.42760773333
  MAP_SCALE = 0.05
  MAXIMUM_LATITUDE = -14.54
  MINIMUM_LATITUDE = -28.8493
  POSITIVE_LONGITUDE_DIRECTION = EAST
  REFERENCE_LATITUDE = "N/A"
  REFERENCE_LONGITUDE = "N/A"
  SAMPLE_FIRST_PIXEL = 1
  SAMPLE_LAST_PIXEL = 1583
  SAMPLE_PROJECTION_OFFSET = 618.625
  SECOND_STANDARD_PARALLEL = "N/A"
  WESTERNMOST_LONGITUDE = 83.4709
END_OBJECT = IMAGE_MAP_PROJECTION
END
